BEGIN:VCALENDAR
VERSION:2.0
PRODID:-//Eagle Wilton Manors - ECPv6.15.17.1//NONSGML v1.0//EN
CALSCALE:GREGORIAN
METHOD:PUBLISH
X-WR-CALNAME:Eagle Wilton Manors
X-ORIGINAL-URL:https://eaglebarwm.com
X-WR-CALDESC:Events for Eagle Wilton Manors
REFRESH-INTERVAL;VALUE=DURATION:PT1H
X-Robots-Tag:noindex
X-PUBLISHED-TTL:PT1H
BEGIN:VTIMEZONE
TZID:America/New_York
BEGIN:DAYLIGHT
TZOFFSETFROM:-0500
TZOFFSETTO:-0400
TZNAME:EDT
DTSTART:20250309T070000
END:DAYLIGHT
BEGIN:STANDARD
TZOFFSETFROM:-0400
TZOFFSETTO:-0500
TZNAME:EST
DTSTART:20251102T060000
END:STANDARD
BEGIN:DAYLIGHT
TZOFFSETFROM:-0500
TZOFFSETTO:-0400
TZNAME:EDT
DTSTART:20260308T070000
END:DAYLIGHT
BEGIN:STANDARD
TZOFFSETFROM:-0400
TZOFFSETTO:-0500
TZNAME:EST
DTSTART:20261101T060000
END:STANDARD
BEGIN:DAYLIGHT
TZOFFSETFROM:-0500
TZOFFSETTO:-0400
TZNAME:EDT
DTSTART:20270314T070000
END:DAYLIGHT
BEGIN:STANDARD
TZOFFSETFROM:-0400
TZOFFSETTO:-0500
TZNAME:EST
DTSTART:20271107T060000
END:STANDARD
END:VTIMEZONE
BEGIN:VEVENT
DTSTART;TZID=America/New_York:20260222T170000
DTEND;TZID=America/New_York:20260223T020000
DTSTAMP:20260423T121634
CREATED:20260203T213010Z
LAST-MODIFIED:20260203T213011Z
UID:10014473-1771779600-1771812000@eaglebarwm.com
SUMMARY:SINFUL SUNDAY
DESCRIPTION:SUNDAY\nHappy Hour 5 PM – 9 PM \nCODE Bar Opens 5 PM | Tavern Opens 9 PM \nSINFUL SUNDAYS\nin Main Bar + CODE Bar  | 8 PM – 2 AM \nMusic by: ADORA\nNo Cover
URL:https://eaglebarwm.com/event/sinful_sunday-11-21-4/2026-02-22/
LOCATION:Eagle Wilton Manors\, 2209 WILTON DR\, WILTON MANORS\, FL\, 33305\, United States
CATEGORIES:Weekday Repeating
ATTACH;FMTTYPE=image/jpeg:https://eaglebarwm.com/wp-content/uploads/2026/01/SINFUL-SUNDAYS-ADORA-Square_1080x1080.jpg
END:VEVENT
BEGIN:VEVENT
DTSTART;TZID=America/New_York:20260221T213000
DTEND;TZID=America/New_York:20260222T023000
DTSTAMP:20260423T121634
CREATED:20260218T213742Z
LAST-MODIFIED:20260218T213743Z
UID:10017080-1771709400-1771727400@eaglebarwm.com
SUMMARY:DADDY POP
DESCRIPTION:DADDY POP\nin Bear Cave | 9 PM – 2 AM \nMusic By: Barry Browder\nRugged\, Sexy\, Husky & Hairy Daddies\nwith Pop Music Radio Edits\,\nGuilty Pleasures\,\nand Forgotten Favorites.\nNo Shazam Needed.\nYour Body Remembers the Beat.\nIncluded in Cover
URL:https://eaglebarwm.com/event/daddy-pop-6-2/
LOCATION:Eagle Wilton Manors\, 2209 WILTON DR\, WILTON MANORS\, FL\, 33305\, United States
ATTACH;FMTTYPE=image/jpeg:https://eaglebarwm.com/wp-content/uploads/2025/12/DADDY-POP_Square_1080x1080.jpg
END:VEVENT
BEGIN:VEVENT
DTSTART;TZID=America/New_York:20260221T210000
DTEND;TZID=America/New_York:20260222T030000
DTSTAMP:20260423T121634
CREATED:20260112T190142Z
LAST-MODIFIED:20260218T213252Z
UID:10017610-1771707600-1771729200@eaglebarwm.com
SUMMARY:SEDUCTION
DESCRIPTION:Happy Hour 5 PM – 9 PM \nCODE Bar Opens 5 PM \nBear Cave Opens 9 PM \nSEDUCTION\nin Main Bar + CODE Bar + Nest | 9 PM – 3 AM \nMusic By: TDON\nGET TICKETS\nFree Before 10pm* | $15 After | $10 Advance** \nDADDY POP Included\nOnly Pre-purchased Tickets & VIP’s Skip the Line\nDress Code Enforced in the Code Bar 11 PM to close \n*No Re-entry with free wrist band after midnight   **Plus fees
URL:https://eaglebarwm.com/event/seduction/
LOCATION:Eagle Wilton Manors\, 2209 WILTON DR\, WILTON MANORS\, FL\, 33305\, United States
CATEGORIES:IncludeInEmail
ATTACH;FMTTYPE=image/jpeg:https://eaglebarwm.com/wp-content/uploads/2026/01/26-02-21_SEDUCTION_Square_1080x1080-1.jpg
END:VEVENT
BEGIN:VEVENT
DTSTART;TZID=America/New_York:20260221T170000
DTEND;TZID=America/New_York:20260221T190000
DTSTAMP:20260423T121634
CREATED:20251222T173906Z
LAST-MODIFIED:20260411T042038Z
UID:10017593-1771693200-1771700400@eaglebarwm.com
SUMMARY:SF FOOT MEN
DESCRIPTION:SOUTH FLORIDA FOOT MEN\nBAR NIGHT\n5 PM – 7 PM \nThird Saturday of Every Month
URL:https://eaglebarwm.com/event/sf-foot-men/2026-02-21/
LOCATION:Eagle Wilton Manors\, 2209 WILTON DR\, WILTON MANORS\, FL\, 33305\, United States
CATEGORIES:Monthly Repeating
ATTACH;FMTTYPE=image/jpeg:https://eaglebarwm.com/wp-content/uploads/2025/12/01-03-2026-SF-FEET-MEN_QUARTERLY_Square_1080x1080.jpg
END:VEVENT
BEGIN:VEVENT
DTSTART;TZID=America/New_York:20260220T213000
DTEND;TZID=America/New_York:20260221T023000
DTSTAMP:20260423T121634
CREATED:20260218T201741Z
LAST-MODIFIED:20260218T213458Z
UID:10017079-1771623000-1771641000@eaglebarwm.com
SUMMARY:DADDY POP
DESCRIPTION:DADDY POP\nin Bear Cave | 9 PM – 2 AM \nMusic By: Barry Browder\nRugged\, Sexy\, Husky & Hairy Daddies\nwith Pop Music Radio Edits\,\nGuilty Pleasures\,\nand Forgotten Favorites.\nNo Shazam Needed.\nYour Body Remembers the Beat.\nIncluded in Cover
URL:https://eaglebarwm.com/event/daddy-pop-6/2026-02-20/
LOCATION:Eagle Wilton Manors\, 2209 WILTON DR\, WILTON MANORS\, FL\, 33305\, United States
ATTACH;FMTTYPE=image/png:https://eaglebarwm.com/wp-content/uploads/2026/02/image0.png
END:VEVENT
BEGIN:VEVENT
DTSTART;TZID=America/New_York:20260220T210000
DTEND;TZID=America/New_York:20260221T030000
DTSTAMP:20260423T121634
CREATED:20260115T173534Z
LAST-MODIFIED:20260117T075132Z
UID:10017879-1771621200-1771642800@eaglebarwm.com
SUMMARY:NECTAR
DESCRIPTION:Happy Hour 5 PM – 9 PM \nCODE Bar Opens 5 PM \nBear Cave Opens 8 PM \nNECTAR\nin Main Bar + CODE Bar + Nest | 10 PM – 3 AM \nMusic By: NITRX\nGET TICKETS\nFree Before 10pm* | $15 After | $10 Advance** \nDADDY POP Included\nOnly Pre-purchased Tickets & VIP’s Skip the Line\nDress Code Enforced in the Code Bar 11 PM to close \n*No Re-entry with free wrist band after midnight   **Plus fees
URL:https://eaglebarwm.com/event/nectar/
LOCATION:Eagle Wilton Manors\, 2209 WILTON DR\, WILTON MANORS\, FL\, 33305\, United States
CATEGORIES:IncludeInEmail
ATTACH;FMTTYPE=image/jpeg:https://eaglebarwm.com/wp-content/uploads/2026/01/26-02-20_NECTAR_Square_1080x1080.jpg
END:VEVENT
BEGIN:VEVENT
DTSTART;TZID=America/New_York:20260219T210000
DTEND;TZID=America/New_York:20260220T020000
DTSTAMP:20260423T121634
CREATED:20260218T205302Z
LAST-MODIFIED:20260218T205303Z
UID:10015926-1771534800-1771552800@eaglebarwm.com
SUMMARY:HARNESS NIGHT
DESCRIPTION:Happy Hour 7 PM – 9 PM \nCODE Bar Opens 7 PM | Tavern Opens 9 PM \nHARNESS NIGHT\nin Main Bar + CODE Bar  | 9 PM – 2 AM \nMusic By: Trevor Oldroyd\nHAPPY HOUR ALL NIGHT\nFor Anyone Wearing\nA Harness or Fetish Gear*\nNo Cover \n*Happy Hour all Night rules are strictly enforced.\n*Not a requirement to enter.
URL:https://eaglebarwm.com/event/edm-night-12-8-3/2026-02-19/
LOCATION:Eagle Wilton Manors\, 2209 WILTON DR\, WILTON MANORS\, FL\, 33305\, United States
CATEGORIES:Weekday Repeating
ATTACH;FMTTYPE=image/jpeg:https://eaglebarwm.com/wp-content/uploads/2026/01/THURS_NewWeekdays_EWM_-TREVOR-1080x1080_square.jpg
END:VEVENT
BEGIN:VEVENT
DTSTART;TZID=America/New_York:20260219T190000
DTEND;TZID=America/New_York:20260219T220000
DTSTAMP:20260423T121634
CREATED:20260127T204011Z
LAST-MODIFIED:20260127T204011Z
UID:10014719-1771527600-1771538400@eaglebarwm.com
SUMMARY:CIGAR SOCIAL
DESCRIPTION:Happy Hour 7 PM – 9 PM \nCODE Bar Opens 7 PM | Tavern Opens 9 PM \nCIGAR SOCIAL\nin Smoking Lounge & Patio | 7 PM – 10 PM
URL:https://eaglebarwm.com/event/cigar-social-3-2-3-3-2-2/2026-02-19/
LOCATION:Eagle Wilton Manors\, 2209 WILTON DR\, WILTON MANORS\, FL\, 33305\, United States
CATEGORIES:Weekday Repeating
ATTACH;FMTTYPE=image/jpeg:https://eaglebarwm.com/wp-content/uploads/2025/06/Thurs1_NewWeekdays_EWM_design_1080x1080_square.jpg
END:VEVENT
BEGIN:VEVENT
DTSTART;TZID=America/New_York:20260218T190000
DTEND;TZID=America/New_York:20260219T020000
DTSTAMP:20260423T121634
CREATED:20260111T013641Z
LAST-MODIFIED:20260111T013843Z
UID:10016187-1771441200-1771466400@eaglebarwm.com
SUMMARY:UNDERWEAR & SINGLET NIGHT
DESCRIPTION:Happy Hour 7 PM – 9 PM \n UNDERWEAR & SINGLETS NIGHT\nin CODE Bar | 9 PM – 2 AM \n$2.50\nWell Vodka Drinks\n9 PM to 2 AM\nHAPPY HOUR ALL NIGHT\nFor Anyone Wearing\nSinglets or Underwear + No Pants*\nNo Cover \n*Happy Hour all Night rules are strictly enforced.\n*Not a requirement to enter.
URL:https://eaglebarwm.com/event/leather-harness-night-13-3-2-4/2026-02-18/
LOCATION:Eagle Wilton Manors\, 2209 WILTON DR\, WILTON MANORS\, FL\, 33305\, United States
CATEGORIES:Weekday Repeating
ATTACH;FMTTYPE=image/jpeg:https://eaglebarwm.com/wp-content/uploads/2025/09/WEDS_NewWeekdays_EWM_design_1080x1080_square.jpg
END:VEVENT
BEGIN:VEVENT
DTSTART;TZID=America/New_York:20260217T190000
DTEND;TZID=America/New_York:20260218T020000
DTSTAMP:20260423T121634
CREATED:20260113T200013Z
LAST-MODIFIED:20260113T200142Z
UID:10014628-1771354800-1771380000@eaglebarwm.com
SUMMARY:HAPPY HOUR ALL NIGHT
DESCRIPTION:HAPPY HOUR ALL NIGHT\nin CODE Bar | 7 PM – 2 AM \nHALF PRICE DRINKS ALL NIGHT\nNo Cover
URL:https://eaglebarwm.com/event/code_tuesday-2-2-2-2-2-2-3-4/2026-02-17/
LOCATION:Eagle Wilton Manors\, 2209 WILTON DR\, WILTON MANORS\, FL\, 33305\, United States
CATEGORIES:Weekday Repeating
ATTACH;FMTTYPE=image/jpeg:https://eaglebarwm.com/wp-content/uploads/2025/08/TUES_NewWeekdays_EWM_design_1080x1080_square.jpg
END:VEVENT
BEGIN:VEVENT
DTSTART;TZID=America/New_York:20260216T190000
DTEND;TZID=America/New_York:20260217T020000
DTSTAMP:20260423T121634
CREATED:20260112T211900Z
LAST-MODIFIED:20260113T200525Z
UID:10017620-1771268400-1771293600@eaglebarwm.com
SUMMARY:JOCK STRAP NIGHT
DESCRIPTION:Happy Hour 7 PM – 9 PM \nJOCK STRAP NIGHT\nin CODE Bar | 9 PM – 2 AM \n$2.50\nWell Tequila Drinks\n9 PM to 2 AM\nHAPPY HOUR ALL NIGHT\nFor Anyone Wearing\nJock Strap + No Pants*\nNo Cover \n*Happy Hour all Night rules are strictly enforced.\n*Not a requirement to enter.
URL:https://eaglebarwm.com/event/jock_strap_night-2-2-2-2-2-2-2-5/2026-02-16/
LOCATION:Eagle Wilton Manors\, 2209 WILTON DR\, WILTON MANORS\, FL\, 33305\, United States
CATEGORIES:Weekday Repeating
ATTACH;FMTTYPE=image/jpeg:https://eaglebarwm.com/wp-content/uploads/2025/08/Mon_NewWeekdays_EWM_design_1080x1080_square.jpg
END:VEVENT
BEGIN:VEVENT
DTSTART;TZID=America/New_York:20260215T170000
DTEND;TZID=America/New_York:20260216T020000
DTSTAMP:20260423T121634
CREATED:20260203T211821Z
LAST-MODIFIED:20260205T201641Z
UID:10014472-1771174800-1771207200@eaglebarwm.com
SUMMARY:SINFUL SUNDAY
DESCRIPTION:SUNDAY\nHappy Hour 5 PM – 9 PM \nCODE Bar Opens 5 PM | Tavern Opens 9 PM \nSINFUL SUNDAYS\nin Main Bar + CODE Bar  | 8 PM – 2 AM \nMusic by: ADORA\n$10 Cover | Free before 9PM
URL:https://eaglebarwm.com/event/sinful_sunday-11-21-2/
LOCATION:Eagle Wilton Manors\, 2209 WILTON DR\, WILTON MANORS\, FL\, 33305\, United States
CATEGORIES:Weekday Repeating
ATTACH;FMTTYPE=image/jpeg:https://eaglebarwm.com/wp-content/uploads/2026/01/26-02-15_SINFUL-SUNDAYS-W-COVER_Square_1080x1080.jpg
END:VEVENT
BEGIN:VEVENT
DTSTART;TZID=America/New_York:20260214T213000
DTEND;TZID=America/New_York:20260215T023000
DTSTAMP:20260423T121634
CREATED:20251208T040041Z
LAST-MODIFIED:20260105T062032Z
UID:10017078-1771104600-1771122600@eaglebarwm.com
SUMMARY:DADDY POP
DESCRIPTION:DADDY POP\nin Bear Cave | 9 PM – 2 AM \nMusic By: Barry Browder\nRugged\, Sexy\, Husky & Hairy Daddies\nwith Pop Music Radio Edits\,\nGuilty Pleasures\,\nand Forgotten Favorites.\nNo Shazam Needed.\nYour Body Remembers the Beat.\nIncluded in Cover
URL:https://eaglebarwm.com/event/daddy-pop/2026-02-14/
LOCATION:Eagle Wilton Manors\, 2209 WILTON DR\, WILTON MANORS\, FL\, 33305\, United States
ATTACH;FMTTYPE=image/jpeg:https://eaglebarwm.com/wp-content/uploads/2025/12/DADDY-POP_Squarel_1080x1080.jpg
END:VEVENT
BEGIN:VEVENT
DTSTART;TZID=America/New_York:20260214T210000
DTEND;TZID=America/New_York:20260215T040000
DTSTAMP:20260423T121634
CREATED:20260112T185631Z
LAST-MODIFIED:20260205T202105Z
UID:10017609-1771102800-1771128000@eaglebarwm.com
SUMMARY:EUPHORIA
DESCRIPTION:CODE Bar Opens 5 PM \nBear Cave Opens 8 PM \nEUPHORIA\nin Main Bar + CODE Bar + Nest | 9 PM – 4 AM \nMusic By: TOM STEPHAN\nGET TICKETS\nFree Before 9pm* | $20 After | $15 Advance** \nDADDY POP Included\nOnly Pre-purchased Tickets & VIP’s Skip the Line\nDress Code Enforced in the Code Bar 11 PM to close \n*No Re-entry with free wrist band after midnight   **Plus fees
URL:https://eaglebarwm.com/event/ignite/
LOCATION:Eagle Wilton Manors\, 2209 WILTON DR\, WILTON MANORS\, FL\, 33305\, United States
CATEGORIES:IncludeInEmail
ATTACH;FMTTYPE=image/jpeg:https://eaglebarwm.com/wp-content/uploads/2026/01/26-02-14_EUPHORIA_Square_1080x1080.jpg
END:VEVENT
BEGIN:VEVENT
DTSTART;TZID=America/New_York:20260214T120000
DTEND;TZID=America/New_York:20260214T170000
DTSTAMP:20260423T121634
CREATED:20260114T211700Z
LAST-MODIFIED:20260212T060412Z
UID:10017877-1771070400-1771088400@eaglebarwm.com
SUMMARY:WINTER WAVES 2 - POOL PARTY
DESCRIPTION:WINTER WAVES 2 – POOL PARTY\nED LUGO RESORT POOL PARTY | 12 PM -5 PM \nCocktails | Warm Water | Sun\nMusic By: BARRY BROWDER\nGET TICKETS\n$35 Early Bird* | $40 Advance* | $45 Door\n*plus ticketing fees
URL:https://eaglebarwm.com/event/winter-waves-2-pool-party/
LOCATION:Eagle Wilton Manors\, 2209 WILTON DR\, WILTON MANORS\, FL\, 33305\, United States
CATEGORIES:IncludeInEmail
ATTACH;FMTTYPE=image/jpeg:https://eaglebarwm.com/wp-content/uploads/2025/11/26-02-14_WINTER-WAVES_DICE.jpg
END:VEVENT
BEGIN:VEVENT
DTSTART;TZID=America/New_York:20260213T213000
DTEND;TZID=America/New_York:20260214T023000
DTSTAMP:20260423T121634
CREATED:20251208T040041Z
LAST-MODIFIED:20260105T062032Z
UID:10017077-1771018200-1771036200@eaglebarwm.com
SUMMARY:DADDY POP
DESCRIPTION:DADDY POP\nin Bear Cave | 9 PM – 2 AM \nMusic By: Barry Browder\nRugged\, Sexy\, Husky & Hairy Daddies\nwith Pop Music Radio Edits\,\nGuilty Pleasures\,\nand Forgotten Favorites.\nNo Shazam Needed.\nYour Body Remembers the Beat.\nIncluded in Cover
URL:https://eaglebarwm.com/event/daddy-pop/2026-02-13/
LOCATION:Eagle Wilton Manors\, 2209 WILTON DR\, WILTON MANORS\, FL\, 33305\, United States
ATTACH;FMTTYPE=image/jpeg:https://eaglebarwm.com/wp-content/uploads/2025/12/DADDY-POP_Squarel_1080x1080.jpg
END:VEVENT
BEGIN:VEVENT
DTSTART;TZID=America/New_York:20260213T210000
DTEND;TZID=America/New_York:20260214T030000
DTSTAMP:20260423T121634
CREATED:20260115T172421Z
LAST-MODIFIED:20260205T202005Z
UID:10017878-1771016400-1771038000@eaglebarwm.com
SUMMARY:POSEIDON
DESCRIPTION:Happy Hour 5 PM – 8 PM \nCODE Bar Opens 5 PM \nBear Cave Opens 8 PM \nPOSEIDON\nin Main Bar + CODE Bar + Nest | 10 PM – 3 AM \nMusic By: ALEX RAMOS\nGET TICKETS\nFree Before 9pm* | $20 After | $15 Advance** \nDADDY POP Included\nOnly Pre-purchased Tickets & VIP’s Skip the Line\nDress Code Enforced in the Code Bar 11 PM to close \n*No Re-entry with free wrist band after midnight   **Plus fees
URL:https://eaglebarwm.com/event/poseidon/
LOCATION:Eagle Wilton Manors\, 2209 WILTON DR\, WILTON MANORS\, FL\, 33305\, United States
CATEGORIES:IncludeInEmail
ATTACH;FMTTYPE=image/jpeg:https://eaglebarwm.com/wp-content/uploads/2026/01/26-02-13_POSEIDON_Square_1080x1080.jpg
END:VEVENT
BEGIN:VEVENT
DTSTART;TZID=America/New_York:20260212T210000
DTEND;TZID=America/New_York:20260213T020000
DTSTAMP:20260423T121634
CREATED:20260114T215637Z
LAST-MODIFIED:20260114T215638Z
UID:10015925-1770930000-1770948000@eaglebarwm.com
SUMMARY:CRUISING
DESCRIPTION:Happy Hour 7 PM – 9 PM \nCODE Bar Opens 7 PM | Tavern Opens 9 PM \nCRUISING\nin Main Bar + CODE Bar  | 9 PM – 2 AM \nMusic By: IPOK\nHAPPY HOUR ALL NIGHT\nFor Anyone Wearing\nA Harness or Fetish Gear*\nGET TICKETS\nFree Before 9pm | $10 After \n*Happy Hour all Night rules are strictly enforced.\n*Not a requirement to enter.
URL:https://eaglebarwm.com/event/edm-night-12-8-2/
LOCATION:Eagle Wilton Manors\, 2209 WILTON DR\, WILTON MANORS\, FL\, 33305\, United States
CATEGORIES:Weekday Repeating
ATTACH;FMTTYPE=image/jpeg:https://eaglebarwm.com/wp-content/uploads/2026/01/26-02-12_CRUISING_Square_1080x1080.jpg
END:VEVENT
BEGIN:VEVENT
DTSTART;TZID=America/New_York:20260212T190000
DTEND;TZID=America/New_York:20260212T220000
DTSTAMP:20260423T121634
CREATED:20260127T204011Z
LAST-MODIFIED:20260127T204011Z
UID:10014718-1770922800-1770933600@eaglebarwm.com
SUMMARY:CIGAR SOCIAL
DESCRIPTION:Happy Hour 7 PM – 9 PM \nCODE Bar Opens 7 PM | Tavern Opens 9 PM \nCIGAR SOCIAL\nin Smoking Lounge & Patio | 7 PM – 10 PM
URL:https://eaglebarwm.com/event/cigar-social-3-2-3-3-2-2/2026-02-12/
LOCATION:Eagle Wilton Manors\, 2209 WILTON DR\, WILTON MANORS\, FL\, 33305\, United States
CATEGORIES:Weekday Repeating
ATTACH;FMTTYPE=image/jpeg:https://eaglebarwm.com/wp-content/uploads/2025/06/Thurs1_NewWeekdays_EWM_design_1080x1080_square.jpg
END:VEVENT
BEGIN:VEVENT
DTSTART;TZID=America/New_York:20260211T190000
DTEND;TZID=America/New_York:20260212T020000
DTSTAMP:20260423T121634
CREATED:20260111T013641Z
LAST-MODIFIED:20260111T013843Z
UID:10016186-1770836400-1770861600@eaglebarwm.com
SUMMARY:UNDERWEAR & SINGLET NIGHT
DESCRIPTION:Happy Hour 7 PM – 9 PM \n UNDERWEAR & SINGLETS NIGHT\nin CODE Bar | 9 PM – 2 AM \n$2.50\nWell Vodka Drinks\n9 PM to 2 AM\nHAPPY HOUR ALL NIGHT\nFor Anyone Wearing\nSinglets or Underwear + No Pants*\nNo Cover \n*Happy Hour all Night rules are strictly enforced.\n*Not a requirement to enter.
URL:https://eaglebarwm.com/event/leather-harness-night-13-3-2-4/2026-02-11/
LOCATION:Eagle Wilton Manors\, 2209 WILTON DR\, WILTON MANORS\, FL\, 33305\, United States
CATEGORIES:Weekday Repeating
ATTACH;FMTTYPE=image/jpeg:https://eaglebarwm.com/wp-content/uploads/2025/09/WEDS_NewWeekdays_EWM_design_1080x1080_square.jpg
END:VEVENT
BEGIN:VEVENT
DTSTART;TZID=America/New_York:20260210T200000
DTEND;TZID=America/New_York:20260211T000000
DTSTAMP:20260423T121634
CREATED:20251126T175930Z
LAST-MODIFIED:20251209T191054Z
UID:10016497-1770753600-1770768000@eaglebarwm.com
SUMMARY:BARK AFTER DARK
DESCRIPTION:BARK AFTER DARK\nin MAIN Bar | 8 PM – 12 AM \nMOSH AREA w/ PADDING & TOYS\nHALF PRICE DRINKS ALL NIGHT\nNo Cover
URL:https://eaglebarwm.com/event/bark-after-dark-2-2/2026-02-10/
LOCATION:Eagle Wilton Manors\, 2209 WILTON DR\, WILTON MANORS\, FL\, 33305\, United States
CATEGORIES:IncludeInEmail,Monthly Repeating
ATTACH;FMTTYPE=image/jpeg:https://eaglebarwm.com/wp-content/uploads/2025/10/Square_BARK-AFTER-DARK_1080x1080.jpg
END:VEVENT
BEGIN:VEVENT
DTSTART;TZID=America/New_York:20260210T190000
DTEND;TZID=America/New_York:20260211T020000
DTSTAMP:20260423T121634
CREATED:20260113T200013Z
LAST-MODIFIED:20260113T200142Z
UID:10014627-1770750000-1770775200@eaglebarwm.com
SUMMARY:HAPPY HOUR ALL NIGHT
DESCRIPTION:HAPPY HOUR ALL NIGHT\nin CODE Bar | 7 PM – 2 AM \nHALF PRICE DRINKS ALL NIGHT\nNo Cover
URL:https://eaglebarwm.com/event/code_tuesday-2-2-2-2-2-2-3-4/2026-02-10/
LOCATION:Eagle Wilton Manors\, 2209 WILTON DR\, WILTON MANORS\, FL\, 33305\, United States
CATEGORIES:Weekday Repeating
ATTACH;FMTTYPE=image/jpeg:https://eaglebarwm.com/wp-content/uploads/2025/08/TUES_NewWeekdays_EWM_design_1080x1080_square.jpg
END:VEVENT
BEGIN:VEVENT
DTSTART;TZID=America/New_York:20260209T190000
DTEND;TZID=America/New_York:20260210T020000
DTSTAMP:20260423T121634
CREATED:20260112T211900Z
LAST-MODIFIED:20260113T200525Z
UID:10017619-1770663600-1770688800@eaglebarwm.com
SUMMARY:JOCK STRAP NIGHT
DESCRIPTION:Happy Hour 7 PM – 9 PM \nJOCK STRAP NIGHT\nin CODE Bar | 9 PM – 2 AM \n$2.50\nWell Tequila Drinks\n9 PM to 2 AM\nHAPPY HOUR ALL NIGHT\nFor Anyone Wearing\nJock Strap + No Pants*\nNo Cover \n*Happy Hour all Night rules are strictly enforced.\n*Not a requirement to enter.
URL:https://eaglebarwm.com/event/jock_strap_night-2-2-2-2-2-2-2-5/2026-02-09/
LOCATION:Eagle Wilton Manors\, 2209 WILTON DR\, WILTON MANORS\, FL\, 33305\, United States
CATEGORIES:Weekday Repeating
ATTACH;FMTTYPE=image/jpeg:https://eaglebarwm.com/wp-content/uploads/2025/08/Mon_NewWeekdays_EWM_design_1080x1080_square.jpg
END:VEVENT
BEGIN:VEVENT
DTSTART;TZID=America/New_York:20260208T170000
DTEND;TZID=America/New_York:20260209T020000
DTSTAMP:20260423T121634
CREATED:20260203T212712Z
LAST-MODIFIED:20260203T212713Z
UID:10014471-1770570000-1770602400@eaglebarwm.com
SUMMARY:SINFUL SUNDAY
DESCRIPTION:SUNDAY\nHappy Hour 5 PM – 9 PM \nCODE Bar Opens 5 PM | Tavern Opens 9 PM \nSINFUL SUNDAYS\nin Main Bar + CODE Bar  | 8 PM – 2 AM \nMusic by: ADORA\nNo Cover
URL:https://eaglebarwm.com/event/sinful_sunday-11-21-3/
LOCATION:Eagle Wilton Manors\, 2209 WILTON DR\, WILTON MANORS\, FL\, 33305\, United States
CATEGORIES:Weekday Repeating
ATTACH;FMTTYPE=image/jpeg:https://eaglebarwm.com/wp-content/uploads/2026/01/SINFUL-SUNDAYS-ADORA-Square_1080x1080.jpg
END:VEVENT
BEGIN:VEVENT
DTSTART;TZID=America/New_York:20260207T213000
DTEND;TZID=America/New_York:20260208T023000
DTSTAMP:20260423T121634
CREATED:20260129T180744Z
LAST-MODIFIED:20260129T180745Z
UID:10017076-1770499800-1770517800@eaglebarwm.com
SUMMARY:BEAR HAUS
DESCRIPTION:BEAR HAUS\nin Bear Cave | 9 PM – 3 AM \nMusic By: Daniel Kristopherre\nRugged\, Sexy\, Husky & Hairy Daddies\nIncluded in Cover
URL:https://eaglebarwm.com/event/daddy-pop-4/
LOCATION:Eagle Wilton Manors\, 2209 WILTON DR\, WILTON MANORS\, FL\, 33305\, United States
ATTACH;FMTTYPE=image/jpeg:https://eaglebarwm.com/wp-content/uploads/2025/12/26-02-07-BEARHAUS_Square_1080x1080.jpg
END:VEVENT
BEGIN:VEVENT
DTSTART;TZID=America/New_York:20260207T210000
DTEND;TZID=America/New_York:20260208T030000
DTSTAMP:20260423T121634
CREATED:20260112T184651Z
LAST-MODIFIED:20260204T202520Z
UID:10017608-1770498000-1770519600@eaglebarwm.com
SUMMARY:LUSH
DESCRIPTION:Happy Hour 5 PM – 9 PM \nCODE Bar Opens 5 PM \nBear Cave Opens 8 PM \nLUSH\nin Main Bar + CODE Bar + Nest | 9 PM – 3 AM \nMusic By: DREW G\nGET TICKETS\nFree Before 10pm* | $15 After | $10 Advance** \nBEAR HAUS Included\nOnly Pre-purchased Tickets & VIP’s Skip the Line\nDress Code Enforced in the Code Bar 11 PM to close \n*No Re-entry with free wrist band after midnight   **Plus fees
URL:https://eaglebarwm.com/event/lush/
LOCATION:Eagle Wilton Manors\, 2209 WILTON DR\, WILTON MANORS\, FL\, 33305\, United States
CATEGORIES:IncludeInEmail
ATTACH;FMTTYPE=image/jpeg:https://eaglebarwm.com/wp-content/uploads/2026/01/26-02-07_LUSH_Square_1080x1080.jpg
END:VEVENT
BEGIN:VEVENT
DTSTART;TZID=America/New_York:20260206T213000
DTEND;TZID=America/New_York:20260207T030000
DTSTAMP:20260423T121634
CREATED:20260129T180149Z
LAST-MODIFIED:20260129T180151Z
UID:10017075-1770413400-1770433200@eaglebarwm.com
SUMMARY:BEAR HAUS
DESCRIPTION:BEAR HAUS\nin Bear Cave | 9 PM – 3 AM \nMusic By: DJermo\nRugged\, Sexy\, Husky & Hairy Daddies\nIncluded in Cover
URL:https://eaglebarwm.com/event/daddy-pop-3/
LOCATION:Eagle Wilton Manors\, 2209 WILTON DR\, WILTON MANORS\, FL\, 33305\, United States
ATTACH;FMTTYPE=image/jpeg:https://eaglebarwm.com/wp-content/uploads/2025/12/26-02-06-BEARHAUS_Square_1080x1080.jpg
END:VEVENT
BEGIN:VEVENT
DTSTART;TZID=America/New_York:20260206T210000
DTEND;TZID=America/New_York:20260207T030000
DTSTAMP:20260423T121634
CREATED:20260112T183741Z
LAST-MODIFIED:20260204T202419Z
UID:10017607-1770411600-1770433200@eaglebarwm.com
SUMMARY:TEMPTATION
DESCRIPTION:Happy Hour 5 PM – 9 PM \nCODE Bar Opens 5 PM \nBear Cave Opens 8 PM \nTEMPTATION\nin Main Bar + CODE Bar + Nest | 10 PM – 3 AM \nMusic By: GUSTAVO\nGET TICKETS\nFree Before 10pm* | $15 After | $10 Advance** \nBEAR HAUS Included\nOnly Pre-purchased Tickets & VIP’s Skip the Line\nDress Code Enforced in the Code Bar 11 PM to close \n*No Re-entry with free wrist band after midnight   **Plus fees
URL:https://eaglebarwm.com/event/temptation/
LOCATION:Eagle Wilton Manors\, 2209 WILTON DR\, WILTON MANORS\, FL\, 33305\, United States
CATEGORIES:IncludeInEmail
ATTACH;FMTTYPE=image/jpeg:https://eaglebarwm.com/wp-content/uploads/2026/01/26-02-06_TEMPT_Square_1080x1080.jpg
END:VEVENT
BEGIN:VEVENT
DTSTART;TZID=America/New_York:20260205T210000
DTEND;TZID=America/New_York:20260206T020000
DTSTAMP:20260423T121634
CREATED:20260113T191426Z
LAST-MODIFIED:20260113T191427Z
UID:10015924-1770325200-1770343200@eaglebarwm.com
SUMMARY:HARNESS NIGHT
DESCRIPTION:Happy Hour 7 PM – 9 PM \nCODE Bar Opens 7 PM | Tavern Opens 9 PM \nHARNESS NIGHT\nin Main Bar + CODE Bar  | 9 PM – 2 AM \nMusic By: Trevor Oldroyd\nHAPPY HOUR ALL NIGHT\nFor Anyone Wearing\nA Harness or Fetish Gear*\nNo Cover \n*Happy Hour all Night rules are strictly enforced.\n*Not a requirement to enter.
URL:https://eaglebarwm.com/event/edm-night-12-8/2026-02-05/
LOCATION:Eagle Wilton Manors\, 2209 WILTON DR\, WILTON MANORS\, FL\, 33305\, United States
CATEGORIES:Weekday Repeating
ATTACH;FMTTYPE=image/jpeg:https://eaglebarwm.com/wp-content/uploads/2025/09/THURS_NewWeekdays_EWM_design_1080x1080_square.jpg
END:VEVENT
BEGIN:VEVENT
DTSTART;TZID=America/New_York:20260205T190000
DTEND;TZID=America/New_York:20260205T220000
DTSTAMP:20260423T121634
CREATED:20260127T204011Z
LAST-MODIFIED:20260127T204011Z
UID:10014717-1770318000-1770328800@eaglebarwm.com
SUMMARY:CIGAR SOCIAL
DESCRIPTION:Happy Hour 7 PM – 9 PM \nCODE Bar Opens 7 PM | Tavern Opens 9 PM \nCIGAR SOCIAL\nin Smoking Lounge & Patio | 7 PM – 10 PM
URL:https://eaglebarwm.com/event/cigar-social-3-2-3-3-2-2/2026-02-05/
LOCATION:Eagle Wilton Manors\, 2209 WILTON DR\, WILTON MANORS\, FL\, 33305\, United States
CATEGORIES:Weekday Repeating
ATTACH;FMTTYPE=image/jpeg:https://eaglebarwm.com/wp-content/uploads/2025/06/Thurs1_NewWeekdays_EWM_design_1080x1080_square.jpg
END:VEVENT
END:VCALENDAR