BEGIN:VCALENDAR
VERSION:2.0
PRODID:-//Eagle Wilton Manors - ECPv6.15.17.1//NONSGML v1.0//EN
CALSCALE:GREGORIAN
METHOD:PUBLISH
X-WR-CALNAME:Eagle Wilton Manors
X-ORIGINAL-URL:https://eaglebarwm.com
X-WR-CALDESC:Events for Eagle Wilton Manors
REFRESH-INTERVAL;VALUE=DURATION:PT1H
X-Robots-Tag:noindex
X-PUBLISHED-TTL:PT1H
BEGIN:VTIMEZONE
TZID:America/New_York
BEGIN:DAYLIGHT
TZOFFSETFROM:-0500
TZOFFSETTO:-0400
TZNAME:EDT
DTSTART:20250309T070000
END:DAYLIGHT
BEGIN:STANDARD
TZOFFSETFROM:-0400
TZOFFSETTO:-0500
TZNAME:EST
DTSTART:20251102T060000
END:STANDARD
BEGIN:DAYLIGHT
TZOFFSETFROM:-0500
TZOFFSETTO:-0400
TZNAME:EDT
DTSTART:20260308T070000
END:DAYLIGHT
BEGIN:STANDARD
TZOFFSETFROM:-0400
TZOFFSETTO:-0500
TZNAME:EST
DTSTART:20261101T060000
END:STANDARD
BEGIN:DAYLIGHT
TZOFFSETFROM:-0500
TZOFFSETTO:-0400
TZNAME:EDT
DTSTART:20270314T070000
END:DAYLIGHT
BEGIN:STANDARD
TZOFFSETFROM:-0400
TZOFFSETTO:-0500
TZNAME:EST
DTSTART:20271107T060000
END:STANDARD
END:VTIMEZONE
BEGIN:VEVENT
DTSTART;TZID=America/New_York:20260731T213000
DTEND;TZID=America/New_York:20260801T023000
DTSTAMP:20260422T180009
CREATED:20260218T220929Z
LAST-MODIFIED:20260226T200957Z
UID:10018326-1785533400-1785551400@eaglebarwm.com
SUMMARY:DADDY POP
DESCRIPTION:DADDY POP\nin Bear Cave | 9 PM – 2 AM \nMusic By: Barry Browder\nRugged\, Sexy\, Husky & Hairy Daddies\nwith Pop Music Radio Edits\,\nGuilty Pleasures\,\nand Forgotten Favorites.\nNo Shazam Needed.\nYour Body Remembers the Beat.\nIncluded in Cover
URL:https://eaglebarwm.com/event/daddy-pop-5-3/2026-07-31/
LOCATION:Eagle Wilton Manors\, 2209 WILTON DR\, WILTON MANORS\, FL\, 33305\, United States
ATTACH;FMTTYPE=image/png:https://eaglebarwm.com/wp-content/uploads/2026/02/image0.png
END:VEVENT
BEGIN:VEVENT
DTSTART;TZID=America/New_York:20260801T213000
DTEND;TZID=America/New_York:20260802T023000
DTSTAMP:20260422T180009
CREATED:20260218T221213Z
LAST-MODIFIED:20260218T221213Z
UID:10017126-1785619800-1785637800@eaglebarwm.com
SUMMARY:DADDY POP
DESCRIPTION:DADDY POP\nin Bear Cave | 9 PM – 2 AM \nMusic By: Barry Browder\nRugged\, Sexy\, Husky & Hairy Daddies\nwith Pop Music Radio Edits\,\nGuilty Pleasures\,\nand Forgotten Favorites.\nNo Shazam Needed.\nYour Body Remembers the Beat.\nIncluded in Cover
URL:https://eaglebarwm.com/event/daddy-pop-5-3-2/2026-08-01/
LOCATION:Eagle Wilton Manors\, 2209 WILTON DR\, WILTON MANORS\, FL\, 33305\, United States
ATTACH;FMTTYPE=image/jpeg:https://eaglebarwm.com/wp-content/uploads/2025/12/DADDY-POP_Square_1080x1080.jpg
END:VEVENT
BEGIN:VEVENT
DTSTART;TZID=America/New_York:20260802T170000
DTEND;TZID=America/New_York:20260803T020000
DTSTAMP:20260422T180009
CREATED:20260203T213010Z
LAST-MODIFIED:20260203T213011Z
UID:10014496-1785690000-1785722400@eaglebarwm.com
SUMMARY:SINFUL SUNDAY
DESCRIPTION:SUNDAY\nHappy Hour 5 PM – 9 PM \nCODE Bar Opens 5 PM | Tavern Opens 9 PM \nSINFUL SUNDAYS\nin Main Bar + CODE Bar  | 8 PM – 2 AM \nMusic by: ADORA\nNo Cover
URL:https://eaglebarwm.com/event/sinful_sunday-11-21-4/2026-08-02/
LOCATION:Eagle Wilton Manors\, 2209 WILTON DR\, WILTON MANORS\, FL\, 33305\, United States
CATEGORIES:Weekday Repeating
ATTACH;FMTTYPE=image/jpeg:https://eaglebarwm.com/wp-content/uploads/2026/01/SINFUL-SUNDAYS-ADORA-Square_1080x1080.jpg
END:VEVENT
BEGIN:VEVENT
DTSTART;TZID=America/New_York:20260802T173000
DTEND;TZID=America/New_York:20260802T183000
DTSTAMP:20260422T180009
CREATED:20260226T182838Z
LAST-MODIFIED:20260226T182839Z
UID:10018297-1785691800-1785695400@eaglebarwm.com
SUMMARY:BOOTS ON THE GROUND
DESCRIPTION:SUNDAY\nBOOTS ON THE GROUND\nActivist Collective for the Leather & Kink Community\n5:30pm | in the Bear Cave \nWe’re loud\, proud\, and laced up for liberation.\nBecause our rights aren’t a fetish. They’re fundamental. You can learn more about Boots on the Ground at their website.\n \n  \n*The views expressed at this event are not necessarily those of the staff at Eagle Wilton Manors.
URL:https://eaglebarwm.com/event/boots-on-the-ground-4-2/2026-08-02/
LOCATION:Eagle Wilton Manors\, 2209 WILTON DR\, WILTON MANORS\, FL\, 33305\, United States
CATEGORIES:IncludeInEmail
ATTACH;FMTTYPE=image/png:https://eaglebarwm.com/wp-content/uploads/2026/02/BOOTS-ON-THE-GROUND-NEWSLETTER.png
END:VEVENT
BEGIN:VEVENT
DTSTART;TZID=America/New_York:20260803T190000
DTEND;TZID=America/New_York:20260804T020000
DTSTAMP:20260422T180009
CREATED:20260311T194047Z
LAST-MODIFIED:20260311T194049Z
UID:10017644-1785783600-1785808800@eaglebarwm.com
SUMMARY:JOCK STRAP NIGHT
DESCRIPTION:Happy Hour 7 PM – 9 PM \nJOCK STRAP NIGHT\nin CODE Bar | 9 PM – 2 AM \n$2.50\nWell Tequila Drinks\n9 PM to 2 AM\nHAPPY HOUR ALL NIGHT\nFor Anyone Wearing\nJock Strap + No Pants*\nNo Cover \n*Happy Hour all Night rules are strictly enforced.\n*Not a requirement to enter.
URL:https://eaglebarwm.com/event/jock_strap_night-2-2-2-2-2-2-2-5-2/2026-08-03/
LOCATION:Eagle Wilton Manors\, 2209 WILTON DR\, WILTON MANORS\, FL\, 33305\, United States
CATEGORIES:Weekday Repeating
ATTACH;FMTTYPE=image/jpeg:https://eaglebarwm.com/wp-content/uploads/2026/01/Mon_NewWeekdays_EWM_design_1080x1080_square.jpg
END:VEVENT
BEGIN:VEVENT
DTSTART;TZID=America/New_York:20260804T190000
DTEND;TZID=America/New_York:20260805T020000
DTSTAMP:20260422T180009
CREATED:20260113T200013Z
LAST-MODIFIED:20260113T200142Z
UID:10014652-1785870000-1785895200@eaglebarwm.com
SUMMARY:HAPPY HOUR ALL NIGHT
DESCRIPTION:HAPPY HOUR ALL NIGHT\nin CODE Bar | 7 PM – 2 AM \nHALF PRICE DRINKS ALL NIGHT\nNo Cover
URL:https://eaglebarwm.com/event/code_tuesday-2-2-2-2-2-2-3-4/2026-08-04/
LOCATION:Eagle Wilton Manors\, 2209 WILTON DR\, WILTON MANORS\, FL\, 33305\, United States
CATEGORIES:Weekday Repeating
ATTACH;FMTTYPE=image/jpeg:https://eaglebarwm.com/wp-content/uploads/2025/08/TUES_NewWeekdays_EWM_design_1080x1080_square.jpg
END:VEVENT
BEGIN:VEVENT
DTSTART;TZID=America/New_York:20260805T190000
DTEND;TZID=America/New_York:20260806T020000
DTSTAMP:20260422T180009
CREATED:20260111T013641Z
LAST-MODIFIED:20260111T013843Z
UID:10016211-1785956400-1785981600@eaglebarwm.com
SUMMARY:UNDERWEAR & SINGLET NIGHT
DESCRIPTION:Happy Hour 7 PM – 9 PM \n UNDERWEAR & SINGLETS NIGHT\nin CODE Bar | 9 PM – 2 AM \n$2.50\nWell Vodka Drinks\n9 PM to 2 AM\nHAPPY HOUR ALL NIGHT\nFor Anyone Wearing\nSinglets or Underwear + No Pants*\nNo Cover \n*Happy Hour all Night rules are strictly enforced.\n*Not a requirement to enter.
URL:https://eaglebarwm.com/event/leather-harness-night-13-3-2-4/2026-08-05/
LOCATION:Eagle Wilton Manors\, 2209 WILTON DR\, WILTON MANORS\, FL\, 33305\, United States
CATEGORIES:Weekday Repeating
ATTACH;FMTTYPE=image/jpeg:https://eaglebarwm.com/wp-content/uploads/2025/09/WEDS_NewWeekdays_EWM_design_1080x1080_square.jpg
END:VEVENT
BEGIN:VEVENT
DTSTART;TZID=America/New_York:20260806T190000
DTEND;TZID=America/New_York:20260806T220000
DTSTAMP:20260422T180009
CREATED:20260127T204011Z
LAST-MODIFIED:20260127T204011Z
UID:10014743-1786042800-1786053600@eaglebarwm.com
SUMMARY:CIGAR SOCIAL
DESCRIPTION:Happy Hour 7 PM – 9 PM \nCODE Bar Opens 7 PM | Tavern Opens 9 PM \nCIGAR SOCIAL\nin Smoking Lounge & Patio | 7 PM – 10 PM
URL:https://eaglebarwm.com/event/cigar-social-3-2-3-3-2-2/2026-08-06/
LOCATION:Eagle Wilton Manors\, 2209 WILTON DR\, WILTON MANORS\, FL\, 33305\, United States
CATEGORIES:Weekday Repeating
ATTACH;FMTTYPE=image/jpeg:https://eaglebarwm.com/wp-content/uploads/2025/06/Thurs1_NewWeekdays_EWM_design_1080x1080_square.jpg
END:VEVENT
BEGIN:VEVENT
DTSTART;TZID=America/New_York:20260806T210000
DTEND;TZID=America/New_York:20260807T020000
DTSTAMP:20260422T180009
CREATED:20260218T205302Z
LAST-MODIFIED:20260218T205303Z
UID:10015950-1786050000-1786068000@eaglebarwm.com
SUMMARY:HARNESS NIGHT
DESCRIPTION:Happy Hour 7 PM – 9 PM \nCODE Bar Opens 7 PM | Tavern Opens 9 PM \nHARNESS NIGHT\nin Main Bar + CODE Bar  | 9 PM – 2 AM \nMusic By: Trevor Oldroyd\nHAPPY HOUR ALL NIGHT\nFor Anyone Wearing\nA Harness or Fetish Gear*\nNo Cover \n*Happy Hour all Night rules are strictly enforced.\n*Not a requirement to enter.
URL:https://eaglebarwm.com/event/edm-night-12-8-3/2026-08-06/
LOCATION:Eagle Wilton Manors\, 2209 WILTON DR\, WILTON MANORS\, FL\, 33305\, United States
CATEGORIES:Weekday Repeating
ATTACH;FMTTYPE=image/jpeg:https://eaglebarwm.com/wp-content/uploads/2026/01/THURS_NewWeekdays_EWM_-TREVOR-1080x1080_square.jpg
END:VEVENT
BEGIN:VEVENT
DTSTART;TZID=America/New_York:20260807T213000
DTEND;TZID=America/New_York:20260808T023000
DTSTAMP:20260422T180009
CREATED:20260218T220929Z
LAST-MODIFIED:20260226T200957Z
UID:10018327-1786138200-1786156200@eaglebarwm.com
SUMMARY:DADDY POP
DESCRIPTION:DADDY POP\nin Bear Cave | 9 PM – 2 AM \nMusic By: Barry Browder\nRugged\, Sexy\, Husky & Hairy Daddies\nwith Pop Music Radio Edits\,\nGuilty Pleasures\,\nand Forgotten Favorites.\nNo Shazam Needed.\nYour Body Remembers the Beat.\nIncluded in Cover
URL:https://eaglebarwm.com/event/daddy-pop-5-3/2026-08-07/
LOCATION:Eagle Wilton Manors\, 2209 WILTON DR\, WILTON MANORS\, FL\, 33305\, United States
ATTACH;FMTTYPE=image/png:https://eaglebarwm.com/wp-content/uploads/2026/02/image0.png
END:VEVENT
BEGIN:VEVENT
DTSTART;TZID=America/New_York:20260808T213000
DTEND;TZID=America/New_York:20260809T023000
DTSTAMP:20260422T180009
CREATED:20260218T221213Z
LAST-MODIFIED:20260218T221213Z
UID:10017128-1786224600-1786242600@eaglebarwm.com
SUMMARY:DADDY POP
DESCRIPTION:DADDY POP\nin Bear Cave | 9 PM – 2 AM \nMusic By: Barry Browder\nRugged\, Sexy\, Husky & Hairy Daddies\nwith Pop Music Radio Edits\,\nGuilty Pleasures\,\nand Forgotten Favorites.\nNo Shazam Needed.\nYour Body Remembers the Beat.\nIncluded in Cover
URL:https://eaglebarwm.com/event/daddy-pop-5-3-2/2026-08-08/
LOCATION:Eagle Wilton Manors\, 2209 WILTON DR\, WILTON MANORS\, FL\, 33305\, United States
ATTACH;FMTTYPE=image/jpeg:https://eaglebarwm.com/wp-content/uploads/2025/12/DADDY-POP_Square_1080x1080.jpg
END:VEVENT
BEGIN:VEVENT
DTSTART;TZID=America/New_York:20260809T170000
DTEND;TZID=America/New_York:20260810T020000
DTSTAMP:20260422T180009
CREATED:20260203T213010Z
LAST-MODIFIED:20260203T213011Z
UID:10014497-1786294800-1786327200@eaglebarwm.com
SUMMARY:SINFUL SUNDAY
DESCRIPTION:SUNDAY\nHappy Hour 5 PM – 9 PM \nCODE Bar Opens 5 PM | Tavern Opens 9 PM \nSINFUL SUNDAYS\nin Main Bar + CODE Bar  | 8 PM – 2 AM \nMusic by: ADORA\nNo Cover
URL:https://eaglebarwm.com/event/sinful_sunday-11-21-4/2026-08-09/
LOCATION:Eagle Wilton Manors\, 2209 WILTON DR\, WILTON MANORS\, FL\, 33305\, United States
CATEGORIES:Weekday Repeating
ATTACH;FMTTYPE=image/jpeg:https://eaglebarwm.com/wp-content/uploads/2026/01/SINFUL-SUNDAYS-ADORA-Square_1080x1080.jpg
END:VEVENT
BEGIN:VEVENT
DTSTART;TZID=America/New_York:20260810T190000
DTEND;TZID=America/New_York:20260811T020000
DTSTAMP:20260422T180009
CREATED:20260311T194047Z
LAST-MODIFIED:20260311T194049Z
UID:10017645-1786388400-1786413600@eaglebarwm.com
SUMMARY:JOCK STRAP NIGHT
DESCRIPTION:Happy Hour 7 PM – 9 PM \nJOCK STRAP NIGHT\nin CODE Bar | 9 PM – 2 AM \n$2.50\nWell Tequila Drinks\n9 PM to 2 AM\nHAPPY HOUR ALL NIGHT\nFor Anyone Wearing\nJock Strap + No Pants*\nNo Cover \n*Happy Hour all Night rules are strictly enforced.\n*Not a requirement to enter.
URL:https://eaglebarwm.com/event/jock_strap_night-2-2-2-2-2-2-2-5-2/2026-08-10/
LOCATION:Eagle Wilton Manors\, 2209 WILTON DR\, WILTON MANORS\, FL\, 33305\, United States
CATEGORIES:Weekday Repeating
ATTACH;FMTTYPE=image/jpeg:https://eaglebarwm.com/wp-content/uploads/2026/01/Mon_NewWeekdays_EWM_design_1080x1080_square.jpg
END:VEVENT
BEGIN:VEVENT
DTSTART;TZID=America/New_York:20260811T190000
DTEND;TZID=America/New_York:20260812T020000
DTSTAMP:20260422T180009
CREATED:20260113T200013Z
LAST-MODIFIED:20260113T200142Z
UID:10014653-1786474800-1786500000@eaglebarwm.com
SUMMARY:HAPPY HOUR ALL NIGHT
DESCRIPTION:HAPPY HOUR ALL NIGHT\nin CODE Bar | 7 PM – 2 AM \nHALF PRICE DRINKS ALL NIGHT\nNo Cover
URL:https://eaglebarwm.com/event/code_tuesday-2-2-2-2-2-2-3-4/2026-08-11/
LOCATION:Eagle Wilton Manors\, 2209 WILTON DR\, WILTON MANORS\, FL\, 33305\, United States
CATEGORIES:Weekday Repeating
ATTACH;FMTTYPE=image/jpeg:https://eaglebarwm.com/wp-content/uploads/2025/08/TUES_NewWeekdays_EWM_design_1080x1080_square.jpg
END:VEVENT
BEGIN:VEVENT
DTSTART;TZID=America/New_York:20260811T200000
DTEND;TZID=America/New_York:20260812T000000
DTSTAMP:20260422T180009
CREATED:20251126T175930Z
LAST-MODIFIED:20251209T191054Z
UID:10016503-1786478400-1786492800@eaglebarwm.com
SUMMARY:BARK AFTER DARK
DESCRIPTION:BARK AFTER DARK\nin MAIN Bar | 8 PM – 12 AM \nMOSH AREA w/ PADDING & TOYS\nHALF PRICE DRINKS ALL NIGHT\nNo Cover
URL:https://eaglebarwm.com/event/bark-after-dark-2-2/2026-08-11/
LOCATION:Eagle Wilton Manors\, 2209 WILTON DR\, WILTON MANORS\, FL\, 33305\, United States
CATEGORIES:IncludeInEmail,Monthly Repeating
ATTACH;FMTTYPE=image/jpeg:https://eaglebarwm.com/wp-content/uploads/2025/10/Square_BARK-AFTER-DARK_1080x1080.jpg
END:VEVENT
BEGIN:VEVENT
DTSTART;TZID=America/New_York:20260812T190000
DTEND;TZID=America/New_York:20260813T020000
DTSTAMP:20260422T180009
CREATED:20260111T013641Z
LAST-MODIFIED:20260111T013843Z
UID:10016212-1786561200-1786586400@eaglebarwm.com
SUMMARY:UNDERWEAR & SINGLET NIGHT
DESCRIPTION:Happy Hour 7 PM – 9 PM \n UNDERWEAR & SINGLETS NIGHT\nin CODE Bar | 9 PM – 2 AM \n$2.50\nWell Vodka Drinks\n9 PM to 2 AM\nHAPPY HOUR ALL NIGHT\nFor Anyone Wearing\nSinglets or Underwear + No Pants*\nNo Cover \n*Happy Hour all Night rules are strictly enforced.\n*Not a requirement to enter.
URL:https://eaglebarwm.com/event/leather-harness-night-13-3-2-4/2026-08-12/
LOCATION:Eagle Wilton Manors\, 2209 WILTON DR\, WILTON MANORS\, FL\, 33305\, United States
CATEGORIES:Weekday Repeating
ATTACH;FMTTYPE=image/jpeg:https://eaglebarwm.com/wp-content/uploads/2025/09/WEDS_NewWeekdays_EWM_design_1080x1080_square.jpg
END:VEVENT
BEGIN:VEVENT
DTSTART;TZID=America/New_York:20260813T190000
DTEND;TZID=America/New_York:20260813T220000
DTSTAMP:20260422T180009
CREATED:20260127T204011Z
LAST-MODIFIED:20260127T204011Z
UID:10014744-1786647600-1786658400@eaglebarwm.com
SUMMARY:CIGAR SOCIAL
DESCRIPTION:Happy Hour 7 PM – 9 PM \nCODE Bar Opens 7 PM | Tavern Opens 9 PM \nCIGAR SOCIAL\nin Smoking Lounge & Patio | 7 PM – 10 PM
URL:https://eaglebarwm.com/event/cigar-social-3-2-3-3-2-2/2026-08-13/
LOCATION:Eagle Wilton Manors\, 2209 WILTON DR\, WILTON MANORS\, FL\, 33305\, United States
CATEGORIES:Weekday Repeating
ATTACH;FMTTYPE=image/jpeg:https://eaglebarwm.com/wp-content/uploads/2025/06/Thurs1_NewWeekdays_EWM_design_1080x1080_square.jpg
END:VEVENT
BEGIN:VEVENT
DTSTART;TZID=America/New_York:20260813T210000
DTEND;TZID=America/New_York:20260814T020000
DTSTAMP:20260422T180009
CREATED:20260218T205302Z
LAST-MODIFIED:20260218T205303Z
UID:10015951-1786654800-1786672800@eaglebarwm.com
SUMMARY:HARNESS NIGHT
DESCRIPTION:Happy Hour 7 PM – 9 PM \nCODE Bar Opens 7 PM | Tavern Opens 9 PM \nHARNESS NIGHT\nin Main Bar + CODE Bar  | 9 PM – 2 AM \nMusic By: Trevor Oldroyd\nHAPPY HOUR ALL NIGHT\nFor Anyone Wearing\nA Harness or Fetish Gear*\nNo Cover \n*Happy Hour all Night rules are strictly enforced.\n*Not a requirement to enter.
URL:https://eaglebarwm.com/event/edm-night-12-8-3/2026-08-13/
LOCATION:Eagle Wilton Manors\, 2209 WILTON DR\, WILTON MANORS\, FL\, 33305\, United States
CATEGORIES:Weekday Repeating
ATTACH;FMTTYPE=image/jpeg:https://eaglebarwm.com/wp-content/uploads/2026/01/THURS_NewWeekdays_EWM_-TREVOR-1080x1080_square.jpg
END:VEVENT
BEGIN:VEVENT
DTSTART;TZID=America/New_York:20260814T213000
DTEND;TZID=America/New_York:20260815T023000
DTSTAMP:20260422T180009
CREATED:20260218T220929Z
LAST-MODIFIED:20260226T200957Z
UID:10018328-1786743000-1786761000@eaglebarwm.com
SUMMARY:DADDY POP
DESCRIPTION:DADDY POP\nin Bear Cave | 9 PM – 2 AM \nMusic By: Barry Browder\nRugged\, Sexy\, Husky & Hairy Daddies\nwith Pop Music Radio Edits\,\nGuilty Pleasures\,\nand Forgotten Favorites.\nNo Shazam Needed.\nYour Body Remembers the Beat.\nIncluded in Cover
URL:https://eaglebarwm.com/event/daddy-pop-5-3/2026-08-14/
LOCATION:Eagle Wilton Manors\, 2209 WILTON DR\, WILTON MANORS\, FL\, 33305\, United States
ATTACH;FMTTYPE=image/png:https://eaglebarwm.com/wp-content/uploads/2026/02/image0.png
END:VEVENT
BEGIN:VEVENT
DTSTART;TZID=America/New_York:20260815T213000
DTEND;TZID=America/New_York:20260816T023000
DTSTAMP:20260422T180009
CREATED:20260218T221213Z
LAST-MODIFIED:20260218T221213Z
UID:10017130-1786829400-1786847400@eaglebarwm.com
SUMMARY:DADDY POP
DESCRIPTION:DADDY POP\nin Bear Cave | 9 PM – 2 AM \nMusic By: Barry Browder\nRugged\, Sexy\, Husky & Hairy Daddies\nwith Pop Music Radio Edits\,\nGuilty Pleasures\,\nand Forgotten Favorites.\nNo Shazam Needed.\nYour Body Remembers the Beat.\nIncluded in Cover
URL:https://eaglebarwm.com/event/daddy-pop-5-3-2/2026-08-15/
LOCATION:Eagle Wilton Manors\, 2209 WILTON DR\, WILTON MANORS\, FL\, 33305\, United States
ATTACH;FMTTYPE=image/jpeg:https://eaglebarwm.com/wp-content/uploads/2025/12/DADDY-POP_Square_1080x1080.jpg
END:VEVENT
BEGIN:VEVENT
DTSTART;TZID=America/New_York:20260816T170000
DTEND;TZID=America/New_York:20260817T020000
DTSTAMP:20260422T180009
CREATED:20260203T213010Z
LAST-MODIFIED:20260203T213011Z
UID:10014498-1786899600-1786932000@eaglebarwm.com
SUMMARY:SINFUL SUNDAY
DESCRIPTION:SUNDAY\nHappy Hour 5 PM – 9 PM \nCODE Bar Opens 5 PM | Tavern Opens 9 PM \nSINFUL SUNDAYS\nin Main Bar + CODE Bar  | 8 PM – 2 AM \nMusic by: ADORA\nNo Cover
URL:https://eaglebarwm.com/event/sinful_sunday-11-21-4/2026-08-16/
LOCATION:Eagle Wilton Manors\, 2209 WILTON DR\, WILTON MANORS\, FL\, 33305\, United States
CATEGORIES:Weekday Repeating
ATTACH;FMTTYPE=image/jpeg:https://eaglebarwm.com/wp-content/uploads/2026/01/SINFUL-SUNDAYS-ADORA-Square_1080x1080.jpg
END:VEVENT
BEGIN:VEVENT
DTSTART;TZID=America/New_York:20260817T190000
DTEND;TZID=America/New_York:20260818T020000
DTSTAMP:20260422T180009
CREATED:20260311T194047Z
LAST-MODIFIED:20260311T194049Z
UID:10017646-1786993200-1787018400@eaglebarwm.com
SUMMARY:JOCK STRAP NIGHT
DESCRIPTION:Happy Hour 7 PM – 9 PM \nJOCK STRAP NIGHT\nin CODE Bar | 9 PM – 2 AM \n$2.50\nWell Tequila Drinks\n9 PM to 2 AM\nHAPPY HOUR ALL NIGHT\nFor Anyone Wearing\nJock Strap + No Pants*\nNo Cover \n*Happy Hour all Night rules are strictly enforced.\n*Not a requirement to enter.
URL:https://eaglebarwm.com/event/jock_strap_night-2-2-2-2-2-2-2-5-2/2026-08-17/
LOCATION:Eagle Wilton Manors\, 2209 WILTON DR\, WILTON MANORS\, FL\, 33305\, United States
CATEGORIES:Weekday Repeating
ATTACH;FMTTYPE=image/jpeg:https://eaglebarwm.com/wp-content/uploads/2026/01/Mon_NewWeekdays_EWM_design_1080x1080_square.jpg
END:VEVENT
BEGIN:VEVENT
DTSTART;TZID=America/New_York:20260818T190000
DTEND;TZID=America/New_York:20260819T020000
DTSTAMP:20260422T180009
CREATED:20260113T200013Z
LAST-MODIFIED:20260113T200142Z
UID:10014654-1787079600-1787104800@eaglebarwm.com
SUMMARY:HAPPY HOUR ALL NIGHT
DESCRIPTION:HAPPY HOUR ALL NIGHT\nin CODE Bar | 7 PM – 2 AM \nHALF PRICE DRINKS ALL NIGHT\nNo Cover
URL:https://eaglebarwm.com/event/code_tuesday-2-2-2-2-2-2-3-4/2026-08-18/
LOCATION:Eagle Wilton Manors\, 2209 WILTON DR\, WILTON MANORS\, FL\, 33305\, United States
CATEGORIES:Weekday Repeating
ATTACH;FMTTYPE=image/jpeg:https://eaglebarwm.com/wp-content/uploads/2025/08/TUES_NewWeekdays_EWM_design_1080x1080_square.jpg
END:VEVENT
BEGIN:VEVENT
DTSTART;TZID=America/New_York:20260819T190000
DTEND;TZID=America/New_York:20260820T020000
DTSTAMP:20260422T180009
CREATED:20260111T013641Z
LAST-MODIFIED:20260111T013843Z
UID:10016213-1787166000-1787191200@eaglebarwm.com
SUMMARY:UNDERWEAR & SINGLET NIGHT
DESCRIPTION:Happy Hour 7 PM – 9 PM \n UNDERWEAR & SINGLETS NIGHT\nin CODE Bar | 9 PM – 2 AM \n$2.50\nWell Vodka Drinks\n9 PM to 2 AM\nHAPPY HOUR ALL NIGHT\nFor Anyone Wearing\nSinglets or Underwear + No Pants*\nNo Cover \n*Happy Hour all Night rules are strictly enforced.\n*Not a requirement to enter.
URL:https://eaglebarwm.com/event/leather-harness-night-13-3-2-4/2026-08-19/
LOCATION:Eagle Wilton Manors\, 2209 WILTON DR\, WILTON MANORS\, FL\, 33305\, United States
CATEGORIES:Weekday Repeating
ATTACH;FMTTYPE=image/jpeg:https://eaglebarwm.com/wp-content/uploads/2025/09/WEDS_NewWeekdays_EWM_design_1080x1080_square.jpg
END:VEVENT
BEGIN:VEVENT
DTSTART;TZID=America/New_York:20260820T190000
DTEND;TZID=America/New_York:20260820T220000
DTSTAMP:20260422T180009
CREATED:20260127T204011Z
LAST-MODIFIED:20260127T204011Z
UID:10014745-1787252400-1787263200@eaglebarwm.com
SUMMARY:CIGAR SOCIAL
DESCRIPTION:Happy Hour 7 PM – 9 PM \nCODE Bar Opens 7 PM | Tavern Opens 9 PM \nCIGAR SOCIAL\nin Smoking Lounge & Patio | 7 PM – 10 PM
URL:https://eaglebarwm.com/event/cigar-social-3-2-3-3-2-2/2026-08-20/
LOCATION:Eagle Wilton Manors\, 2209 WILTON DR\, WILTON MANORS\, FL\, 33305\, United States
CATEGORIES:Weekday Repeating
ATTACH;FMTTYPE=image/jpeg:https://eaglebarwm.com/wp-content/uploads/2025/06/Thurs1_NewWeekdays_EWM_design_1080x1080_square.jpg
END:VEVENT
BEGIN:VEVENT
DTSTART;TZID=America/New_York:20260820T210000
DTEND;TZID=America/New_York:20260821T020000
DTSTAMP:20260422T180009
CREATED:20260218T205302Z
LAST-MODIFIED:20260218T205303Z
UID:10015952-1787259600-1787277600@eaglebarwm.com
SUMMARY:HARNESS NIGHT
DESCRIPTION:Happy Hour 7 PM – 9 PM \nCODE Bar Opens 7 PM | Tavern Opens 9 PM \nHARNESS NIGHT\nin Main Bar + CODE Bar  | 9 PM – 2 AM \nMusic By: Trevor Oldroyd\nHAPPY HOUR ALL NIGHT\nFor Anyone Wearing\nA Harness or Fetish Gear*\nNo Cover \n*Happy Hour all Night rules are strictly enforced.\n*Not a requirement to enter.
URL:https://eaglebarwm.com/event/edm-night-12-8-3/2026-08-20/
LOCATION:Eagle Wilton Manors\, 2209 WILTON DR\, WILTON MANORS\, FL\, 33305\, United States
CATEGORIES:Weekday Repeating
ATTACH;FMTTYPE=image/jpeg:https://eaglebarwm.com/wp-content/uploads/2026/01/THURS_NewWeekdays_EWM_-TREVOR-1080x1080_square.jpg
END:VEVENT
BEGIN:VEVENT
DTSTART;TZID=America/New_York:20260821T213000
DTEND;TZID=America/New_York:20260822T023000
DTSTAMP:20260422T180009
CREATED:20260218T220929Z
LAST-MODIFIED:20260226T200957Z
UID:10018329-1787347800-1787365800@eaglebarwm.com
SUMMARY:DADDY POP
DESCRIPTION:DADDY POP\nin Bear Cave | 9 PM – 2 AM \nMusic By: Barry Browder\nRugged\, Sexy\, Husky & Hairy Daddies\nwith Pop Music Radio Edits\,\nGuilty Pleasures\,\nand Forgotten Favorites.\nNo Shazam Needed.\nYour Body Remembers the Beat.\nIncluded in Cover
URL:https://eaglebarwm.com/event/daddy-pop-5-3/2026-08-21/
LOCATION:Eagle Wilton Manors\, 2209 WILTON DR\, WILTON MANORS\, FL\, 33305\, United States
ATTACH;FMTTYPE=image/png:https://eaglebarwm.com/wp-content/uploads/2026/02/image0.png
END:VEVENT
BEGIN:VEVENT
DTSTART;TZID=America/New_York:20260822T213000
DTEND;TZID=America/New_York:20260823T023000
DTSTAMP:20260422T180009
CREATED:20260218T221213Z
LAST-MODIFIED:20260218T221213Z
UID:10017132-1787434200-1787452200@eaglebarwm.com
SUMMARY:DADDY POP
DESCRIPTION:DADDY POP\nin Bear Cave | 9 PM – 2 AM \nMusic By: Barry Browder\nRugged\, Sexy\, Husky & Hairy Daddies\nwith Pop Music Radio Edits\,\nGuilty Pleasures\,\nand Forgotten Favorites.\nNo Shazam Needed.\nYour Body Remembers the Beat.\nIncluded in Cover
URL:https://eaglebarwm.com/event/daddy-pop-5-3-2/2026-08-22/
LOCATION:Eagle Wilton Manors\, 2209 WILTON DR\, WILTON MANORS\, FL\, 33305\, United States
ATTACH;FMTTYPE=image/jpeg:https://eaglebarwm.com/wp-content/uploads/2025/12/DADDY-POP_Square_1080x1080.jpg
END:VEVENT
BEGIN:VEVENT
DTSTART;TZID=America/New_York:20260823T170000
DTEND;TZID=America/New_York:20260824T020000
DTSTAMP:20260422T180009
CREATED:20260203T213010Z
LAST-MODIFIED:20260203T213011Z
UID:10014499-1787504400-1787536800@eaglebarwm.com
SUMMARY:SINFUL SUNDAY
DESCRIPTION:SUNDAY\nHappy Hour 5 PM – 9 PM \nCODE Bar Opens 5 PM | Tavern Opens 9 PM \nSINFUL SUNDAYS\nin Main Bar + CODE Bar  | 8 PM – 2 AM \nMusic by: ADORA\nNo Cover
URL:https://eaglebarwm.com/event/sinful_sunday-11-21-4/2026-08-23/
LOCATION:Eagle Wilton Manors\, 2209 WILTON DR\, WILTON MANORS\, FL\, 33305\, United States
CATEGORIES:Weekday Repeating
ATTACH;FMTTYPE=image/jpeg:https://eaglebarwm.com/wp-content/uploads/2026/01/SINFUL-SUNDAYS-ADORA-Square_1080x1080.jpg
END:VEVENT
BEGIN:VEVENT
DTSTART;TZID=America/New_York:20260824T190000
DTEND;TZID=America/New_York:20260825T020000
DTSTAMP:20260422T180009
CREATED:20260311T194047Z
LAST-MODIFIED:20260311T194049Z
UID:10017647-1787598000-1787623200@eaglebarwm.com
SUMMARY:JOCK STRAP NIGHT
DESCRIPTION:Happy Hour 7 PM – 9 PM \nJOCK STRAP NIGHT\nin CODE Bar | 9 PM – 2 AM \n$2.50\nWell Tequila Drinks\n9 PM to 2 AM\nHAPPY HOUR ALL NIGHT\nFor Anyone Wearing\nJock Strap + No Pants*\nNo Cover \n*Happy Hour all Night rules are strictly enforced.\n*Not a requirement to enter.
URL:https://eaglebarwm.com/event/jock_strap_night-2-2-2-2-2-2-2-5-2/2026-08-24/
LOCATION:Eagle Wilton Manors\, 2209 WILTON DR\, WILTON MANORS\, FL\, 33305\, United States
CATEGORIES:Weekday Repeating
ATTACH;FMTTYPE=image/jpeg:https://eaglebarwm.com/wp-content/uploads/2026/01/Mon_NewWeekdays_EWM_design_1080x1080_square.jpg
END:VEVENT
END:VCALENDAR