BEGIN:VCALENDAR
VERSION:2.0
PRODID:-//Eagle Wilton Manors - ECPv6.15.17.1//NONSGML v1.0//EN
CALSCALE:GREGORIAN
METHOD:PUBLISH
X-ORIGINAL-URL:https://eaglebarwm.com
X-WR-CALDESC:Events for Eagle Wilton Manors
REFRESH-INTERVAL;VALUE=DURATION:PT1H
X-Robots-Tag:noindex
X-PUBLISHED-TTL:PT1H
BEGIN:VTIMEZONE
TZID:America/New_York
BEGIN:DAYLIGHT
TZOFFSETFROM:-0500
TZOFFSETTO:-0400
TZNAME:EDT
DTSTART:20250309T070000
END:DAYLIGHT
BEGIN:STANDARD
TZOFFSETFROM:-0400
TZOFFSETTO:-0500
TZNAME:EST
DTSTART:20251102T060000
END:STANDARD
BEGIN:DAYLIGHT
TZOFFSETFROM:-0500
TZOFFSETTO:-0400
TZNAME:EDT
DTSTART:20260308T070000
END:DAYLIGHT
BEGIN:STANDARD
TZOFFSETFROM:-0400
TZOFFSETTO:-0500
TZNAME:EST
DTSTART:20261101T060000
END:STANDARD
BEGIN:DAYLIGHT
TZOFFSETFROM:-0500
TZOFFSETTO:-0400
TZNAME:EDT
DTSTART:20270314T070000
END:DAYLIGHT
BEGIN:STANDARD
TZOFFSETFROM:-0400
TZOFFSETTO:-0500
TZNAME:EST
DTSTART:20271107T060000
END:STANDARD
END:VTIMEZONE
BEGIN:VEVENT
DTSTART;TZID=America/New_York:20260825T190000
DTEND;TZID=America/New_York:20260826T020000
DTSTAMP:20260422T224809
CREATED:20260113T200013Z
LAST-MODIFIED:20260113T200142Z
UID:10014655-1787684400-1787709600@eaglebarwm.com
SUMMARY:HAPPY HOUR ALL NIGHT
DESCRIPTION:HAPPY HOUR ALL NIGHT\nin CODE Bar | 7 PM – 2 AM \nHALF PRICE DRINKS ALL NIGHT\nNo Cover
URL:https://eaglebarwm.com/event/code_tuesday-2-2-2-2-2-2-3-4/2026-08-25/
LOCATION:Eagle Wilton Manors\, 2209 WILTON DR\, WILTON MANORS\, FL\, 33305\, United States
CATEGORIES:Weekday Repeating
ATTACH;FMTTYPE=image/jpeg:https://eaglebarwm.com/wp-content/uploads/2025/08/TUES_NewWeekdays_EWM_design_1080x1080_square.jpg
END:VEVENT
BEGIN:VEVENT
DTSTART;TZID=America/New_York:20260826T190000
DTEND;TZID=America/New_York:20260827T020000
DTSTAMP:20260422T224809
CREATED:20260111T013641Z
LAST-MODIFIED:20260111T013843Z
UID:10016214-1787770800-1787796000@eaglebarwm.com
SUMMARY:UNDERWEAR & SINGLET NIGHT
DESCRIPTION:Happy Hour 7 PM – 9 PM \n UNDERWEAR & SINGLETS NIGHT\nin CODE Bar | 9 PM – 2 AM \n$2.50\nWell Vodka Drinks\n9 PM to 2 AM\nHAPPY HOUR ALL NIGHT\nFor Anyone Wearing\nSinglets or Underwear + No Pants*\nNo Cover \n*Happy Hour all Night rules are strictly enforced.\n*Not a requirement to enter.
URL:https://eaglebarwm.com/event/leather-harness-night-13-3-2-4/2026-08-26/
LOCATION:Eagle Wilton Manors\, 2209 WILTON DR\, WILTON MANORS\, FL\, 33305\, United States
CATEGORIES:Weekday Repeating
ATTACH;FMTTYPE=image/jpeg:https://eaglebarwm.com/wp-content/uploads/2025/09/WEDS_NewWeekdays_EWM_design_1080x1080_square.jpg
END:VEVENT
BEGIN:VEVENT
DTSTART;TZID=America/New_York:20260827T190000
DTEND;TZID=America/New_York:20260827T220000
DTSTAMP:20260422T224809
CREATED:20260127T204011Z
LAST-MODIFIED:20260127T204011Z
UID:10014746-1787857200-1787868000@eaglebarwm.com
SUMMARY:CIGAR SOCIAL
DESCRIPTION:Happy Hour 7 PM – 9 PM \nCODE Bar Opens 7 PM | Tavern Opens 9 PM \nCIGAR SOCIAL\nin Smoking Lounge & Patio | 7 PM – 10 PM
URL:https://eaglebarwm.com/event/cigar-social-3-2-3-3-2-2/2026-08-27/
LOCATION:Eagle Wilton Manors\, 2209 WILTON DR\, WILTON MANORS\, FL\, 33305\, United States
CATEGORIES:Weekday Repeating
ATTACH;FMTTYPE=image/jpeg:https://eaglebarwm.com/wp-content/uploads/2025/06/Thurs1_NewWeekdays_EWM_design_1080x1080_square.jpg
END:VEVENT
BEGIN:VEVENT
DTSTART;TZID=America/New_York:20260827T210000
DTEND;TZID=America/New_York:20260828T020000
DTSTAMP:20260422T224809
CREATED:20260218T205302Z
LAST-MODIFIED:20260218T205303Z
UID:10015953-1787864400-1787882400@eaglebarwm.com
SUMMARY:HARNESS NIGHT
DESCRIPTION:Happy Hour 7 PM – 9 PM \nCODE Bar Opens 7 PM | Tavern Opens 9 PM \nHARNESS NIGHT\nin Main Bar + CODE Bar  | 9 PM – 2 AM \nMusic By: Trevor Oldroyd\nHAPPY HOUR ALL NIGHT\nFor Anyone Wearing\nA Harness or Fetish Gear*\nNo Cover \n*Happy Hour all Night rules are strictly enforced.\n*Not a requirement to enter.
URL:https://eaglebarwm.com/event/edm-night-12-8-3/2026-08-27/
LOCATION:Eagle Wilton Manors\, 2209 WILTON DR\, WILTON MANORS\, FL\, 33305\, United States
CATEGORIES:Weekday Repeating
ATTACH;FMTTYPE=image/jpeg:https://eaglebarwm.com/wp-content/uploads/2026/01/THURS_NewWeekdays_EWM_-TREVOR-1080x1080_square.jpg
END:VEVENT
BEGIN:VEVENT
DTSTART;TZID=America/New_York:20260828T213000
DTEND;TZID=America/New_York:20260829T023000
DTSTAMP:20260422T224809
CREATED:20260218T220929Z
LAST-MODIFIED:20260226T200957Z
UID:10018330-1787952600-1787970600@eaglebarwm.com
SUMMARY:DADDY POP
DESCRIPTION:DADDY POP\nin Bear Cave | 9 PM – 2 AM \nMusic By: Barry Browder\nRugged\, Sexy\, Husky & Hairy Daddies\nwith Pop Music Radio Edits\,\nGuilty Pleasures\,\nand Forgotten Favorites.\nNo Shazam Needed.\nYour Body Remembers the Beat.\nIncluded in Cover
URL:https://eaglebarwm.com/event/daddy-pop-5-3/2026-08-28/
LOCATION:Eagle Wilton Manors\, 2209 WILTON DR\, WILTON MANORS\, FL\, 33305\, United States
ATTACH;FMTTYPE=image/png:https://eaglebarwm.com/wp-content/uploads/2026/02/image0.png
END:VEVENT
BEGIN:VEVENT
DTSTART;TZID=America/New_York:20260829T213000
DTEND;TZID=America/New_York:20260830T023000
DTSTAMP:20260422T224809
CREATED:20260218T221213Z
LAST-MODIFIED:20260218T221213Z
UID:10017134-1788039000-1788057000@eaglebarwm.com
SUMMARY:DADDY POP
DESCRIPTION:DADDY POP\nin Bear Cave | 9 PM – 2 AM \nMusic By: Barry Browder\nRugged\, Sexy\, Husky & Hairy Daddies\nwith Pop Music Radio Edits\,\nGuilty Pleasures\,\nand Forgotten Favorites.\nNo Shazam Needed.\nYour Body Remembers the Beat.\nIncluded in Cover
URL:https://eaglebarwm.com/event/daddy-pop-5-3-2/2026-08-29/
LOCATION:Eagle Wilton Manors\, 2209 WILTON DR\, WILTON MANORS\, FL\, 33305\, United States
ATTACH;FMTTYPE=image/jpeg:https://eaglebarwm.com/wp-content/uploads/2025/12/DADDY-POP_Square_1080x1080.jpg
END:VEVENT
BEGIN:VEVENT
DTSTART;TZID=America/New_York:20260830T170000
DTEND;TZID=America/New_York:20260831T020000
DTSTAMP:20260422T224809
CREATED:20260203T213010Z
LAST-MODIFIED:20260203T213011Z
UID:10014500-1788109200-1788141600@eaglebarwm.com
SUMMARY:SINFUL SUNDAY
DESCRIPTION:SUNDAY\nHappy Hour 5 PM – 9 PM \nCODE Bar Opens 5 PM | Tavern Opens 9 PM \nSINFUL SUNDAYS\nin Main Bar + CODE Bar  | 8 PM – 2 AM \nMusic by: ADORA\nNo Cover
URL:https://eaglebarwm.com/event/sinful_sunday-11-21-4/2026-08-30/
LOCATION:Eagle Wilton Manors\, 2209 WILTON DR\, WILTON MANORS\, FL\, 33305\, United States
CATEGORIES:Weekday Repeating
ATTACH;FMTTYPE=image/jpeg:https://eaglebarwm.com/wp-content/uploads/2026/01/SINFUL-SUNDAYS-ADORA-Square_1080x1080.jpg
END:VEVENT
BEGIN:VEVENT
DTSTART;TZID=America/New_York:20260831T190000
DTEND;TZID=America/New_York:20260901T020000
DTSTAMP:20260422T224809
CREATED:20260311T194047Z
LAST-MODIFIED:20260311T194049Z
UID:10017648-1788202800-1788228000@eaglebarwm.com
SUMMARY:JOCK STRAP NIGHT
DESCRIPTION:Happy Hour 7 PM – 9 PM \nJOCK STRAP NIGHT\nin CODE Bar | 9 PM – 2 AM \n$2.50\nWell Tequila Drinks\n9 PM to 2 AM\nHAPPY HOUR ALL NIGHT\nFor Anyone Wearing\nJock Strap + No Pants*\nNo Cover \n*Happy Hour all Night rules are strictly enforced.\n*Not a requirement to enter.
URL:https://eaglebarwm.com/event/jock_strap_night-2-2-2-2-2-2-2-5-2/2026-08-31/
LOCATION:Eagle Wilton Manors\, 2209 WILTON DR\, WILTON MANORS\, FL\, 33305\, United States
CATEGORIES:Weekday Repeating
ATTACH;FMTTYPE=image/jpeg:https://eaglebarwm.com/wp-content/uploads/2026/01/Mon_NewWeekdays_EWM_design_1080x1080_square.jpg
END:VEVENT
BEGIN:VEVENT
DTSTART;TZID=America/New_York:20260901T190000
DTEND;TZID=America/New_York:20260902T020000
DTSTAMP:20260422T224809
CREATED:20260113T200013Z
LAST-MODIFIED:20260113T200142Z
UID:10014656-1788289200-1788314400@eaglebarwm.com
SUMMARY:HAPPY HOUR ALL NIGHT
DESCRIPTION:HAPPY HOUR ALL NIGHT\nin CODE Bar | 7 PM – 2 AM \nHALF PRICE DRINKS ALL NIGHT\nNo Cover
URL:https://eaglebarwm.com/event/code_tuesday-2-2-2-2-2-2-3-4/2026-09-01/
LOCATION:Eagle Wilton Manors\, 2209 WILTON DR\, WILTON MANORS\, FL\, 33305\, United States
CATEGORIES:Weekday Repeating
ATTACH;FMTTYPE=image/jpeg:https://eaglebarwm.com/wp-content/uploads/2025/08/TUES_NewWeekdays_EWM_design_1080x1080_square.jpg
END:VEVENT
BEGIN:VEVENT
DTSTART;TZID=America/New_York:20260902T190000
DTEND;TZID=America/New_York:20260903T020000
DTSTAMP:20260422T224809
CREATED:20260111T013641Z
LAST-MODIFIED:20260111T013843Z
UID:10016215-1788375600-1788400800@eaglebarwm.com
SUMMARY:UNDERWEAR & SINGLET NIGHT
DESCRIPTION:Happy Hour 7 PM – 9 PM \n UNDERWEAR & SINGLETS NIGHT\nin CODE Bar | 9 PM – 2 AM \n$2.50\nWell Vodka Drinks\n9 PM to 2 AM\nHAPPY HOUR ALL NIGHT\nFor Anyone Wearing\nSinglets or Underwear + No Pants*\nNo Cover \n*Happy Hour all Night rules are strictly enforced.\n*Not a requirement to enter.
URL:https://eaglebarwm.com/event/leather-harness-night-13-3-2-4/2026-09-02/
LOCATION:Eagle Wilton Manors\, 2209 WILTON DR\, WILTON MANORS\, FL\, 33305\, United States
CATEGORIES:Weekday Repeating
ATTACH;FMTTYPE=image/jpeg:https://eaglebarwm.com/wp-content/uploads/2025/09/WEDS_NewWeekdays_EWM_design_1080x1080_square.jpg
END:VEVENT
BEGIN:VEVENT
DTSTART;TZID=America/New_York:20260903T190000
DTEND;TZID=America/New_York:20260903T220000
DTSTAMP:20260422T224809
CREATED:20260127T204011Z
LAST-MODIFIED:20260127T204011Z
UID:10014747-1788462000-1788472800@eaglebarwm.com
SUMMARY:CIGAR SOCIAL
DESCRIPTION:Happy Hour 7 PM – 9 PM \nCODE Bar Opens 7 PM | Tavern Opens 9 PM \nCIGAR SOCIAL\nin Smoking Lounge & Patio | 7 PM – 10 PM
URL:https://eaglebarwm.com/event/cigar-social-3-2-3-3-2-2/2026-09-03/
LOCATION:Eagle Wilton Manors\, 2209 WILTON DR\, WILTON MANORS\, FL\, 33305\, United States
CATEGORIES:Weekday Repeating
ATTACH;FMTTYPE=image/jpeg:https://eaglebarwm.com/wp-content/uploads/2025/06/Thurs1_NewWeekdays_EWM_design_1080x1080_square.jpg
END:VEVENT
BEGIN:VEVENT
DTSTART;TZID=America/New_York:20260903T210000
DTEND;TZID=America/New_York:20260904T020000
DTSTAMP:20260422T224809
CREATED:20260218T205302Z
LAST-MODIFIED:20260218T205303Z
UID:10015954-1788469200-1788487200@eaglebarwm.com
SUMMARY:HARNESS NIGHT
DESCRIPTION:Happy Hour 7 PM – 9 PM \nCODE Bar Opens 7 PM | Tavern Opens 9 PM \nHARNESS NIGHT\nin Main Bar + CODE Bar  | 9 PM – 2 AM \nMusic By: Trevor Oldroyd\nHAPPY HOUR ALL NIGHT\nFor Anyone Wearing\nA Harness or Fetish Gear*\nNo Cover \n*Happy Hour all Night rules are strictly enforced.\n*Not a requirement to enter.
URL:https://eaglebarwm.com/event/edm-night-12-8-3/2026-09-03/
LOCATION:Eagle Wilton Manors\, 2209 WILTON DR\, WILTON MANORS\, FL\, 33305\, United States
CATEGORIES:Weekday Repeating
ATTACH;FMTTYPE=image/jpeg:https://eaglebarwm.com/wp-content/uploads/2026/01/THURS_NewWeekdays_EWM_-TREVOR-1080x1080_square.jpg
END:VEVENT
BEGIN:VEVENT
DTSTART;TZID=America/New_York:20260904T213000
DTEND;TZID=America/New_York:20260905T023000
DTSTAMP:20260422T224809
CREATED:20260218T220929Z
LAST-MODIFIED:20260226T200957Z
UID:10018331-1788557400-1788575400@eaglebarwm.com
SUMMARY:DADDY POP
DESCRIPTION:DADDY POP\nin Bear Cave | 9 PM – 2 AM \nMusic By: Barry Browder\nRugged\, Sexy\, Husky & Hairy Daddies\nwith Pop Music Radio Edits\,\nGuilty Pleasures\,\nand Forgotten Favorites.\nNo Shazam Needed.\nYour Body Remembers the Beat.\nIncluded in Cover
URL:https://eaglebarwm.com/event/daddy-pop-5-3/2026-09-04/
LOCATION:Eagle Wilton Manors\, 2209 WILTON DR\, WILTON MANORS\, FL\, 33305\, United States
ATTACH;FMTTYPE=image/png:https://eaglebarwm.com/wp-content/uploads/2026/02/image0.png
END:VEVENT
BEGIN:VEVENT
DTSTART;TZID=America/New_York:20260905T213000
DTEND;TZID=America/New_York:20260906T023000
DTSTAMP:20260422T224809
CREATED:20260218T221213Z
LAST-MODIFIED:20260218T221213Z
UID:10017136-1788643800-1788661800@eaglebarwm.com
SUMMARY:DADDY POP
DESCRIPTION:DADDY POP\nin Bear Cave | 9 PM – 2 AM \nMusic By: Barry Browder\nRugged\, Sexy\, Husky & Hairy Daddies\nwith Pop Music Radio Edits\,\nGuilty Pleasures\,\nand Forgotten Favorites.\nNo Shazam Needed.\nYour Body Remembers the Beat.\nIncluded in Cover
URL:https://eaglebarwm.com/event/daddy-pop-5-3-2/2026-09-05/
LOCATION:Eagle Wilton Manors\, 2209 WILTON DR\, WILTON MANORS\, FL\, 33305\, United States
ATTACH;FMTTYPE=image/jpeg:https://eaglebarwm.com/wp-content/uploads/2025/12/DADDY-POP_Square_1080x1080.jpg
END:VEVENT
BEGIN:VEVENT
DTSTART;TZID=America/New_York:20260906T170000
DTEND;TZID=America/New_York:20260907T020000
DTSTAMP:20260422T224809
CREATED:20260203T213010Z
LAST-MODIFIED:20260203T213011Z
UID:10014501-1788714000-1788746400@eaglebarwm.com
SUMMARY:SINFUL SUNDAY
DESCRIPTION:SUNDAY\nHappy Hour 5 PM – 9 PM \nCODE Bar Opens 5 PM | Tavern Opens 9 PM \nSINFUL SUNDAYS\nin Main Bar + CODE Bar  | 8 PM – 2 AM \nMusic by: ADORA\nNo Cover
URL:https://eaglebarwm.com/event/sinful_sunday-11-21-4/2026-09-06/
LOCATION:Eagle Wilton Manors\, 2209 WILTON DR\, WILTON MANORS\, FL\, 33305\, United States
CATEGORIES:Weekday Repeating
ATTACH;FMTTYPE=image/jpeg:https://eaglebarwm.com/wp-content/uploads/2026/01/SINFUL-SUNDAYS-ADORA-Square_1080x1080.jpg
END:VEVENT
BEGIN:VEVENT
DTSTART;TZID=America/New_York:20260906T173000
DTEND;TZID=America/New_York:20260906T183000
DTSTAMP:20260422T224809
CREATED:20260226T182838Z
LAST-MODIFIED:20260226T182839Z
UID:10018298-1788715800-1788719400@eaglebarwm.com
SUMMARY:BOOTS ON THE GROUND
DESCRIPTION:SUNDAY\nBOOTS ON THE GROUND\nActivist Collective for the Leather & Kink Community\n5:30pm | in the Bear Cave \nWe’re loud\, proud\, and laced up for liberation.\nBecause our rights aren’t a fetish. They’re fundamental. You can learn more about Boots on the Ground at their website.\n \n  \n*The views expressed at this event are not necessarily those of the staff at Eagle Wilton Manors.
URL:https://eaglebarwm.com/event/boots-on-the-ground-4-2/2026-09-06/
LOCATION:Eagle Wilton Manors\, 2209 WILTON DR\, WILTON MANORS\, FL\, 33305\, United States
CATEGORIES:IncludeInEmail
ATTACH;FMTTYPE=image/png:https://eaglebarwm.com/wp-content/uploads/2026/02/BOOTS-ON-THE-GROUND-NEWSLETTER.png
END:VEVENT
BEGIN:VEVENT
DTSTART;TZID=America/New_York:20260907T190000
DTEND;TZID=America/New_York:20260908T020000
DTSTAMP:20260422T224809
CREATED:20260311T194047Z
LAST-MODIFIED:20260311T194049Z
UID:10017649-1788807600-1788832800@eaglebarwm.com
SUMMARY:JOCK STRAP NIGHT
DESCRIPTION:Happy Hour 7 PM – 9 PM \nJOCK STRAP NIGHT\nin CODE Bar | 9 PM – 2 AM \n$2.50\nWell Tequila Drinks\n9 PM to 2 AM\nHAPPY HOUR ALL NIGHT\nFor Anyone Wearing\nJock Strap + No Pants*\nNo Cover \n*Happy Hour all Night rules are strictly enforced.\n*Not a requirement to enter.
URL:https://eaglebarwm.com/event/jock_strap_night-2-2-2-2-2-2-2-5-2/2026-09-07/
LOCATION:Eagle Wilton Manors\, 2209 WILTON DR\, WILTON MANORS\, FL\, 33305\, United States
CATEGORIES:Weekday Repeating
ATTACH;FMTTYPE=image/jpeg:https://eaglebarwm.com/wp-content/uploads/2026/01/Mon_NewWeekdays_EWM_design_1080x1080_square.jpg
END:VEVENT
BEGIN:VEVENT
DTSTART;TZID=America/New_York:20260908T190000
DTEND;TZID=America/New_York:20260909T020000
DTSTAMP:20260422T224809
CREATED:20260113T200013Z
LAST-MODIFIED:20260113T200142Z
UID:10014657-1788894000-1788919200@eaglebarwm.com
SUMMARY:HAPPY HOUR ALL NIGHT
DESCRIPTION:HAPPY HOUR ALL NIGHT\nin CODE Bar | 7 PM – 2 AM \nHALF PRICE DRINKS ALL NIGHT\nNo Cover
URL:https://eaglebarwm.com/event/code_tuesday-2-2-2-2-2-2-3-4/2026-09-08/
LOCATION:Eagle Wilton Manors\, 2209 WILTON DR\, WILTON MANORS\, FL\, 33305\, United States
CATEGORIES:Weekday Repeating
ATTACH;FMTTYPE=image/jpeg:https://eaglebarwm.com/wp-content/uploads/2025/08/TUES_NewWeekdays_EWM_design_1080x1080_square.jpg
END:VEVENT
BEGIN:VEVENT
DTSTART;TZID=America/New_York:20260908T200000
DTEND;TZID=America/New_York:20260909T000000
DTSTAMP:20260422T224809
CREATED:20251126T175930Z
LAST-MODIFIED:20251209T191054Z
UID:10016504-1788897600-1788912000@eaglebarwm.com
SUMMARY:BARK AFTER DARK
DESCRIPTION:BARK AFTER DARK\nin MAIN Bar | 8 PM – 12 AM \nMOSH AREA w/ PADDING & TOYS\nHALF PRICE DRINKS ALL NIGHT\nNo Cover
URL:https://eaglebarwm.com/event/bark-after-dark-2-2/2026-09-08/
LOCATION:Eagle Wilton Manors\, 2209 WILTON DR\, WILTON MANORS\, FL\, 33305\, United States
CATEGORIES:IncludeInEmail,Monthly Repeating
ATTACH;FMTTYPE=image/jpeg:https://eaglebarwm.com/wp-content/uploads/2025/10/Square_BARK-AFTER-DARK_1080x1080.jpg
END:VEVENT
BEGIN:VEVENT
DTSTART;TZID=America/New_York:20260909T190000
DTEND;TZID=America/New_York:20260910T020000
DTSTAMP:20260422T224809
CREATED:20260111T013641Z
LAST-MODIFIED:20260111T013843Z
UID:10016216-1788980400-1789005600@eaglebarwm.com
SUMMARY:UNDERWEAR & SINGLET NIGHT
DESCRIPTION:Happy Hour 7 PM – 9 PM \n UNDERWEAR & SINGLETS NIGHT\nin CODE Bar | 9 PM – 2 AM \n$2.50\nWell Vodka Drinks\n9 PM to 2 AM\nHAPPY HOUR ALL NIGHT\nFor Anyone Wearing\nSinglets or Underwear + No Pants*\nNo Cover \n*Happy Hour all Night rules are strictly enforced.\n*Not a requirement to enter.
URL:https://eaglebarwm.com/event/leather-harness-night-13-3-2-4/2026-09-09/
LOCATION:Eagle Wilton Manors\, 2209 WILTON DR\, WILTON MANORS\, FL\, 33305\, United States
CATEGORIES:Weekday Repeating
ATTACH;FMTTYPE=image/jpeg:https://eaglebarwm.com/wp-content/uploads/2025/09/WEDS_NewWeekdays_EWM_design_1080x1080_square.jpg
END:VEVENT
BEGIN:VEVENT
DTSTART;TZID=America/New_York:20260910T190000
DTEND;TZID=America/New_York:20260910T220000
DTSTAMP:20260422T224809
CREATED:20260127T204011Z
LAST-MODIFIED:20260127T204011Z
UID:10014748-1789066800-1789077600@eaglebarwm.com
SUMMARY:CIGAR SOCIAL
DESCRIPTION:Happy Hour 7 PM – 9 PM \nCODE Bar Opens 7 PM | Tavern Opens 9 PM \nCIGAR SOCIAL\nin Smoking Lounge & Patio | 7 PM – 10 PM
URL:https://eaglebarwm.com/event/cigar-social-3-2-3-3-2-2/2026-09-10/
LOCATION:Eagle Wilton Manors\, 2209 WILTON DR\, WILTON MANORS\, FL\, 33305\, United States
CATEGORIES:Weekday Repeating
ATTACH;FMTTYPE=image/jpeg:https://eaglebarwm.com/wp-content/uploads/2025/06/Thurs1_NewWeekdays_EWM_design_1080x1080_square.jpg
END:VEVENT
BEGIN:VEVENT
DTSTART;TZID=America/New_York:20260910T210000
DTEND;TZID=America/New_York:20260911T020000
DTSTAMP:20260422T224809
CREATED:20260218T205302Z
LAST-MODIFIED:20260218T205303Z
UID:10015955-1789074000-1789092000@eaglebarwm.com
SUMMARY:HARNESS NIGHT
DESCRIPTION:Happy Hour 7 PM – 9 PM \nCODE Bar Opens 7 PM | Tavern Opens 9 PM \nHARNESS NIGHT\nin Main Bar + CODE Bar  | 9 PM – 2 AM \nMusic By: Trevor Oldroyd\nHAPPY HOUR ALL NIGHT\nFor Anyone Wearing\nA Harness or Fetish Gear*\nNo Cover \n*Happy Hour all Night rules are strictly enforced.\n*Not a requirement to enter.
URL:https://eaglebarwm.com/event/edm-night-12-8-3/2026-09-10/
LOCATION:Eagle Wilton Manors\, 2209 WILTON DR\, WILTON MANORS\, FL\, 33305\, United States
CATEGORIES:Weekday Repeating
ATTACH;FMTTYPE=image/jpeg:https://eaglebarwm.com/wp-content/uploads/2026/01/THURS_NewWeekdays_EWM_-TREVOR-1080x1080_square.jpg
END:VEVENT
BEGIN:VEVENT
DTSTART;TZID=America/New_York:20260911T213000
DTEND;TZID=America/New_York:20260912T023000
DTSTAMP:20260422T224809
CREATED:20260218T220929Z
LAST-MODIFIED:20260226T200957Z
UID:10018332-1789162200-1789180200@eaglebarwm.com
SUMMARY:DADDY POP
DESCRIPTION:DADDY POP\nin Bear Cave | 9 PM – 2 AM \nMusic By: Barry Browder\nRugged\, Sexy\, Husky & Hairy Daddies\nwith Pop Music Radio Edits\,\nGuilty Pleasures\,\nand Forgotten Favorites.\nNo Shazam Needed.\nYour Body Remembers the Beat.\nIncluded in Cover
URL:https://eaglebarwm.com/event/daddy-pop-5-3/2026-09-11/
LOCATION:Eagle Wilton Manors\, 2209 WILTON DR\, WILTON MANORS\, FL\, 33305\, United States
ATTACH;FMTTYPE=image/png:https://eaglebarwm.com/wp-content/uploads/2026/02/image0.png
END:VEVENT
BEGIN:VEVENT
DTSTART;TZID=America/New_York:20260912T213000
DTEND;TZID=America/New_York:20260913T023000
DTSTAMP:20260422T224809
CREATED:20260218T221213Z
LAST-MODIFIED:20260218T221213Z
UID:10017138-1789248600-1789266600@eaglebarwm.com
SUMMARY:DADDY POP
DESCRIPTION:DADDY POP\nin Bear Cave | 9 PM – 2 AM \nMusic By: Barry Browder\nRugged\, Sexy\, Husky & Hairy Daddies\nwith Pop Music Radio Edits\,\nGuilty Pleasures\,\nand Forgotten Favorites.\nNo Shazam Needed.\nYour Body Remembers the Beat.\nIncluded in Cover
URL:https://eaglebarwm.com/event/daddy-pop-5-3-2/2026-09-12/
LOCATION:Eagle Wilton Manors\, 2209 WILTON DR\, WILTON MANORS\, FL\, 33305\, United States
ATTACH;FMTTYPE=image/jpeg:https://eaglebarwm.com/wp-content/uploads/2025/12/DADDY-POP_Square_1080x1080.jpg
END:VEVENT
BEGIN:VEVENT
DTSTART;TZID=America/New_York:20260913T170000
DTEND;TZID=America/New_York:20260914T020000
DTSTAMP:20260422T224809
CREATED:20260203T213010Z
LAST-MODIFIED:20260203T213011Z
UID:10014502-1789318800-1789351200@eaglebarwm.com
SUMMARY:SINFUL SUNDAY
DESCRIPTION:SUNDAY\nHappy Hour 5 PM – 9 PM \nCODE Bar Opens 5 PM | Tavern Opens 9 PM \nSINFUL SUNDAYS\nin Main Bar + CODE Bar  | 8 PM – 2 AM \nMusic by: ADORA\nNo Cover
URL:https://eaglebarwm.com/event/sinful_sunday-11-21-4/2026-09-13/
LOCATION:Eagle Wilton Manors\, 2209 WILTON DR\, WILTON MANORS\, FL\, 33305\, United States
CATEGORIES:Weekday Repeating
ATTACH;FMTTYPE=image/jpeg:https://eaglebarwm.com/wp-content/uploads/2026/01/SINFUL-SUNDAYS-ADORA-Square_1080x1080.jpg
END:VEVENT
BEGIN:VEVENT
DTSTART;TZID=America/New_York:20260914T190000
DTEND;TZID=America/New_York:20260915T020000
DTSTAMP:20260422T224809
CREATED:20260311T194047Z
LAST-MODIFIED:20260311T194049Z
UID:10017650-1789412400-1789437600@eaglebarwm.com
SUMMARY:JOCK STRAP NIGHT
DESCRIPTION:Happy Hour 7 PM – 9 PM \nJOCK STRAP NIGHT\nin CODE Bar | 9 PM – 2 AM \n$2.50\nWell Tequila Drinks\n9 PM to 2 AM\nHAPPY HOUR ALL NIGHT\nFor Anyone Wearing\nJock Strap + No Pants*\nNo Cover \n*Happy Hour all Night rules are strictly enforced.\n*Not a requirement to enter.
URL:https://eaglebarwm.com/event/jock_strap_night-2-2-2-2-2-2-2-5-2/2026-09-14/
LOCATION:Eagle Wilton Manors\, 2209 WILTON DR\, WILTON MANORS\, FL\, 33305\, United States
CATEGORIES:Weekday Repeating
ATTACH;FMTTYPE=image/jpeg:https://eaglebarwm.com/wp-content/uploads/2026/01/Mon_NewWeekdays_EWM_design_1080x1080_square.jpg
END:VEVENT
BEGIN:VEVENT
DTSTART;TZID=America/New_York:20260915T190000
DTEND;TZID=America/New_York:20260916T020000
DTSTAMP:20260422T224809
CREATED:20260113T200013Z
LAST-MODIFIED:20260113T200142Z
UID:10014658-1789498800-1789524000@eaglebarwm.com
SUMMARY:HAPPY HOUR ALL NIGHT
DESCRIPTION:HAPPY HOUR ALL NIGHT\nin CODE Bar | 7 PM – 2 AM \nHALF PRICE DRINKS ALL NIGHT\nNo Cover
URL:https://eaglebarwm.com/event/code_tuesday-2-2-2-2-2-2-3-4/2026-09-15/
LOCATION:Eagle Wilton Manors\, 2209 WILTON DR\, WILTON MANORS\, FL\, 33305\, United States
CATEGORIES:Weekday Repeating
ATTACH;FMTTYPE=image/jpeg:https://eaglebarwm.com/wp-content/uploads/2025/08/TUES_NewWeekdays_EWM_design_1080x1080_square.jpg
END:VEVENT
BEGIN:VEVENT
DTSTART;TZID=America/New_York:20260916T190000
DTEND;TZID=America/New_York:20260917T020000
DTSTAMP:20260422T224809
CREATED:20260111T013641Z
LAST-MODIFIED:20260111T013843Z
UID:10016217-1789585200-1789610400@eaglebarwm.com
SUMMARY:UNDERWEAR & SINGLET NIGHT
DESCRIPTION:Happy Hour 7 PM – 9 PM \n UNDERWEAR & SINGLETS NIGHT\nin CODE Bar | 9 PM – 2 AM \n$2.50\nWell Vodka Drinks\n9 PM to 2 AM\nHAPPY HOUR ALL NIGHT\nFor Anyone Wearing\nSinglets or Underwear + No Pants*\nNo Cover \n*Happy Hour all Night rules are strictly enforced.\n*Not a requirement to enter.
URL:https://eaglebarwm.com/event/leather-harness-night-13-3-2-4/2026-09-16/
LOCATION:Eagle Wilton Manors\, 2209 WILTON DR\, WILTON MANORS\, FL\, 33305\, United States
CATEGORIES:Weekday Repeating
ATTACH;FMTTYPE=image/jpeg:https://eaglebarwm.com/wp-content/uploads/2025/09/WEDS_NewWeekdays_EWM_design_1080x1080_square.jpg
END:VEVENT
BEGIN:VEVENT
DTSTART;TZID=America/New_York:20260917T190000
DTEND;TZID=America/New_York:20260917T220000
DTSTAMP:20260422T224809
CREATED:20260127T204011Z
LAST-MODIFIED:20260127T204011Z
UID:10014749-1789671600-1789682400@eaglebarwm.com
SUMMARY:CIGAR SOCIAL
DESCRIPTION:Happy Hour 7 PM – 9 PM \nCODE Bar Opens 7 PM | Tavern Opens 9 PM \nCIGAR SOCIAL\nin Smoking Lounge & Patio | 7 PM – 10 PM
URL:https://eaglebarwm.com/event/cigar-social-3-2-3-3-2-2/2026-09-17/
LOCATION:Eagle Wilton Manors\, 2209 WILTON DR\, WILTON MANORS\, FL\, 33305\, United States
CATEGORIES:Weekday Repeating
ATTACH;FMTTYPE=image/jpeg:https://eaglebarwm.com/wp-content/uploads/2025/06/Thurs1_NewWeekdays_EWM_design_1080x1080_square.jpg
END:VEVENT
BEGIN:VEVENT
DTSTART;TZID=America/New_York:20260917T210000
DTEND;TZID=America/New_York:20260918T020000
DTSTAMP:20260422T224809
CREATED:20260218T205302Z
LAST-MODIFIED:20260218T205303Z
UID:10015956-1789678800-1789696800@eaglebarwm.com
SUMMARY:HARNESS NIGHT
DESCRIPTION:Happy Hour 7 PM – 9 PM \nCODE Bar Opens 7 PM | Tavern Opens 9 PM \nHARNESS NIGHT\nin Main Bar + CODE Bar  | 9 PM – 2 AM \nMusic By: Trevor Oldroyd\nHAPPY HOUR ALL NIGHT\nFor Anyone Wearing\nA Harness or Fetish Gear*\nNo Cover \n*Happy Hour all Night rules are strictly enforced.\n*Not a requirement to enter.
URL:https://eaglebarwm.com/event/edm-night-12-8-3/2026-09-17/
LOCATION:Eagle Wilton Manors\, 2209 WILTON DR\, WILTON MANORS\, FL\, 33305\, United States
CATEGORIES:Weekday Repeating
ATTACH;FMTTYPE=image/jpeg:https://eaglebarwm.com/wp-content/uploads/2026/01/THURS_NewWeekdays_EWM_-TREVOR-1080x1080_square.jpg
END:VEVENT
END:VCALENDAR