BEGIN:VCALENDAR
VERSION:2.0
PRODID:-//Eagle Wilton Manors - ECPv6.15.17.1//NONSGML v1.0//EN
CALSCALE:GREGORIAN
METHOD:PUBLISH
X-ORIGINAL-URL:https://eaglebarwm.com
X-WR-CALDESC:Events for Eagle Wilton Manors
REFRESH-INTERVAL;VALUE=DURATION:PT1H
X-Robots-Tag:noindex
X-PUBLISHED-TTL:PT1H
BEGIN:VTIMEZONE
TZID:America/New_York
BEGIN:DAYLIGHT
TZOFFSETFROM:-0500
TZOFFSETTO:-0400
TZNAME:EDT
DTSTART:20240310T070000
END:DAYLIGHT
BEGIN:STANDARD
TZOFFSETFROM:-0400
TZOFFSETTO:-0500
TZNAME:EST
DTSTART:20241103T060000
END:STANDARD
BEGIN:DAYLIGHT
TZOFFSETFROM:-0500
TZOFFSETTO:-0400
TZNAME:EDT
DTSTART:20250309T070000
END:DAYLIGHT
BEGIN:STANDARD
TZOFFSETFROM:-0400
TZOFFSETTO:-0500
TZNAME:EST
DTSTART:20251102T060000
END:STANDARD
BEGIN:DAYLIGHT
TZOFFSETFROM:-0500
TZOFFSETTO:-0400
TZNAME:EDT
DTSTART:20260308T070000
END:DAYLIGHT
BEGIN:STANDARD
TZOFFSETFROM:-0400
TZOFFSETTO:-0500
TZNAME:EST
DTSTART:20261101T060000
END:STANDARD
END:VTIMEZONE
BEGIN:VEVENT
DTSTART;TZID=America/New_York:20251229T190000
DTEND;TZID=America/New_York:20251230T020000
DTSTAMP:20260424T050138
CREATED:20251126T185206Z
LAST-MODIFIED:20251229T183145Z
UID:10016520-1767034800-1767060000@eaglebarwm.com
SUMMARY:TINSEL
DESCRIPTION:Happy Hour 7 PM – 9 PM \nCODE Bar Opens 7 PM | Tavern Opens 9 PM \nTINSEL\n\nJOCK STRAP + UNDERWEAR NIGHT\n\nin Main Bar + CODE Bar  | 9 PM – 2 AM \nMUSIC BY: KOYOTE\nGET TICKETS\nFree before 9 PM* | $15 Cover After \nOnly Pre-purchased Tickets & VIP’s Skip the Line \nDress Code Enforced in the Code Bar 11 PM to close \n*No Re-entry with free wrist band after midnight
URL:https://eaglebarwm.com/event/tinsel/
LOCATION:Eagle Wilton Manors\, 2209 WILTON DR\, WILTON MANORS\, FL\, 33305\, United States
CATEGORIES:IncludeInEmail
ATTACH;FMTTYPE=image/jpeg:https://eaglebarwm.com/wp-content/uploads/2025/11/25-12-29-TINSEL_Square_1080x1080.jpg
END:VEVENT
BEGIN:VEVENT
DTSTART;TZID=America/New_York:20251228T170000
DTEND;TZID=America/New_York:20251229T020000
DTSTAMP:20260424T050138
CREATED:20251119T214553Z
LAST-MODIFIED:20251211T215736Z
UID:10014465-1766941200-1766973600@eaglebarwm.com
SUMMARY:HOLIDAY SINFUL SUNDAY
DESCRIPTION:Happy Hour 5 PM – 9 PM \nCODE Bar Opens 5 PM | Tavern Opens 9 PM \nHOLIDAY SINFUL SUNDAY\nin Main Bar + CODE Bar  | 8 PM – 2 AM \nMusic by: ADORA\nGET TICKETS\nFree Before 9pm* | $15 After | $10 Advance** \nOnly Pre-purchased Tickets & VIP’s Skip the Line\nDress Code Enforced in the Code Bar 10 PM to close \n*No Re-entry with free wrist band after midnight   **Plus fees
URL:https://eaglebarwm.com/event/sinful_sunday-11-18/
LOCATION:Eagle Wilton Manors\, 2209 WILTON DR\, WILTON MANORS\, FL\, 33305\, United States
CATEGORIES:Weekday Repeating
ATTACH;FMTTYPE=image/jpeg:https://eaglebarwm.com/wp-content/uploads/2025/11/25-12-28-HOLIDAY-SINFUL-SUNDAYS._Square_1080x1080.jpg
END:VEVENT
BEGIN:VEVENT
DTSTART;TZID=America/New_York:20251227T213000
DTEND;TZID=America/New_York:20251228T023000
DTSTAMP:20260424T050138
CREATED:20251208T040041Z
LAST-MODIFIED:20260105T062032Z
UID:10017064-1766871000-1766889000@eaglebarwm.com
SUMMARY:DADDY POP
DESCRIPTION:DADDY POP\nin Bear Cave | 9 PM – 2 AM \nMusic By: Barry Browder\nRugged\, Sexy\, Husky & Hairy Daddies\nwith Pop Music Radio Edits\,\nGuilty Pleasures\,\nand Forgotten Favorites.\nNo Shazam Needed.\nYour Body Remembers the Beat.\nIncluded in Cover
URL:https://eaglebarwm.com/event/daddy-pop/2025-12-27/
LOCATION:Eagle Wilton Manors\, 2209 WILTON DR\, WILTON MANORS\, FL\, 33305\, United States
ATTACH;FMTTYPE=image/jpeg:https://eaglebarwm.com/wp-content/uploads/2025/12/DADDY-POP_Squarel_1080x1080.jpg
END:VEVENT
BEGIN:VEVENT
DTSTART;TZID=America/New_York:20251227T210000
DTEND;TZID=America/New_York:20251228T030000
DTSTAMP:20260424T050138
CREATED:20251119T194906Z
LAST-MODIFIED:20251218T184201Z
UID:10016510-1766869200-1766890800@eaglebarwm.com
SUMMARY:HOLLY DAZED
DESCRIPTION:Happy Hour 5 PM – 9 PM \nCODE Bar Opens 5 PM \nBear Cave Opens 8 PM \nHOLLY DAZED\nin Main Bar + CODE Bar + Nest | 9 PM – 3 AM \nMusic By: ALEX RAMOS\nDADDY POP\nin Bear Cave | 9 PM – 2 AM \nMusic By: Barry Browder\nGET TICKETS\nFree Before 10pm* | $20 After | $15 Advance** \nDADDY POP Included\nOnly Pre-purchased Tickets & VIP’s Skip the Line\nDress Code Enforced in the Code Bar 10 PM to close \n*No Re-entry with free wrist band after midnight   **Plus fees
URL:https://eaglebarwm.com/event/holly-dazed/
LOCATION:Eagle Wilton Manors\, 2209 WILTON DR\, WILTON MANORS\, FL\, 33305\, United States
CATEGORIES:IncludeInEmail
ATTACH;FMTTYPE=image/jpeg:https://eaglebarwm.com/wp-content/uploads/2025/11/25-12-27_HOLLYDAZED_Square_1080x1080.jpg
END:VEVENT
BEGIN:VEVENT
DTSTART;TZID=America/New_York:20251226T213000
DTEND;TZID=America/New_York:20251227T023000
DTSTAMP:20260424T050138
CREATED:20251208T040041Z
LAST-MODIFIED:20260105T062032Z
UID:10017063-1766784600-1766802600@eaglebarwm.com
SUMMARY:DADDY POP
DESCRIPTION:DADDY POP\nin Bear Cave | 9 PM – 2 AM \nMusic By: Barry Browder\nRugged\, Sexy\, Husky & Hairy Daddies\nwith Pop Music Radio Edits\,\nGuilty Pleasures\,\nand Forgotten Favorites.\nNo Shazam Needed.\nYour Body Remembers the Beat.\nIncluded in Cover
URL:https://eaglebarwm.com/event/daddy-pop/2025-12-26/
LOCATION:Eagle Wilton Manors\, 2209 WILTON DR\, WILTON MANORS\, FL\, 33305\, United States
ATTACH;FMTTYPE=image/jpeg:https://eaglebarwm.com/wp-content/uploads/2025/12/DADDY-POP_Squarel_1080x1080.jpg
END:VEVENT
BEGIN:VEVENT
DTSTART;TZID=America/New_York:20251226T210000
DTEND;TZID=America/New_York:20251227T030000
DTSTAMP:20260424T050138
CREATED:20251125T182108Z
LAST-MODIFIED:20251218T184012Z
UID:10016518-1766782800-1766804400@eaglebarwm.com
SUMMARY:HOLIDAY HEAT
DESCRIPTION:Happy Hour 5 PM – 9 PM \nCODE Bar Opens 5 PM \nBear Cave Opens 8 PM \nHOLIDAY HEAT\nin Main Bar + CODE Bar + Nest | 10 PM – 3 AM \nMusic By: TDON\n\nGET TICKETS\nFree Before 10pm* | $20 After | $15 Advance** \nDADDY POP Included\nOnly Pre-purchased Tickets & VIP’s Skip the Line\nDress Code Enforced in the Code Bar 10 PM to close \n*No Re-entry with free wrist band after midnight   **Plus fees
URL:https://eaglebarwm.com/event/holiday-heat/
LOCATION:Eagle Wilton Manors\, 2209 WILTON DR\, WILTON MANORS\, FL\, 33305\, United States
CATEGORIES:IncludeInEmail
ATTACH;FMTTYPE=image/jpeg:https://eaglebarwm.com/wp-content/uploads/2025/11/25-12-26-HOLIDAY-HEAT_Square_1080x1080.jpg
END:VEVENT
BEGIN:VEVENT
DTSTART;TZID=America/New_York:20251225T210000
DTEND;TZID=America/New_York:20251226T020000
DTSTAMP:20260424T050138
CREATED:20251119T212057Z
LAST-MODIFIED:20251208T212504Z
UID:10015918-1766696400-1766714400@eaglebarwm.com
SUMMARY:JINGLE DANCE
DESCRIPTION:Happy Hour 7 PM – 9 PM \nCODE Bar Opens 7 PM | Tavern Opens 9 PM \nJINGLE DANCE\n\nMusic By: TREVOR OLDROYD\nHARNESS NIGHT\nin Main Bar + CODE Bar  | 9 PM – 2 AM \nHAPPY HOUR ALL NIGHT\nFor Anyone Wearing\na HARNESS OR LEATHER GEAR*\nGET TICKETS\nNo Cover \n*Happy Hour all Night rules are strictly enforced. \n*What qualifies as leather gear is at the discretion of the doorman.. \n*Not a requirement to enter. 
URL:https://eaglebarwm.com/event/edm-night-12-3/
LOCATION:Eagle Wilton Manors\, 2209 WILTON DR\, WILTON MANORS\, FL\, 33305\, United States
CATEGORIES:IncludeInEmail
ATTACH;FMTTYPE=image/jpeg:https://eaglebarwm.com/wp-content/uploads/2025/09/25-12-25-JINGLE-DANCE_DICE.jpg
END:VEVENT
BEGIN:VEVENT
DTSTART;TZID=America/New_York:20251225T190000
DTEND;TZID=America/New_York:20251225T220000
DTSTAMP:20260424T050138
CREATED:20251122T200612Z
LAST-MODIFIED:20260127T201155Z
UID:10014711-1766689200-1766700000@eaglebarwm.com
SUMMARY:CIGAR SOCIAL
DESCRIPTION:Happy Hour 7 PM – 9 PM \nCODE Bar Opens 7 PM | Tavern Opens 9 PM \nCIGAR SOCIAL\nin Smoking Lounge & Patio | 7 PM – 10 PM
URL:https://eaglebarwm.com/event/cigar-social-3-2-3-3-2/2025-12-25/
LOCATION:Eagle Wilton Manors\, 2209 WILTON DR\, WILTON MANORS\, FL\, 33305\, United States
CATEGORIES:Weekday Repeating
ATTACH;FMTTYPE=image/jpeg:https://eaglebarwm.com/wp-content/uploads/2025/06/Thurs1_NewWeekdays_EWM_design_1080x1080_square.jpg
END:VEVENT
BEGIN:VEVENT
DTSTART;TZID=America/New_York:20251225T180000
DTEND;TZID=America/New_York:20251225T200000
DTSTAMP:20260424T050138
CREATED:20260127T193158Z
LAST-MODIFIED:20260127T193158Z
UID:10017944-1766685600-1766692800@eaglebarwm.com
SUMMARY:HOLY CROSS STD TESTING
DESCRIPTION:HOLY CROSS TESTING\nin Bear Cave | 6 PM – 8 PM
URL:https://eaglebarwm.com/event/holy-cross-std-testing/2025-12-25/
LOCATION:Eagle Wilton Manors\, 2209 WILTON DR\, WILTON MANORS\, FL\, 33305\, United States
CATEGORIES:Weekday Repeating
ATTACH;FMTTYPE=image/jpeg:https://eaglebarwm.com/wp-content/uploads/2026/01/01-29-2026-HOLY-CROSS_Square_1080x1080.jpg
END:VEVENT
BEGIN:VEVENT
DTSTART;TZID=America/New_York:20251224T190000
DTEND;TZID=America/New_York:20251225T020000
DTSTAMP:20260424T050138
CREATED:20251119T211121Z
LAST-MODIFIED:20251208T212412Z
UID:10016179-1766602800-1766628000@eaglebarwm.com
SUMMARY:NAUGHTY CHRISTMAS EVE
DESCRIPTION:Happy Hour 7 PM – 9 PM \nCODE Bar Opens 7 PM | Tavern Opens 9 PM \nNAUGHTY\nSINGLETS & UNDERWEAR NIGHT\nin Main Bar + CODE Bar  | 9 PM – 2 AM \nHAPPY HOUR ALL NIGHT\nFor Anyone Wearing\nSINGLETS or UNDERWEAR + NO PANTS*\nGET TICKETS\nNo Cover \n*Happy Hour all Night rules are strictly enforced.\n*Not a requirement to enter. 
URL:https://eaglebarwm.com/event/leather-harness-night-13-2/
LOCATION:Eagle Wilton Manors\, 2209 WILTON DR\, WILTON MANORS\, FL\, 33305\, United States
CATEGORIES:IncludeInEmail
ATTACH;FMTTYPE=image/jpeg:https://eaglebarwm.com/wp-content/uploads/2025/09/25-12-24-NAUGHTY_Square_1080x1080.jpg
END:VEVENT
BEGIN:VEVENT
DTSTART;TZID=America/New_York:20251223T200000
DTEND;TZID=America/New_York:20251224T000000
DTSTAMP:20260424T050138
CREATED:20251028T224520Z
LAST-MODIFIED:20251218T181802Z
UID:10015889-1766520000-1766534400@eaglebarwm.com
SUMMARY:BARK AFTER DARK
DESCRIPTION:BARK AFTER DARK\nin MAIN Bar | 8 PM – 12 AM \nMOSH AREA w/ PADDING & TOYS\nHALF PRICE DRINKS ALL NIGHT\nNo Cover
URL:https://eaglebarwm.com/event/bark-after-dark/2025-12-23/
LOCATION:Eagle Wilton Manors\, 2209 WILTON DR\, WILTON MANORS\, FL\, 33305\, United States
CATEGORIES:IncludeInEmail,Weekday Repeating
ATTACH;FMTTYPE=image/jpeg:https://eaglebarwm.com/wp-content/uploads/2025/10/Square_BARK-AFTER-DARK_1080x1080.jpg
END:VEVENT
BEGIN:VEVENT
DTSTART;TZID=America/New_York:20251223T190000
DTEND;TZID=America/New_York:20251224T020000
DTSTAMP:20260424T050138
CREATED:20251204T211427Z
LAST-MODIFIED:20251210T082638Z
UID:10014620-1766516400-1766541600@eaglebarwm.com
SUMMARY:HAPPY HOUR ALL NIGHT
DESCRIPTION:HAPPY HOUR ALL NIGHT\nin CODE Bar | 7 PM – 2 AM \nHALF PRICE DRINKS ALL NIGHT\nNo Cover
URL:https://eaglebarwm.com/event/code_tuesday-2-2-2-2-2-2-3-3/
LOCATION:Eagle Wilton Manors\, 2209 WILTON DR\, WILTON MANORS\, FL\, 33305\, United States
CATEGORIES:Weekday Repeating
ATTACH;FMTTYPE=image/jpeg:https://eaglebarwm.com/wp-content/uploads/2025/08/TUES_NewWeekdays_EWM_design_1080x1080_square.jpg
END:VEVENT
BEGIN:VEVENT
DTSTART;TZID=America/New_York:20251222T190000
DTEND;TZID=America/New_York:20251223T020000
DTSTAMP:20260424T050138
CREATED:20251204T210848Z
LAST-MODIFIED:20251210T085235Z
UID:10014542-1766430000-1766455200@eaglebarwm.com
SUMMARY:JOCK STRAP NIGHT
DESCRIPTION:Happy Hour 7 PM – 9 PM \nCODE Bar Opens 7 PM | Tavern Opens 9 PM \nJOCK STRAP NIGHT\nin Main Bar + CODE Bar  | 9 PM – 2 AM \nHAPPY HOUR ALL NIGHT\nFor Anyone Wearing\nJock Strap + No Pants*\nNo Cover \n*Happy Hour all Night rules are strictly enforced.\n*Not a requirement to enter.
URL:https://eaglebarwm.com/event/jock_strap_night-2-2-2-2-2-2-2-3/
LOCATION:Eagle Wilton Manors\, 2209 WILTON DR\, WILTON MANORS\, FL\, 33305\, United States
CATEGORIES:Weekday Repeating
ATTACH;FMTTYPE=image/jpeg:https://eaglebarwm.com/wp-content/uploads/2025/08/Mon_NewWeekdays_EWM_design_1080x1080_square.jpg
END:VEVENT
BEGIN:VEVENT
DTSTART;TZID=America/New_York:20251221T170000
DTEND;TZID=America/New_York:20251222T020000
DTSTAMP:20260424T050138
CREATED:20251119T214337Z
LAST-MODIFIED:20251126T182043Z
UID:10014464-1766336400-1766368800@eaglebarwm.com
SUMMARY:SINFUL SUNDAY
DESCRIPTION:SUNDAY\nHappy Hour 5 PM – 9 PM \nCODE Bar Opens 5 PM | Tavern Opens 9 PM \nSINFUL SUNDAYS\nin Main Bar + CODE Bar  | 8 PM – 2 AM \nMusic by: ADORA\nNo Cover
URL:https://eaglebarwm.com/event/sinful_sunday-11-17/
LOCATION:Eagle Wilton Manors\, 2209 WILTON DR\, WILTON MANORS\, FL\, 33305\, United States
CATEGORIES:Weekday Repeating
ATTACH;FMTTYPE=image/jpeg:https://eaglebarwm.com/wp-content/uploads/2025/05/square-SINFUL-SUNDAYS.jpg
END:VEVENT
BEGIN:VEVENT
DTSTART;TZID=America/New_York:20251220T210000
DTEND;TZID=America/New_York:20251221T030000
DTSTAMP:20260424T050138
CREATED:20250910T185606Z
LAST-MODIFIED:20251218T183323Z
UID:10015775-1766264400-1766286000@eaglebarwm.com
SUMMARY:CUSTOMER APPRECIATION HOLIDAY PARTY
DESCRIPTION:Happy Hour 5 PM – 9 PM \nCODE Bar Opens 5 PM \nBear Cave Opens 8 PM \nCUSTOMER APPRECIATION HOLIDAY PARTY\nin Main Bar + CODE Bar + Nest | 9 PM – 3 AM \nMusic By: DREW G\nBEAR HÄUS\nin Bear Cave | 9 PM – 2 AM \nMusic By: Dave S\nGET TICKETS\nFree Before 10pm* | $15 After | $10 Advance** \nDADDY POP Included\nOnly Pre-purchased Tickets & VIP’s Skip the Line\nDress Code Enforced in the Code Bar 10 PM to close \n*No Re-entry with free wrist band after midnight   **Plus fees
URL:https://eaglebarwm.com/event/flw-dominate/
LOCATION:Eagle Wilton Manors\, 2209 WILTON DR\, WILTON MANORS\, FL\, 33305\, United States
CATEGORIES:IncludeInEmail
ATTACH;FMTTYPE=image/jpeg:https://eaglebarwm.com/wp-content/uploads/2025/09/25-12-20_CUST-HOLIDAY-APP_Square_1080x1080.jpg
END:VEVENT
BEGIN:VEVENT
DTSTART;TZID=America/New_York:20251219T213000
DTEND;TZID=America/New_York:20251220T023000
DTSTAMP:20260424T050138
CREATED:20251208T040041Z
LAST-MODIFIED:20260105T062032Z
UID:10017061-1766179800-1766197800@eaglebarwm.com
SUMMARY:DADDY POP
DESCRIPTION:DADDY POP\nin Bear Cave | 9 PM – 2 AM \nMusic By: Barry Browder\nRugged\, Sexy\, Husky & Hairy Daddies\nwith Pop Music Radio Edits\,\nGuilty Pleasures\,\nand Forgotten Favorites.\nNo Shazam Needed.\nYour Body Remembers the Beat.\nIncluded in Cover
URL:https://eaglebarwm.com/event/daddy-pop/2025-12-19/
LOCATION:Eagle Wilton Manors\, 2209 WILTON DR\, WILTON MANORS\, FL\, 33305\, United States
ATTACH;FMTTYPE=image/jpeg:https://eaglebarwm.com/wp-content/uploads/2025/12/DADDY-POP_Squarel_1080x1080.jpg
END:VEVENT
BEGIN:VEVENT
DTSTART;TZID=America/New_York:20251219T210000
DTEND;TZID=America/New_York:20251220T030000
DTSTAMP:20260424T050138
CREATED:20251121T180320Z
LAST-MODIFIED:20251217T050042Z
UID:10016516-1766178000-1766199600@eaglebarwm.com
SUMMARY:QUEER UP!
DESCRIPTION:Happy Hour 5 PM – 9 PM \nCODE Bar Opens 5 PM \nBear Cave Opens 8 PM \nQUEER UP!\nin Main Bar + CODE Bar + Nest | 10 PM – 3 AM \nMusic By: JOE PACHECO\nGET TICKETS\nFree Before 10pm* | $15 After | $10 Advance** \nDADDY POP Included\nOnly Pre-purchased Tickets & VIP’s Skip the Line\nDress Code Enforced in the Code Bar 10 PM to close \n*No Re-entry with free wrist band after midnight   **Plus fees
URL:https://eaglebarwm.com/event/queer-up/
LOCATION:Eagle Wilton Manors\, 2209 WILTON DR\, WILTON MANORS\, FL\, 33305\, United States
CATEGORIES:IncludeInEmail
ATTACH;FMTTYPE=image/jpeg:https://eaglebarwm.com/wp-content/uploads/2025/11/25-12-19-QUEER-UP_Square_1080x1080.jpg
END:VEVENT
BEGIN:VEVENT
DTSTART;TZID=America/New_York:20251218T210000
DTEND;TZID=America/New_York:20251219T020000
DTSTAMP:20260424T050138
CREATED:20251119T214225Z
LAST-MODIFIED:20251210T084745Z
UID:10015917-1766091600-1766109600@eaglebarwm.com
SUMMARY:HARNESS NIGHT
DESCRIPTION:Happy Hour 7 PM – 9 PM \nCODE Bar Opens 7 PM | Tavern Opens 9 PM \nHARNESS NIGHT\nin Main Bar + CODE Bar  | 9 PM – 2 AM \nMusic By: Trevor Oldroyd\nHAPPY HOUR ALL NIGHT\nFor Anyone Wearing\nA Harness or Fetish Gear*\nNo Cover \n*Happy Hour all Night rules are strictly enforced.\n*Not a requirement to enter.
URL:https://eaglebarwm.com/event/edm-night-12-7/
LOCATION:Eagle Wilton Manors\, 2209 WILTON DR\, WILTON MANORS\, FL\, 33305\, United States
ATTACH;FMTTYPE=image/jpeg:https://eaglebarwm.com/wp-content/uploads/2025/09/THURS_NewWeekdays_EWM_design_1080x1080_square.jpg
END:VEVENT
BEGIN:VEVENT
DTSTART;TZID=America/New_York:20251218T190000
DTEND;TZID=America/New_York:20251218T220000
DTSTAMP:20260424T050138
CREATED:20251122T200612Z
LAST-MODIFIED:20260127T201155Z
UID:10014710-1766084400-1766095200@eaglebarwm.com
SUMMARY:CIGAR SOCIAL
DESCRIPTION:Happy Hour 7 PM – 9 PM \nCODE Bar Opens 7 PM | Tavern Opens 9 PM \nCIGAR SOCIAL\nin Smoking Lounge & Patio | 7 PM – 10 PM
URL:https://eaglebarwm.com/event/cigar-social-3-2-3-3-2/2025-12-18/
LOCATION:Eagle Wilton Manors\, 2209 WILTON DR\, WILTON MANORS\, FL\, 33305\, United States
CATEGORIES:Weekday Repeating
ATTACH;FMTTYPE=image/jpeg:https://eaglebarwm.com/wp-content/uploads/2025/06/Thurs1_NewWeekdays_EWM_design_1080x1080_square.jpg
END:VEVENT
BEGIN:VEVENT
DTSTART;TZID=America/New_York:20251218T180000
DTEND;TZID=America/New_York:20251218T200000
DTSTAMP:20260424T050138
CREATED:20260127T193158Z
LAST-MODIFIED:20260127T193158Z
UID:10017943-1766080800-1766088000@eaglebarwm.com
SUMMARY:HOLY CROSS STD TESTING
DESCRIPTION:HOLY CROSS TESTING\nin Bear Cave | 6 PM – 8 PM
URL:https://eaglebarwm.com/event/holy-cross-std-testing/2025-12-18/
LOCATION:Eagle Wilton Manors\, 2209 WILTON DR\, WILTON MANORS\, FL\, 33305\, United States
CATEGORIES:Weekday Repeating
ATTACH;FMTTYPE=image/jpeg:https://eaglebarwm.com/wp-content/uploads/2026/01/01-29-2026-HOLY-CROSS_Square_1080x1080.jpg
END:VEVENT
BEGIN:VEVENT
DTSTART;TZID=America/New_York:20251217T190000
DTEND;TZID=America/New_York:20251218T020000
DTSTAMP:20260424T050138
CREATED:20251204T210526Z
LAST-MODIFIED:20251210T083653Z
UID:10016178-1765998000-1766023200@eaglebarwm.com
SUMMARY:UNDERWEAR & SINGLET NIGHT
DESCRIPTION:Happy Hour 7 PM – 9 PM \nCODE Bar Opens 7 PM | Tavern Opens 9 PM \n UNDERWEAR & SINGLETS NIGHT\nin Main Bar + CODE Bar  | 9 PM – 2 AM \nHAPPY HOUR ALL NIGHT\nFor Anyone Wearing\nSinglets or Underwear + No Pants*\nNo Cover \n*Happy Hour all Night rules are strictly enforced.\n*Not a requirement to enter.
URL:https://eaglebarwm.com/event/leather-harness-night-13-3-2-3/
LOCATION:Eagle Wilton Manors\, 2209 WILTON DR\, WILTON MANORS\, FL\, 33305\, United States
CATEGORIES:Weekday Repeating
ATTACH;FMTTYPE=image/jpeg:https://eaglebarwm.com/wp-content/uploads/2025/09/WEDS_NewWeekdays_EWM_design_1080x1080_square.jpg
END:VEVENT
BEGIN:VEVENT
DTSTART;TZID=America/New_York:20251217T180000
DTEND;TZID=America/New_York:20251217T200000
DTSTAMP:20260424T050138
CREATED:20250309T081526Z
LAST-MODIFIED:20251208T012134Z
UID:10014387-1765994400-1766001600@eaglebarwm.com
SUMMARY:HONEY POT
DESCRIPTION:Happy Hour 5 PM – 9 PM \nCODE Bar Opens 5 PM | Bear Cave Opens 8 PM \nHONEY POT\nin Main Bar + CODE Bar | 9 PM – 3 AM \nBears of South Florida\nHappy Hour Social\n3rd WED Every Month | 7 – 9 pm \n*No Cover
URL:https://eaglebarwm.com/event/bosfl-happy-hour-2/2025-12-17/
LOCATION:Eagle Wilton Manors\, 2209 WILTON DR\, WILTON MANORS\, FL\, 33305\, United States
CATEGORIES:Monthly Repeating
ATTACH;FMTTYPE=image/jpeg:https://eaglebarwm.com/wp-content/uploads/2025/01/square-BoSF-HONEY-POT-w-Snaks.jpg
END:VEVENT
BEGIN:VEVENT
DTSTART;TZID=America/New_York:20251216T190000
DTEND;TZID=America/New_York:20251217T020000
DTSTAMP:20260424T050138
CREATED:20251125T201133Z
LAST-MODIFIED:20251210T081825Z
UID:10014619-1765911600-1765936800@eaglebarwm.com
SUMMARY:CLOSED
DESCRIPTION:WE WILL BE CLOSED TUESDAY DECEMBER 16th\nFor a Private Party
URL:https://eaglebarwm.com/event/code_tuesday-2-2-2-2-2-2-2/
LOCATION:Eagle Wilton Manors\, 2209 WILTON DR\, WILTON MANORS\, FL\, 33305\, United States
CATEGORIES:Weekday Repeating
END:VEVENT
BEGIN:VEVENT
DTSTART;TZID=America/New_York:20251215T190000
DTEND;TZID=America/New_York:20251216T020000
DTSTAMP:20260424T050138
CREATED:20251204T212153Z
LAST-MODIFIED:20251210T085106Z
UID:10014541-1765825200-1765850400@eaglebarwm.com
SUMMARY:JOCK STRAP NIGHT
DESCRIPTION:Happy Hour 7 PM – 9 PM \nCODE Bar Opens 7 PM | Tavern Opens 9 PM \nJOCK STRAP NIGHT\nin Main Bar + CODE Bar  | 9 PM – 2 AM \nHAPPY HOUR ALL NIGHT\nFor Anyone Wearing\nJock Strap + No Pants*\nNo Cover \n*Happy Hour all Night rules are strictly enforced.\n*Not a requirement to enter.
URL:https://eaglebarwm.com/event/jock_strap_night-2-2-2-2-2-2-2-4/
LOCATION:Eagle Wilton Manors\, 2209 WILTON DR\, WILTON MANORS\, FL\, 33305\, United States
CATEGORIES:Weekday Repeating
ATTACH;FMTTYPE=image/jpeg:https://eaglebarwm.com/wp-content/uploads/2025/08/Mon_NewWeekdays_EWM_design_1080x1080_square.jpg
END:VEVENT
BEGIN:VEVENT
DTSTART;TZID=America/New_York:20251214T170000
DTEND;TZID=America/New_York:20251215T020000
DTSTAMP:20260424T050138
CREATED:20251119T214120Z
LAST-MODIFIED:20251208T012319Z
UID:10014463-1765731600-1765764000@eaglebarwm.com
SUMMARY:SINFUL SUNDAY
DESCRIPTION:Happy Hour 5 PM – 9 PM \nCODE Bar Opens 5 PM | Tavern Opens 9 PM \nSINFUL SUNDAYS\nin Main Bar + CODE Bar  | 8 PM – 2 AM \nMusic by: ADORA\nNo Cover
URL:https://eaglebarwm.com/event/sinful_sunday-11-16/
LOCATION:Eagle Wilton Manors\, 2209 WILTON DR\, WILTON MANORS\, FL\, 33305\, United States
CATEGORIES:Weekday Repeating
ATTACH;FMTTYPE=image/jpeg:https://eaglebarwm.com/wp-content/uploads/2025/05/square-SINFUL-SUNDAYS.jpg
END:VEVENT
BEGIN:VEVENT
DTSTART;TZID=America/New_York:20251213T210000
DTEND;TZID=America/New_York:20251214T030000
DTSTAMP:20260424T050138
CREATED:20251119T204648Z
LAST-MODIFIED:20251210T082136Z
UID:10016513-1765659600-1765681200@eaglebarwm.com
SUMMARY:SLAY BELL BALL
DESCRIPTION:Happy Hour 5 PM – 9 PM \nCODE Bar Opens 5 PM \nBear Cave Opens 8 PM \nSLAY BELL BALL\nin Main Bar + CODE Bar + Nest + Bear Cave | 9 PM – 3 AM \nMusic By: MOHAMMAD\nBear Häus\nin Bear Cave | 9:30 PM – 2 AM \nMusic By: Sinclair\nGET TICKETS\nFree Before 10pm* | $15 After | $10 Advance** \nOnly Pre-purchased Tickets & VIP’s Skip the Line\nDress Code Enforced in the Code Bar 10 PM to close \n*No Re-entry with free wrist band after midnight   **Plus fees
URL:https://eaglebarwm.com/event/slay-bell-ball/
LOCATION:Eagle Wilton Manors\, 2209 WILTON DR\, WILTON MANORS\, FL\, 33305\, United States
CATEGORIES:IncludeInEmail
ATTACH;FMTTYPE=image/jpeg:https://eaglebarwm.com/wp-content/uploads/2025/11/25-12-13-SLAY-BELL-BALL_Square_1080x1080.jpg
END:VEVENT
BEGIN:VEVENT
DTSTART;TZID=America/New_York:20251213T210000
DTEND;TZID=America/New_York:20251214T000000
DTSTAMP:20260424T050138
CREATED:20251126T181617Z
LAST-MODIFIED:20251208T012306Z
UID:10014315-1765659600-1765670400@eaglebarwm.com
SUMMARY:ONYX Bar Night
DESCRIPTION:ONYX DEEP SOUTH\nBAR NIGHT\nin Bear Cave | 9 PM – 12 AM \nSecond Saturday of Every Month
URL:https://eaglebarwm.com/event/onyx-bar-night-3-3/2025-12-13/
LOCATION:Eagle Wilton Manors\, 2209 WILTON DR\, WILTON MANORS\, FL\, 33305\, United States
CATEGORIES:Monthly Repeating
ATTACH;FMTTYPE=image/png:https://eaglebarwm.com/wp-content/uploads/2025/06/onyx.png
END:VEVENT
BEGIN:VEVENT
DTSTART;TZID=America/New_York:20251212T213000
DTEND;TZID=America/New_York:20251213T023000
DTSTAMP:20260424T050138
CREATED:20251208T040041Z
LAST-MODIFIED:20260105T062032Z
UID:10017060-1765575000-1765593000@eaglebarwm.com
SUMMARY:DADDY POP
DESCRIPTION:DADDY POP\nin Bear Cave | 9 PM – 2 AM \nMusic By: Barry Browder\nRugged\, Sexy\, Husky & Hairy Daddies\nwith Pop Music Radio Edits\,\nGuilty Pleasures\,\nand Forgotten Favorites.\nNo Shazam Needed.\nYour Body Remembers the Beat.\nIncluded in Cover
URL:https://eaglebarwm.com/event/daddy-pop/2025-12-12/
LOCATION:Eagle Wilton Manors\, 2209 WILTON DR\, WILTON MANORS\, FL\, 33305\, United States
ATTACH;FMTTYPE=image/jpeg:https://eaglebarwm.com/wp-content/uploads/2025/12/DADDY-POP_Squarel_1080x1080.jpg
END:VEVENT
BEGIN:VEVENT
DTSTART;TZID=America/New_York:20251212T210000
DTEND;TZID=America/New_York:20251213T030000
DTSTAMP:20260424T050138
CREATED:20251118T212549Z
LAST-MODIFIED:20251210T101123Z
UID:10016509-1765573200-1765594800@eaglebarwm.com
SUMMARY:CANDY LAND
DESCRIPTION:Happy Hour 5 PM – 9 PM \nCODE Bar Opens 5 PM \nBear Cave Opens 8 PM \nCANDY LAND\nin Main Bar + CODE Bar + Nest + Bear Cave | 9 PM – 3 AM \nMusic By: NITRX\nGET TICKETS\nFree Before 10pm* | $15 After | $10 Advance** \nDADDY POP Included\nOnly Pre-purchased Tickets & VIP’s Skip the Line\nDress Code Enforced in the Code Bar 10 PM to close \n*No Re-entry with free wrist band after midnight   **Plus fees
URL:https://eaglebarwm.com/event/candy-land/
LOCATION:Eagle Wilton Manors\, 2209 WILTON DR\, WILTON MANORS\, FL\, 33305\, United States
CATEGORIES:IncludeInEmail
ATTACH;FMTTYPE=image/jpeg:https://eaglebarwm.com/wp-content/uploads/2025/11/251212CANDY-LAND_Square_1080x1080.jpg
END:VEVENT
BEGIN:VEVENT
DTSTART;TZID=America/New_York:20251211T210000
DTEND;TZID=America/New_York:20251212T020000
DTSTAMP:20260424T050138
CREATED:20251119T214025Z
LAST-MODIFIED:20251210T084615Z
UID:10015916-1765486800-1765504800@eaglebarwm.com
SUMMARY:HARNESS NIGHT
DESCRIPTION:Happy Hour 7 PM – 9 PM \nCODE Bar Opens 7 PM | Tavern Opens 9 PM \nHARNESS NIGHT\nin Main Bar + CODE Bar  | 9 PM – 2 AM \nMusic By: Trevor Oldroyd\nHAPPY HOUR ALL NIGHT\nFor Anyone Wearing\nA Harness or Fetish Gear*\nNo Cover \n*Happy Hour all Night rules are strictly enforced.\n*Not a requirement to enter.
URL:https://eaglebarwm.com/event/edm-night-12-6/
LOCATION:Eagle Wilton Manors\, 2209 WILTON DR\, WILTON MANORS\, FL\, 33305\, United States
ATTACH;FMTTYPE=image/jpeg:https://eaglebarwm.com/wp-content/uploads/2025/09/THURS_NewWeekdays_EWM_design_1080x1080_square.jpg
END:VEVENT
END:VCALENDAR