BEGIN:VCALENDAR
VERSION:2.0
PRODID:-//Eagle Wilton Manors - ECPv6.15.17.1//NONSGML v1.0//EN
CALSCALE:GREGORIAN
METHOD:PUBLISH
X-WR-CALNAME:Eagle Wilton Manors
X-ORIGINAL-URL:https://eaglebarwm.com
X-WR-CALDESC:Events for Eagle Wilton Manors
REFRESH-INTERVAL;VALUE=DURATION:PT1H
X-Robots-Tag:noindex
X-PUBLISHED-TTL:PT1H
BEGIN:VTIMEZONE
TZID:America/New_York
BEGIN:DAYLIGHT
TZOFFSETFROM:-0500
TZOFFSETTO:-0400
TZNAME:EDT
DTSTART:20240310T070000
END:DAYLIGHT
BEGIN:STANDARD
TZOFFSETFROM:-0400
TZOFFSETTO:-0500
TZNAME:EST
DTSTART:20241103T060000
END:STANDARD
BEGIN:DAYLIGHT
TZOFFSETFROM:-0500
TZOFFSETTO:-0400
TZNAME:EDT
DTSTART:20250309T070000
END:DAYLIGHT
BEGIN:STANDARD
TZOFFSETFROM:-0400
TZOFFSETTO:-0500
TZNAME:EST
DTSTART:20251102T060000
END:STANDARD
BEGIN:DAYLIGHT
TZOFFSETFROM:-0500
TZOFFSETTO:-0400
TZNAME:EDT
DTSTART:20260308T070000
END:DAYLIGHT
BEGIN:STANDARD
TZOFFSETFROM:-0400
TZOFFSETTO:-0500
TZNAME:EST
DTSTART:20261101T060000
END:STANDARD
END:VTIMEZONE
BEGIN:VEVENT
DTSTART;TZID=America/New_York:20251217T190000
DTEND;TZID=America/New_York:20251218T020000
DTSTAMP:20260424T083211
CREATED:20251204T210526Z
LAST-MODIFIED:20251210T083653Z
UID:10016178-1765998000-1766023200@eaglebarwm.com
SUMMARY:UNDERWEAR & SINGLET NIGHT
DESCRIPTION:Happy Hour 7 PM – 9 PM \nCODE Bar Opens 7 PM | Tavern Opens 9 PM \n UNDERWEAR & SINGLETS NIGHT\nin Main Bar + CODE Bar  | 9 PM – 2 AM \nHAPPY HOUR ALL NIGHT\nFor Anyone Wearing\nSinglets or Underwear + No Pants*\nNo Cover \n*Happy Hour all Night rules are strictly enforced.\n*Not a requirement to enter.
URL:https://eaglebarwm.com/event/leather-harness-night-13-3-2-3/
LOCATION:Eagle Wilton Manors\, 2209 WILTON DR\, WILTON MANORS\, FL\, 33305\, United States
CATEGORIES:Weekday Repeating
ATTACH;FMTTYPE=image/jpeg:https://eaglebarwm.com/wp-content/uploads/2025/09/WEDS_NewWeekdays_EWM_design_1080x1080_square.jpg
END:VEVENT
BEGIN:VEVENT
DTSTART;TZID=America/New_York:20251217T180000
DTEND;TZID=America/New_York:20251217T200000
DTSTAMP:20260424T083211
CREATED:20250309T081526Z
LAST-MODIFIED:20251208T012134Z
UID:10014387-1765994400-1766001600@eaglebarwm.com
SUMMARY:HONEY POT
DESCRIPTION:Happy Hour 5 PM – 9 PM \nCODE Bar Opens 5 PM | Bear Cave Opens 8 PM \nHONEY POT\nin Main Bar + CODE Bar | 9 PM – 3 AM \nBears of South Florida\nHappy Hour Social\n3rd WED Every Month | 7 – 9 pm \n*No Cover
URL:https://eaglebarwm.com/event/bosfl-happy-hour-2/2025-12-17/
LOCATION:Eagle Wilton Manors\, 2209 WILTON DR\, WILTON MANORS\, FL\, 33305\, United States
CATEGORIES:Monthly Repeating
ATTACH;FMTTYPE=image/jpeg:https://eaglebarwm.com/wp-content/uploads/2025/01/square-BoSF-HONEY-POT-w-Snaks.jpg
END:VEVENT
BEGIN:VEVENT
DTSTART;TZID=America/New_York:20251216T190000
DTEND;TZID=America/New_York:20251217T020000
DTSTAMP:20260424T083211
CREATED:20251125T201133Z
LAST-MODIFIED:20251210T081825Z
UID:10014619-1765911600-1765936800@eaglebarwm.com
SUMMARY:CLOSED
DESCRIPTION:WE WILL BE CLOSED TUESDAY DECEMBER 16th\nFor a Private Party
URL:https://eaglebarwm.com/event/code_tuesday-2-2-2-2-2-2-2/
LOCATION:Eagle Wilton Manors\, 2209 WILTON DR\, WILTON MANORS\, FL\, 33305\, United States
CATEGORIES:Weekday Repeating
END:VEVENT
BEGIN:VEVENT
DTSTART;TZID=America/New_York:20251215T190000
DTEND;TZID=America/New_York:20251216T020000
DTSTAMP:20260424T083211
CREATED:20251204T212153Z
LAST-MODIFIED:20251210T085106Z
UID:10014541-1765825200-1765850400@eaglebarwm.com
SUMMARY:JOCK STRAP NIGHT
DESCRIPTION:Happy Hour 7 PM – 9 PM \nCODE Bar Opens 7 PM | Tavern Opens 9 PM \nJOCK STRAP NIGHT\nin Main Bar + CODE Bar  | 9 PM – 2 AM \nHAPPY HOUR ALL NIGHT\nFor Anyone Wearing\nJock Strap + No Pants*\nNo Cover \n*Happy Hour all Night rules are strictly enforced.\n*Not a requirement to enter.
URL:https://eaglebarwm.com/event/jock_strap_night-2-2-2-2-2-2-2-4/
LOCATION:Eagle Wilton Manors\, 2209 WILTON DR\, WILTON MANORS\, FL\, 33305\, United States
CATEGORIES:Weekday Repeating
ATTACH;FMTTYPE=image/jpeg:https://eaglebarwm.com/wp-content/uploads/2025/08/Mon_NewWeekdays_EWM_design_1080x1080_square.jpg
END:VEVENT
BEGIN:VEVENT
DTSTART;TZID=America/New_York:20251214T170000
DTEND;TZID=America/New_York:20251215T020000
DTSTAMP:20260424T083211
CREATED:20251119T214120Z
LAST-MODIFIED:20251208T012319Z
UID:10014463-1765731600-1765764000@eaglebarwm.com
SUMMARY:SINFUL SUNDAY
DESCRIPTION:Happy Hour 5 PM – 9 PM \nCODE Bar Opens 5 PM | Tavern Opens 9 PM \nSINFUL SUNDAYS\nin Main Bar + CODE Bar  | 8 PM – 2 AM \nMusic by: ADORA\nNo Cover
URL:https://eaglebarwm.com/event/sinful_sunday-11-16/
LOCATION:Eagle Wilton Manors\, 2209 WILTON DR\, WILTON MANORS\, FL\, 33305\, United States
CATEGORIES:Weekday Repeating
ATTACH;FMTTYPE=image/jpeg:https://eaglebarwm.com/wp-content/uploads/2025/05/square-SINFUL-SUNDAYS.jpg
END:VEVENT
BEGIN:VEVENT
DTSTART;TZID=America/New_York:20251213T210000
DTEND;TZID=America/New_York:20251214T030000
DTSTAMP:20260424T083211
CREATED:20251119T204648Z
LAST-MODIFIED:20251210T082136Z
UID:10016513-1765659600-1765681200@eaglebarwm.com
SUMMARY:SLAY BELL BALL
DESCRIPTION:Happy Hour 5 PM – 9 PM \nCODE Bar Opens 5 PM \nBear Cave Opens 8 PM \nSLAY BELL BALL\nin Main Bar + CODE Bar + Nest + Bear Cave | 9 PM – 3 AM \nMusic By: MOHAMMAD\nBear Häus\nin Bear Cave | 9:30 PM – 2 AM \nMusic By: Sinclair\nGET TICKETS\nFree Before 10pm* | $15 After | $10 Advance** \nOnly Pre-purchased Tickets & VIP’s Skip the Line\nDress Code Enforced in the Code Bar 10 PM to close \n*No Re-entry with free wrist band after midnight   **Plus fees
URL:https://eaglebarwm.com/event/slay-bell-ball/
LOCATION:Eagle Wilton Manors\, 2209 WILTON DR\, WILTON MANORS\, FL\, 33305\, United States
CATEGORIES:IncludeInEmail
ATTACH;FMTTYPE=image/jpeg:https://eaglebarwm.com/wp-content/uploads/2025/11/25-12-13-SLAY-BELL-BALL_Square_1080x1080.jpg
END:VEVENT
BEGIN:VEVENT
DTSTART;TZID=America/New_York:20251213T210000
DTEND;TZID=America/New_York:20251214T000000
DTSTAMP:20260424T083211
CREATED:20251126T181617Z
LAST-MODIFIED:20251208T012306Z
UID:10014315-1765659600-1765670400@eaglebarwm.com
SUMMARY:ONYX Bar Night
DESCRIPTION:ONYX DEEP SOUTH\nBAR NIGHT\nin Bear Cave | 9 PM – 12 AM \nSecond Saturday of Every Month
URL:https://eaglebarwm.com/event/onyx-bar-night-3-3/2025-12-13/
LOCATION:Eagle Wilton Manors\, 2209 WILTON DR\, WILTON MANORS\, FL\, 33305\, United States
CATEGORIES:Monthly Repeating
ATTACH;FMTTYPE=image/png:https://eaglebarwm.com/wp-content/uploads/2025/06/onyx.png
END:VEVENT
BEGIN:VEVENT
DTSTART;TZID=America/New_York:20251212T213000
DTEND;TZID=America/New_York:20251213T023000
DTSTAMP:20260424T083211
CREATED:20251208T040041Z
LAST-MODIFIED:20260105T062032Z
UID:10017060-1765575000-1765593000@eaglebarwm.com
SUMMARY:DADDY POP
DESCRIPTION:DADDY POP\nin Bear Cave | 9 PM – 2 AM \nMusic By: Barry Browder\nRugged\, Sexy\, Husky & Hairy Daddies\nwith Pop Music Radio Edits\,\nGuilty Pleasures\,\nand Forgotten Favorites.\nNo Shazam Needed.\nYour Body Remembers the Beat.\nIncluded in Cover
URL:https://eaglebarwm.com/event/daddy-pop/2025-12-12/
LOCATION:Eagle Wilton Manors\, 2209 WILTON DR\, WILTON MANORS\, FL\, 33305\, United States
ATTACH;FMTTYPE=image/jpeg:https://eaglebarwm.com/wp-content/uploads/2025/12/DADDY-POP_Squarel_1080x1080.jpg
END:VEVENT
BEGIN:VEVENT
DTSTART;TZID=America/New_York:20251212T210000
DTEND;TZID=America/New_York:20251213T030000
DTSTAMP:20260424T083211
CREATED:20251118T212549Z
LAST-MODIFIED:20251210T101123Z
UID:10016509-1765573200-1765594800@eaglebarwm.com
SUMMARY:CANDY LAND
DESCRIPTION:Happy Hour 5 PM – 9 PM \nCODE Bar Opens 5 PM \nBear Cave Opens 8 PM \nCANDY LAND\nin Main Bar + CODE Bar + Nest + Bear Cave | 9 PM – 3 AM \nMusic By: NITRX\nGET TICKETS\nFree Before 10pm* | $15 After | $10 Advance** \nDADDY POP Included\nOnly Pre-purchased Tickets & VIP’s Skip the Line\nDress Code Enforced in the Code Bar 10 PM to close \n*No Re-entry with free wrist band after midnight   **Plus fees
URL:https://eaglebarwm.com/event/candy-land/
LOCATION:Eagle Wilton Manors\, 2209 WILTON DR\, WILTON MANORS\, FL\, 33305\, United States
CATEGORIES:IncludeInEmail
ATTACH;FMTTYPE=image/jpeg:https://eaglebarwm.com/wp-content/uploads/2025/11/251212CANDY-LAND_Square_1080x1080.jpg
END:VEVENT
BEGIN:VEVENT
DTSTART;TZID=America/New_York:20251211T210000
DTEND;TZID=America/New_York:20251212T020000
DTSTAMP:20260424T083211
CREATED:20251119T214025Z
LAST-MODIFIED:20251210T084615Z
UID:10015916-1765486800-1765504800@eaglebarwm.com
SUMMARY:HARNESS NIGHT
DESCRIPTION:Happy Hour 7 PM – 9 PM \nCODE Bar Opens 7 PM | Tavern Opens 9 PM \nHARNESS NIGHT\nin Main Bar + CODE Bar  | 9 PM – 2 AM \nMusic By: Trevor Oldroyd\nHAPPY HOUR ALL NIGHT\nFor Anyone Wearing\nA Harness or Fetish Gear*\nNo Cover \n*Happy Hour all Night rules are strictly enforced.\n*Not a requirement to enter.
URL:https://eaglebarwm.com/event/edm-night-12-6/
LOCATION:Eagle Wilton Manors\, 2209 WILTON DR\, WILTON MANORS\, FL\, 33305\, United States
ATTACH;FMTTYPE=image/jpeg:https://eaglebarwm.com/wp-content/uploads/2025/09/THURS_NewWeekdays_EWM_design_1080x1080_square.jpg
END:VEVENT
BEGIN:VEVENT
DTSTART;TZID=America/New_York:20251211T190000
DTEND;TZID=America/New_York:20251211T220000
DTSTAMP:20260424T083211
CREATED:20251122T200612Z
LAST-MODIFIED:20260127T201155Z
UID:10014709-1765479600-1765490400@eaglebarwm.com
SUMMARY:CIGAR SOCIAL
DESCRIPTION:Happy Hour 7 PM – 9 PM \nCODE Bar Opens 7 PM | Tavern Opens 9 PM \nCIGAR SOCIAL\nin Smoking Lounge & Patio | 7 PM – 10 PM
URL:https://eaglebarwm.com/event/cigar-social-3-2-3-3-2/2025-12-11/
LOCATION:Eagle Wilton Manors\, 2209 WILTON DR\, WILTON MANORS\, FL\, 33305\, United States
CATEGORIES:Weekday Repeating
ATTACH;FMTTYPE=image/jpeg:https://eaglebarwm.com/wp-content/uploads/2025/06/Thurs1_NewWeekdays_EWM_design_1080x1080_square.jpg
END:VEVENT
BEGIN:VEVENT
DTSTART;TZID=America/New_York:20251211T180000
DTEND;TZID=America/New_York:20251211T200000
DTSTAMP:20260424T083211
CREATED:20260127T193158Z
LAST-MODIFIED:20260127T193158Z
UID:10017942-1765476000-1765483200@eaglebarwm.com
SUMMARY:HOLY CROSS STD TESTING
DESCRIPTION:HOLY CROSS TESTING\nin Bear Cave | 6 PM – 8 PM
URL:https://eaglebarwm.com/event/holy-cross-std-testing/2025-12-11/
LOCATION:Eagle Wilton Manors\, 2209 WILTON DR\, WILTON MANORS\, FL\, 33305\, United States
CATEGORIES:Weekday Repeating
ATTACH;FMTTYPE=image/jpeg:https://eaglebarwm.com/wp-content/uploads/2026/01/01-29-2026-HOLY-CROSS_Square_1080x1080.jpg
END:VEVENT
BEGIN:VEVENT
DTSTART;TZID=America/New_York:20251210T190000
DTEND;TZID=America/New_York:20251211T020000
DTSTAMP:20260424T083211
CREATED:20251204T210016Z
LAST-MODIFIED:20251210T083622Z
UID:10016177-1765393200-1765418400@eaglebarwm.com
SUMMARY:UNDERWEAR & SINGLET NIGHT
DESCRIPTION:Happy Hour 7 PM – 9 PM \nCODE Bar Opens 7 PM | Tavern Opens 9 PM \n UNDERWEAR & SINGLETS NIGHT\nin Main Bar + CODE Bar  | 9 PM – 2 AM \nHAPPY HOUR ALL NIGHT\nFor Anyone Wearing\nSinglets or Underwear + No Pants*\nNo Cover \n*Happy Hour all Night rules are strictly enforced.\n*Not a requirement to enter.
URL:https://eaglebarwm.com/event/leather-harness-night-13-3-2-2/
LOCATION:Eagle Wilton Manors\, 2209 WILTON DR\, WILTON MANORS\, FL\, 33305\, United States
CATEGORIES:Weekday Repeating
ATTACH;FMTTYPE=image/jpeg:https://eaglebarwm.com/wp-content/uploads/2025/09/WEDS_NewWeekdays_EWM_design_1080x1080_square.jpg
END:VEVENT
BEGIN:VEVENT
DTSTART;TZID=America/New_York:20251209T200000
DTEND;TZID=America/New_York:20251210T000000
DTSTAMP:20260424T083211
CREATED:20251126T175930Z
LAST-MODIFIED:20251209T191054Z
UID:10016495-1765310400-1765324800@eaglebarwm.com
SUMMARY:BARK AFTER DARK
DESCRIPTION:BARK AFTER DARK\nin MAIN Bar | 8 PM – 12 AM \nMOSH AREA w/ PADDING & TOYS\nHALF PRICE DRINKS ALL NIGHT\nNo Cover
URL:https://eaglebarwm.com/event/bark-after-dark-2-2/2025-12-09/
LOCATION:Eagle Wilton Manors\, 2209 WILTON DR\, WILTON MANORS\, FL\, 33305\, United States
CATEGORIES:IncludeInEmail,Monthly Repeating
ATTACH;FMTTYPE=image/jpeg:https://eaglebarwm.com/wp-content/uploads/2025/10/Square_BARK-AFTER-DARK_1080x1080.jpg
END:VEVENT
BEGIN:VEVENT
DTSTART;TZID=America/New_York:20251209T190000
DTEND;TZID=America/New_York:20251210T020000
DTSTAMP:20260424T083211
CREATED:20251204T205806Z
LAST-MODIFIED:20251210T082603Z
UID:10014618-1765306800-1765332000@eaglebarwm.com
SUMMARY:HAPPY HOUR ALL NIGHT
DESCRIPTION:HAPPY HOUR ALL NIGHT\nin CODE Bar | 7 PM – 2 AM \nHALF PRICE DRINKS ALL NIGHT\nNo Cover
URL:https://eaglebarwm.com/event/code_tuesday-2-2-2-2-2-2-3-2/
LOCATION:Eagle Wilton Manors\, 2209 WILTON DR\, WILTON MANORS\, FL\, 33305\, United States
CATEGORIES:Weekday Repeating
ATTACH;FMTTYPE=image/jpeg:https://eaglebarwm.com/wp-content/uploads/2025/08/TUES_NewWeekdays_EWM_design_1080x1080_square.jpg
END:VEVENT
BEGIN:VEVENT
DTSTART;TZID=America/New_York:20251208T190000
DTEND;TZID=America/New_York:20251209T020000
DTSTAMP:20260424T083211
CREATED:20251126T180154Z
LAST-MODIFIED:20260111T013815Z
UID:10014540-1765220400-1765245600@eaglebarwm.com
SUMMARY:JOCK STRAP NIGHT
DESCRIPTION:Happy Hour 7 PM – 9 PM \nJOCK STRAP NIGHT\nin CODE Bar | 9 PM – 2 AM \n$2.50\nWell Vodka Drinks\n9 PM to 2 AM\nHAPPY HOUR ALL NIGHT\nFor Anyone Wearing\nJock Strap + No Pants*\nNo Cover \n*Happy Hour all Night rules are strictly enforced.\n*Not a requirement to enter.
URL:https://eaglebarwm.com/event/jock_strap_night-2-2-2-2-2-2-2/2025-12-08/
LOCATION:Eagle Wilton Manors\, 2209 WILTON DR\, WILTON MANORS\, FL\, 33305\, United States
CATEGORIES:Weekday Repeating
ATTACH;FMTTYPE=image/jpeg:https://eaglebarwm.com/wp-content/uploads/2025/08/Mon_NewWeekdays_EWM_design_1080x1080_square.jpg
END:VEVENT
BEGIN:VEVENT
DTSTART;TZID=America/New_York:20251207T170000
DTEND;TZID=America/New_York:20251208T020000
DTSTAMP:20260424T083211
CREATED:20251119T213902Z
LAST-MODIFIED:20251126T181010Z
UID:10014462-1765126800-1765159200@eaglebarwm.com
SUMMARY:SINFUL SUNDAY
DESCRIPTION:SUNDAY\nHappy Hour 5 PM – 9 PM \nCODE Bar Opens 5 PM | Tavern Opens 9 PM \nSINFUL SUNDAYS\nin Main Bar + CODE Bar  | 8 PM – 2 AM \nMusic by: ADORA\nNo Cover
URL:https://eaglebarwm.com/event/sinful_sunday-11-15/
LOCATION:Eagle Wilton Manors\, 2209 WILTON DR\, WILTON MANORS\, FL\, 33305\, United States
CATEGORIES:Weekday Repeating
ATTACH;FMTTYPE=image/jpeg:https://eaglebarwm.com/wp-content/uploads/2025/05/square-SINFUL-SUNDAYS.jpg
END:VEVENT
BEGIN:VEVENT
DTSTART;TZID=America/New_York:20251206T210000
DTEND;TZID=America/New_York:20251207T030000
DTSTAMP:20260424T083211
CREATED:20250926T212227Z
LAST-MODIFIED:20251202T194618Z
UID:10015802-1765054800-1765076400@eaglebarwm.com
SUMMARY:TUFF
DESCRIPTION:SATURDAY\nHappy Hour 5 PM – 9 PM \nCODE Bar Opens 5 PM \nBear Cave Opens 8 PM \nTUFF\nin Main Bar + CODE Bar + Nest | 9 PM – 3 AM \nMusic By: ALEX RAMOS + DANNY LETHAL + KOYOTE\n\n\nGET TICKETS\n\n\nFree before 9 PM | $25 Cover After \nOnly Pre-purchased Tickets & VIP’s Skip the Line \nDress Code Enforced in the Code Bar 10 PM to close \n*No Re-entry with free wrist band after midnight
URL:https://eaglebarwm.com/event/tuff/
LOCATION:Eagle Wilton Manors\, 2209 WILTON DR\, WILTON MANORS\, FL\, 33305\, United States
CATEGORIES:IncludeInEmail
ATTACH;FMTTYPE=image/jpeg:https://eaglebarwm.com/wp-content/uploads/2025/09/TUFF-FTL-DEC6-Square-1080-x-1080-scaled.jpg
END:VEVENT
BEGIN:VEVENT
DTSTART;TZID=America/New_York:20251205T220000
DTEND;TZID=America/New_York:20251206T030000
DTSTAMP:20260424T083211
CREATED:20251112T202003Z
LAST-MODIFIED:20251201T213716Z
UID:10016507-1764972000-1764990000@eaglebarwm.com
SUMMARY:MANIFEST
DESCRIPTION:FRIDAY\nHappy Hour 5 PM – 9 PM \nCODE Bar Opens 5 PM \nBear Cave Opens 8 PM \nMANIFEST\nin Main Bar + CODE Bar + Nest | 10 PM – 3 AM \nMusic By: GLOVIBES\nDADDY POP\nin Bear Cave | 9 PM – 2 AM \nMusic By: Barry Browder\nGET TICKETS\n\nFree before 9 PM* | $15 Cover After \nOnly Pre-purchased Tickets & VIP’s Skip the Line \nDress Code Enforced in the Code Bar 10 PM to close \n*No Re-entry with free wrist band after midnight
URL:https://eaglebarwm.com/event/manifest/
LOCATION:Eagle Wilton Manors\, 2209 WILTON DR\, WILTON MANORS\, FL\, 33305\, United States
CATEGORIES:IncludeInEmail
ATTACH;FMTTYPE=image/jpeg:https://eaglebarwm.com/wp-content/uploads/2025/11/25-12-05_MANIFEST_Square_1080x1080.jpg
END:VEVENT
BEGIN:VEVENT
DTSTART;TZID=America/New_York:20251204T210000
DTEND;TZID=America/New_York:20251205T020000
DTSTAMP:20260424T083211
CREATED:20251119T213604Z
LAST-MODIFIED:20251204T204417Z
UID:10015915-1764882000-1764900000@eaglebarwm.com
SUMMARY:HARNESS NIGHT
DESCRIPTION:THURSDAY – Dec 4th\nHappy Hour 7 PM – 9 PM \nCODE Bar Opens 7 PM | Tavern Opens 9 PM \nHARNESS NIGHT\nin Main Bar + CODE Bar  | 9 PM – 2 AM\n \nMusic By: TREVOR OLDROYD\n  \nHAPPY HOUR ALL NIGHT\nFor Anyone Wearing\na HARNESS OR LEATHER GEAR*\nNo Cover \n*Happy Hour all Night rules are strictly enforced. \n*What qualifies as leather gear is at the discretion of the doorman.. \n*Not a requirement to enter. 
URL:https://eaglebarwm.com/event/edm-night-12-5/
LOCATION:Eagle Wilton Manors\, 2209 WILTON DR\, WILTON MANORS\, FL\, 33305\, United States
ATTACH;FMTTYPE=image/jpeg:https://eaglebarwm.com/wp-content/uploads/2025/09/THURS_NewWeekdays_EWM_design_1080x1080_square.jpg
END:VEVENT
BEGIN:VEVENT
DTSTART;TZID=America/New_York:20251204T190000
DTEND;TZID=America/New_York:20251204T220000
DTSTAMP:20260424T083211
CREATED:20251122T200612Z
LAST-MODIFIED:20260127T201155Z
UID:10014708-1764874800-1764885600@eaglebarwm.com
SUMMARY:CIGAR SOCIAL
DESCRIPTION:Happy Hour 7 PM – 9 PM \nCODE Bar Opens 7 PM | Tavern Opens 9 PM \nCIGAR SOCIAL\nin Smoking Lounge & Patio | 7 PM – 10 PM
URL:https://eaglebarwm.com/event/cigar-social-3-2-3-3-2/2025-12-04/
LOCATION:Eagle Wilton Manors\, 2209 WILTON DR\, WILTON MANORS\, FL\, 33305\, United States
CATEGORIES:Weekday Repeating
ATTACH;FMTTYPE=image/jpeg:https://eaglebarwm.com/wp-content/uploads/2025/06/Thurs1_NewWeekdays_EWM_design_1080x1080_square.jpg
END:VEVENT
BEGIN:VEVENT
DTSTART;TZID=America/New_York:20251204T180000
DTEND;TZID=America/New_York:20251204T200000
DTSTAMP:20260424T083211
CREATED:20260127T193158Z
LAST-MODIFIED:20260127T193158Z
UID:10017941-1764871200-1764878400@eaglebarwm.com
SUMMARY:HOLY CROSS STD TESTING
DESCRIPTION:HOLY CROSS TESTING\nin Bear Cave | 6 PM – 8 PM
URL:https://eaglebarwm.com/event/holy-cross-std-testing/2025-12-04/
LOCATION:Eagle Wilton Manors\, 2209 WILTON DR\, WILTON MANORS\, FL\, 33305\, United States
CATEGORIES:Weekday Repeating
ATTACH;FMTTYPE=image/jpeg:https://eaglebarwm.com/wp-content/uploads/2026/01/01-29-2026-HOLY-CROSS_Square_1080x1080.jpg
END:VEVENT
BEGIN:VEVENT
DTSTART;TZID=America/New_York:20251203T190000
DTEND;TZID=America/New_York:20251204T020000
DTSTAMP:20260424T083211
CREATED:20251122T202457Z
LAST-MODIFIED:20251210T083738Z
UID:10016176-1764788400-1764813600@eaglebarwm.com
SUMMARY:UNDERWEAR & SINGLET NIGHT
DESCRIPTION:Happy Hour 7 PM – 9 PM \nCODE Bar Opens 7 PM | Tavern Opens 9 PM \n UNDERWEAR & SINGLETS NIGHT\nin Main Bar + CODE Bar  | 9 PM – 2 AM \nHAPPY HOUR ALL NIGHT\nFor Anyone Wearing\nSinglets or Underwear + No Pants*\nNo Cover \n*Happy Hour all Night rules are strictly enforced.\n*Not a requirement to enter.
URL:https://eaglebarwm.com/event/leather-harness-night-13-3-2/2025-12-03/
LOCATION:Eagle Wilton Manors\, 2209 WILTON DR\, WILTON MANORS\, FL\, 33305\, United States
CATEGORIES:Weekday Repeating
ATTACH;FMTTYPE=image/jpeg:https://eaglebarwm.com/wp-content/uploads/2025/09/WEDS_NewWeekdays_EWM_design_1080x1080_square.jpg
END:VEVENT
BEGIN:VEVENT
DTSTART;TZID=America/New_York:20251202T190000
DTEND;TZID=America/New_York:20251203T020000
DTSTAMP:20260424T083211
CREATED:20251126T180319Z
LAST-MODIFIED:20251210T082719Z
UID:10014617-1764702000-1764727200@eaglebarwm.com
SUMMARY:HAPPY HOUR ALL NIGHT
DESCRIPTION:HAPPY HOUR ALL NIGHT\nin CODE Bar | 7 PM – 2 AM \nHALF PRICE DRINKS ALL NIGHT\nNo Cover
URL:https://eaglebarwm.com/event/code_tuesday-2-2-2-2-2-2-3/2025-12-02/
LOCATION:Eagle Wilton Manors\, 2209 WILTON DR\, WILTON MANORS\, FL\, 33305\, United States
CATEGORIES:Weekday Repeating
ATTACH;FMTTYPE=image/jpeg:https://eaglebarwm.com/wp-content/uploads/2025/08/TUES_NewWeekdays_EWM_design_1080x1080_square.jpg
END:VEVENT
BEGIN:VEVENT
DTSTART;TZID=America/New_York:20251201T190000
DTEND;TZID=America/New_York:20251202T020000
DTSTAMP:20260424T083211
CREATED:20251126T180154Z
LAST-MODIFIED:20260111T013815Z
UID:10014539-1764615600-1764640800@eaglebarwm.com
SUMMARY:JOCK STRAP NIGHT
DESCRIPTION:Happy Hour 7 PM – 9 PM \nJOCK STRAP NIGHT\nin CODE Bar | 9 PM – 2 AM \n$2.50\nWell Vodka Drinks\n9 PM to 2 AM\nHAPPY HOUR ALL NIGHT\nFor Anyone Wearing\nJock Strap + No Pants*\nNo Cover \n*Happy Hour all Night rules are strictly enforced.\n*Not a requirement to enter.
URL:https://eaglebarwm.com/event/jock_strap_night-2-2-2-2-2-2-2/2025-12-01/
LOCATION:Eagle Wilton Manors\, 2209 WILTON DR\, WILTON MANORS\, FL\, 33305\, United States
CATEGORIES:Weekday Repeating
ATTACH;FMTTYPE=image/jpeg:https://eaglebarwm.com/wp-content/uploads/2025/08/Mon_NewWeekdays_EWM_design_1080x1080_square.jpg
END:VEVENT
BEGIN:VEVENT
DTSTART;TZID=America/New_York:20251130T170000
DTEND;TZID=America/New_York:20251201T020000
DTSTAMP:20260424T083211
CREATED:20251015T165657Z
LAST-MODIFIED:20251124T024734Z
UID:10014461-1764522000-1764554400@eaglebarwm.com
SUMMARY:PIG BALL - SINFUL SUNDAY
DESCRIPTION:SUNDAY\nHappy Hour 5 PM – 9 PM \nCODE Bar Opens 5 PM | Tavern Opens 9 PM \nPIG BALL – SINFUL SUNDAYS\nin Main Bar + CODE Bar  | 8 PM – 2 AM \nMusic by: Trevor Oldroyd\n$10 Cover Starting at 9pm | Free with Pig Week Dog Tags \n\n  \n    \n      GET TICKETS
URL:https://eaglebarwm.com/event/sinful_sunday-11-11/
LOCATION:Eagle Wilton Manors\, 2209 WILTON DR\, WILTON MANORS\, FL\, 33305\, United States
CATEGORIES:Weekday Repeating
ATTACH;FMTTYPE=image/jpeg:https://eaglebarwm.com/wp-content/uploads/2025/05/25-11-30_SINFUL-SUNDAYS-PIG-BALL_Square_1080x1080.jpg
END:VEVENT
BEGIN:VEVENT
DTSTART;TZID=America/New_York:20251129T210000
DTEND;TZID=America/New_York:20251130T030000
DTSTAMP:20260424T083211
CREATED:20251014T172238Z
LAST-MODIFIED:20251124T024721Z
UID:10015807-1764450000-1764471600@eaglebarwm.com
SUMMARY:BLACK PARTY
DESCRIPTION:SATURDAY\nOpening 9 PM \nBLACK PARTY\nin Main Bar + CODE Bar + Nest + Bear Cave | 9 PM – 3 AM \nMusic By: GSP\nBear Häus\nin Bear Cave | 9 PM – 2 AM \nMusic By: Daniel Kristopherre\n\n  \n    \n      GET TICKETS\n    \n  \n\n$25 Cover Starting 9 PM \nOnly Pre-purchased Tickets & VIP’s Skip the Line \nDress Code Enforced in the Code Bar 10 PM to close \n*No Re-entry with free wrist band after midnight
URL:https://eaglebarwm.com/event/black-party/
LOCATION:Eagle Wilton Manors\, 2209 WILTON DR\, WILTON MANORS\, FL\, 33305\, United States
CATEGORIES:IncludeInEmail
ATTACH;FMTTYPE=image/jpeg:https://eaglebarwm.com/wp-content/uploads/2025/10/25-11-29_BlackParty_Square_1080x1080.jpg
END:VEVENT
BEGIN:VEVENT
DTSTART;TZID=America/New_York:20251128T220000
DTEND;TZID=America/New_York:20251129T030000
DTSTAMP:20260424T083211
CREATED:20250923T173721Z
LAST-MODIFIED:20251124T024710Z
UID:10015801-1764367200-1764385200@eaglebarwm.com
SUMMARY:Fetish FKRS
DESCRIPTION:FRIDAY\nHappy Hour 5 PM – 9 PM \nCODE Bar Opens 5 PM \nBear Cave Opens 8 PM \nFetish FKRS\nin Main Bar + CODE Bar + Nest | 10 PM – 3 AM \nMusic By: KARSTEN SOLLORS\nBear Häus\nin Bear Cave | 9 PM – 2 AM \nMusic By: DJ Hukill\n\n  \n    \n      GET TICKETS\n    \n  \n\nFree before 9 PM* | $20 Cover After \nOnly Pre-purchased Tickets & VIP’s Skip the Line \nDress Code Enforced in the Code Bar 10 PM to close \n*No Re-entry with free wrist band after midnight
URL:https://eaglebarwm.com/event/6th-anniversary-kick-off/
LOCATION:Eagle Wilton Manors\, 2209 WILTON DR\, WILTON MANORS\, FL\, 33305\, United States
CATEGORIES:IncludeInEmail
ATTACH;FMTTYPE=image/jpeg:https://eaglebarwm.com/wp-content/uploads/2025/09/25-11-28_FetishFKR_Square_1080x1080.jpg
END:VEVENT
BEGIN:VEVENT
DTSTART;TZID=America/New_York:20251127T210000
DTEND;TZID=America/New_York:20251128T020000
DTSTAMP:20260424T083211
CREATED:20250919T201845Z
LAST-MODIFIED:20251104T071007Z
UID:10015795-1764277200-1764295200@eaglebarwm.com
SUMMARY:THANKSGIVING - EDM NIGHT
DESCRIPTION:THURSDAY\nOpening 9 PM \nCODE Bar Opens 9 PM | Tavern Opens 9 PM \nTHANKSGIVING\n+HARNESS NIGHT\nin Main Bar + CODE Bar  | 9 PM – 2 AM \nHAPPY HOUR ALL NIGHT\nFor Anyone Wearing\na HARNESS OR LEATHER GEAR*\nNo Cover \n*Happy Hour all Night rules are strictly enforced. \n*What qualifies as fetish wear is at the discretion of the doorman.. \n*Not a requirement to enter. 
URL:https://eaglebarwm.com/event/edm-night-15/
LOCATION:Eagle Wilton Manors\, 2209 WILTON DR\, WILTON MANORS\, FL\, 33305\, United States
ATTACH;FMTTYPE=image/jpeg:https://eaglebarwm.com/wp-content/uploads/2025/09/25-11-27_THANKSGIVING_Square_1080x1080.jpg
END:VEVENT
BEGIN:VEVENT
DTSTART;TZID=America/New_York:20251127T190000
DTEND;TZID=America/New_York:20251127T220000
DTSTAMP:20260424T083211
CREATED:20251122T200612Z
LAST-MODIFIED:20260127T201155Z
UID:10014707-1764270000-1764280800@eaglebarwm.com
SUMMARY:CIGAR SOCIAL
DESCRIPTION:Happy Hour 7 PM – 9 PM \nCODE Bar Opens 7 PM | Tavern Opens 9 PM \nCIGAR SOCIAL\nin Smoking Lounge & Patio | 7 PM – 10 PM
URL:https://eaglebarwm.com/event/cigar-social-3-2-3-3-2/2025-11-27/
LOCATION:Eagle Wilton Manors\, 2209 WILTON DR\, WILTON MANORS\, FL\, 33305\, United States
CATEGORIES:Weekday Repeating
ATTACH;FMTTYPE=image/jpeg:https://eaglebarwm.com/wp-content/uploads/2025/06/Thurs1_NewWeekdays_EWM_design_1080x1080_square.jpg
END:VEVENT
END:VCALENDAR