BEGIN:VCALENDAR
VERSION:2.0
PRODID:-//Eagle Wilton Manors - ECPv6.15.17.1//NONSGML v1.0//EN
CALSCALE:GREGORIAN
METHOD:PUBLISH
X-WR-CALNAME:Eagle Wilton Manors
X-ORIGINAL-URL:https://eaglebarwm.com
X-WR-CALDESC:Events for Eagle Wilton Manors
REFRESH-INTERVAL;VALUE=DURATION:PT1H
X-Robots-Tag:noindex
X-PUBLISHED-TTL:PT1H
BEGIN:VTIMEZONE
TZID:America/New_York
BEGIN:DAYLIGHT
TZOFFSETFROM:-0500
TZOFFSETTO:-0400
TZNAME:EDT
DTSTART:20240310T070000
END:DAYLIGHT
BEGIN:STANDARD
TZOFFSETFROM:-0400
TZOFFSETTO:-0500
TZNAME:EST
DTSTART:20241103T060000
END:STANDARD
BEGIN:DAYLIGHT
TZOFFSETFROM:-0500
TZOFFSETTO:-0400
TZNAME:EDT
DTSTART:20250309T070000
END:DAYLIGHT
BEGIN:STANDARD
TZOFFSETFROM:-0400
TZOFFSETTO:-0500
TZNAME:EST
DTSTART:20251102T060000
END:STANDARD
BEGIN:DAYLIGHT
TZOFFSETFROM:-0500
TZOFFSETTO:-0400
TZNAME:EDT
DTSTART:20260308T070000
END:DAYLIGHT
BEGIN:STANDARD
TZOFFSETFROM:-0400
TZOFFSETTO:-0500
TZNAME:EST
DTSTART:20261101T060000
END:STANDARD
END:VTIMEZONE
BEGIN:VEVENT
DTSTART;TZID=America/New_York:20251114T190000
DTEND;TZID=America/New_York:20251114T220000
DTSTAMP:20260424T165440
CREATED:20250909T202952Z
LAST-MODIFIED:20251113T204146Z
UID:10015768-1763146800-1763157600@eaglebarwm.com
SUMMARY:FLW - MR EAGLE CONTEST
DESCRIPTION:FRIDAY\nMR. EAGLE WILTON MANORS\n2026 CONTEST\nGET TICKETS\n7 PM – 10 PM\nCODE Bar Opens 5 PM | Tavern Opens 9 PM
URL:https://eaglebarwm.com/event/flw-mr-eagle-contest/
LOCATION:Eagle Wilton Manors\, 2209 WILTON DR\, WILTON MANORS\, FL\, 33305\, United States
CATEGORIES:Weekday Repeating
ATTACH;FMTTYPE=image/png:https://eaglebarwm.com/wp-content/uploads/2025/09/25-11-14_MRE_Square_1080x1080.png
END:VEVENT
BEGIN:VEVENT
DTSTART;TZID=America/New_York:20251113T210000
DTEND;TZID=America/New_York:20251114T020000
DTSTAMP:20260424T165440
CREATED:20250909T201930Z
LAST-MODIFIED:20250924T182435Z
UID:10015767-1763067600-1763085600@eaglebarwm.com
SUMMARY:FLW - HARNESS PARTY
DESCRIPTION:THURSDAY\nHappy Hour 7 PM – 9 PM \nCODE Bar Opens 7 PM | Tavern Opens 9 PM \nHARNESS PARTY\nin Main Bar + CODE Bar  | 9 PM – 2 AM \nHALF PRICE WELL DRINKS & DOMESTIC BEER\n(Some Restrictions Apply) \nGET TICKETS\nNo Cover
URL:https://eaglebarwm.com/event/flw-harness-party-2/
LOCATION:Eagle Wilton Manors\, 2209 WILTON DR\, WILTON MANORS\, FL\, 33305\, United States
CATEGORIES:Weekday Repeating
ATTACH;FMTTYPE=image/png:https://eaglebarwm.com/wp-content/uploads/2025/09/25-11-13_HarnessParty_Square_1080x1080.png
END:VEVENT
BEGIN:VEVENT
DTSTART;TZID=America/New_York:20251113T200000
DTEND;TZID=America/New_York:20251113T220000
DTSTAMP:20260424T165440
CREATED:20250909T201358Z
LAST-MODIFIED:20250924T183339Z
UID:10015766-1763064000-1763071200@eaglebarwm.com
SUMMARY:FLW - MR EAGLE PRE-LIMS
DESCRIPTION:THURSDAY\nMR. EAGLE WILTON MANORS 2026\nPRELIMINARY ROUND\nGET TICKETS\n8 PM – 10 PM \nCODE Bar Opens 5 PM | Tavern Opens 9 PM
URL:https://eaglebarwm.com/event/flw-me-eagle-pre-lims/
LOCATION:Eagle Wilton Manors\, 2209 WILTON DR\, WILTON MANORS\, FL\, 33305\, United States
CATEGORIES:Weekday Repeating
ATTACH;FMTTYPE=image/png:https://eaglebarwm.com/wp-content/uploads/2025/09/25-11-13_MREMeet_Square_1080x1080.png
END:VEVENT
BEGIN:VEVENT
DTSTART;TZID=America/New_York:20251113T190000
DTEND;TZID=America/New_York:20251113T220000
DTSTAMP:20260424T165440
CREATED:20251104T052040Z
LAST-MODIFIED:20251104T052041Z
UID:10014705-1763060400-1763071200@eaglebarwm.com
SUMMARY:Cigar Social
DESCRIPTION:THURSDAY\nHappy Hour 7 PM – 9 PM \nCODE Bar Opens 7 PM | Tavern Opens 9 PM \nCIGAR SOCIAL\nin Smoking Lounge & Patio | 7 PM – 10 PM
URL:https://eaglebarwm.com/event/cigar-social-3-2-3-3/2025-11-13/
LOCATION:Eagle Wilton Manors\, 2209 WILTON DR\, WILTON MANORS\, FL\, 33305\, United States
CATEGORIES:Weekday Repeating
ATTACH;FMTTYPE=image/jpeg:https://eaglebarwm.com/wp-content/uploads/2025/06/Thurs1_NewWeekdays_EWM_design_1080x1080_square.jpg
END:VEVENT
BEGIN:VEVENT
DTSTART;TZID=America/New_York:20251113T180000
DTEND;TZID=America/New_York:20251113T220000
DTSTAMP:20260424T165440
CREATED:20251015T172711Z
LAST-MODIFIED:20251109T012838Z
UID:10015809-1763056800-1763071200@eaglebarwm.com
SUMMARY:FLW - UNVEILED VISIONS EROTIC ART SHOW
DESCRIPTION:THURSDAY\nUNVEILED VISIONS EROTIC ART SHOW \nUNVEILED VISIONS EROTIC ART SHOW \nWilton Collective | 5 PM – 8 PM \nOver 60 Artists from Across the Country\nMore than 200 Works of Erotic Art\nGAY.STRAIGHT.TRANS.BI.QUEER.POLY.FETISH.KINK.HUMAN \nUnveiled Visions lifts the veil of “morality” to reveal the raw\, instinctual humanity beneath the polish.\nBehind that veil\, we’re all the same—driven by desire\, creation\, and truth. \nCASH BAR \nLive Entertainment on Select Nights \nNo Cover – $10 Donation Suggested
URL:https://eaglebarwm.com/event/flw-unveiled-visions-erotic-art-show-2/
LOCATION:Eagle Wilton Manors\, 2209 WILTON DR\, WILTON MANORS\, FL\, 33305\, United States
CATEGORIES:Weekday Repeating
ATTACH;FMTTYPE=image/png:https://eaglebarwm.com/wp-content/uploads/2025/10/Visions_Square_1080x1080.png
END:VEVENT
BEGIN:VEVENT
DTSTART;TZID=America/New_York:20251112T200000
DTEND;TZID=America/New_York:20251112T220000
DTSTAMP:20260424T165440
CREATED:20250924T181849Z
LAST-MODIFIED:20251013T200605Z
UID:10015755-1762977600-1762984800@eaglebarwm.com
SUMMARY:FLW - TOM OF FINLAND SCREENING
DESCRIPTION:WEDNESDAY\nTOM OF FINLAND MOVIE SCREENING\nGET TICKETS\nWILTON COLLECTIVE | 8 PM – 10 PM
URL:https://eaglebarwm.com/event/flw-tom-of-finland-screening-2/
LOCATION:Eagle Wilton Manors\, 2209 WILTON DR\, WILTON MANORS\, FL\, 33305\, United States
CATEGORIES:Monthly Repeating
ATTACH;FMTTYPE=image/jpeg:https://eaglebarwm.com/wp-content/uploads/2025/09/25-11-12_TomFinland_Square_1080x1080.jpg
END:VEVENT
BEGIN:VEVENT
DTSTART;TZID=America/New_York:20251112T190000
DTEND;TZID=America/New_York:20251113T020000
DTSTAMP:20260424T165440
CREATED:20250919T202126Z
LAST-MODIFIED:20251104T065214Z
UID:10016173-1762974000-1762999200@eaglebarwm.com
SUMMARY:UNDERWEAR & SINGLET NIGHT
DESCRIPTION:WEDNESDAY\nHappy Hour 7 PM – 9 PM \nCODE Bar Opens 7 PM | Tavern Opens 9 PM \nSINGLETS & UNDERWEAR NIGHT\nin Main Bar + CODE Bar  | 9 PM – 2 AM \nHAPPY HOUR ALL NIGHT\nFor Anyone Wearing\nSINGLETS or UNDERWEAR + NO PANTS*\nNo Cover \n*Happy Hour all Night rules are strictly enforced.\n*Not a requirement to enter. 
URL:https://eaglebarwm.com/event/leather-harness-night-13/2025-11-12/
LOCATION:Eagle Wilton Manors\, 2209 WILTON DR\, WILTON MANORS\, FL\, 33305\, United States
CATEGORIES:Weekday Repeating
ATTACH;FMTTYPE=image/jpeg:https://eaglebarwm.com/wp-content/uploads/2025/09/WEDS_NewWeekdays_EWM_design_1080x1080_square.jpg
END:VEVENT
BEGIN:VEVENT
DTSTART;TZID=America/New_York:20251112T180000
DTEND;TZID=America/New_York:20251112T193000
DTSTAMP:20260424T165440
CREATED:20250924T181435Z
LAST-MODIFIED:20250924T181627Z
UID:10015733-1762970400-1762975800@eaglebarwm.com
SUMMARY:FLW - LEATHER FAMILY SOCIAL
DESCRIPTION:WEDNESDAY\nLEATHER FAMILY SOCIAL\nGET TICKETS\nCASA MONARCA | 6 PM – 7:30 PM
URL:https://eaglebarwm.com/event/flw-leather-family-social-2/
LOCATION:Eagle Wilton Manors\, 2209 WILTON DR\, WILTON MANORS\, FL\, 33305\, United States
CATEGORIES:Monthly Repeating
ATTACH;FMTTYPE=image/png:https://eaglebarwm.com/wp-content/uploads/2025/09/25-11-12_FamilySocial_Square_1080x1080.png
END:VEVENT
BEGIN:VEVENT
DTSTART;TZID=America/New_York:20251112T170000
DTEND;TZID=America/New_York:20251112T200000
DTSTAMP:20260424T165440
CREATED:20251015T171539Z
LAST-MODIFIED:20251109T012850Z
UID:10015808-1762966800-1762977600@eaglebarwm.com
SUMMARY:FLW - UNVEILED VISIONS EROTIC ART SHOW
DESCRIPTION:WEDNESDAY
URL:https://eaglebarwm.com/event/flw-unveiled-visions-erotic-art-show/
LOCATION:Eagle Wilton Manors\, 2209 WILTON DR\, WILTON MANORS\, FL\, 33305\, United States
CATEGORIES:Weekday Repeating
ATTACH;FMTTYPE=image/png:https://eaglebarwm.com/wp-content/uploads/2025/10/Visions_Square_1080x1080.png
END:VEVENT
BEGIN:VEVENT
DTSTART;TZID=America/New_York:20251111T200000
DTEND;TZID=America/New_York:20251112T000000
DTSTAMP:20260424T165440
CREATED:20251106T212817Z
LAST-MODIFIED:20251106T212817Z
UID:10016494-1762891200-1762905600@eaglebarwm.com
SUMMARY:BARK AFTER DARK
DESCRIPTION:TUESDAY\nBARK AFTER DARK \nin MAIN Bar | 8 PM – 12 AM \nHALF PRICE DRINKS ALL NIGHT\nMOSH AREA w/ PADDING & TOYS \nNo Cover
URL:https://eaglebarwm.com/event/bark-after-dark-2/
LOCATION:Eagle Wilton Manors\, 2209 WILTON DR\, WILTON MANORS\, FL\, 33305\, United States
CATEGORIES:IncludeInEmail,Monthly Repeating
ATTACH;FMTTYPE=image/jpeg:https://eaglebarwm.com/wp-content/uploads/2025/11/Square_BARK-AFTER-DARK_1080x1080.jpg
END:VEVENT
BEGIN:VEVENT
DTSTART;TZID=America/New_York:20251111T190000
DTEND;TZID=America/New_York:20251112T020000
DTSTAMP:20260424T165440
CREATED:20251104T050839Z
LAST-MODIFIED:20251104T050840Z
UID:10014614-1762887600-1762912800@eaglebarwm.com
SUMMARY:HAPPY HOUR ALL NIGHT
DESCRIPTION:TUESDAY\nHappy Hour All Night \nin CODE Bar | 7 PM – 2 AM \nHALF PRICE DRINKS ALL NIGHT\nNo Cover
URL:https://eaglebarwm.com/event/code_tuesday-2-2-2-2/2025-11-11/
LOCATION:Eagle Wilton Manors\, 2209 WILTON DR\, WILTON MANORS\, FL\, 33305\, United States
CATEGORIES:Weekday Repeating
ATTACH;FMTTYPE=image/jpeg:https://eaglebarwm.com/wp-content/uploads/2025/08/Tues_NewWeekdays_EWM_design_2160x1080_wide-e1763527845547.jpg
END:VEVENT
BEGIN:VEVENT
DTSTART;TZID=America/New_York:20251111T190000
DTEND;TZID=America/New_York:20251111T230000
DTSTAMP:20260424T165440
CREATED:20250909T195335Z
LAST-MODIFIED:20251108T074935Z
UID:10015661-1762887600-1762902000@eaglebarwm.com
SUMMARY:FLW - UNVEILED VISIONS OPENING RECEPTION
DESCRIPTION:TUESDAY\nUNVEILED VISIONS OPENING RECEPTION \nWilton Collective | 7 PM – 11 PM \nOver 60 Artists from Across the Country\nMore than 200 Works of Erotic Art\nGAY.STRAIGHT.TRANS.BI.QUEER.POLY.FETISH.KINK.HUMAN \nUnveiled Visions lifts the veil of “morality” to reveal the raw\, instinctual humanity beneath the polish.\nBehind that veil\, we’re all the same—driven by desire\, creation\, and truth. \nCASH BAR \nLive Entertainment on Select Nights \nNo Cover – $10 Donation Suggested
URL:https://eaglebarwm.com/event/unveiled-visions/
LOCATION:Eagle Wilton Manors\, 2209 WILTON DR\, WILTON MANORS\, FL\, 33305\, United States
CATEGORIES:Weekday Repeating
ATTACH;FMTTYPE=image/jpeg:https://eaglebarwm.com/wp-content/uploads/2025/09/25-11-11_VisionsOR_Square_1080x1080-copy.jpg
END:VEVENT
BEGIN:VEVENT
DTSTART;TZID=America/New_York:20251110T190000
DTEND;TZID=America/New_York:20251111T020000
DTSTAMP:20260424T165440
CREATED:20251104T050507Z
LAST-MODIFIED:20251104T051915Z
UID:10014536-1762801200-1762826400@eaglebarwm.com
SUMMARY:JOCK STRAP NIGHT
DESCRIPTION:MONDAY\nHappy Hour 7 PM – 9 PM \nCODE Bar Opens 7 PM | Tavern Opens 9 PM \nJOCK STRAP NIGHT\nin Main Bar + CODE Bar  | 9 PM – 2 AM \nHAPPY HOUR ALL NIGHT\nFor Anyone Wearing\nJOCK STRAP + NO PANTS\nNo Cover \n*Happy Hour all Night rules are strictly enforced.\n*Not a requirement to enter. 
URL:https://eaglebarwm.com/event/jock_strap_night-2-2-2-2-2/2025-11-10/
LOCATION:Eagle Wilton Manors\, 2209 WILTON DR\, WILTON MANORS\, FL\, 33305\, United States
CATEGORIES:Weekday Repeating
ATTACH;FMTTYPE=image/jpeg:https://eaglebarwm.com/wp-content/uploads/2025/08/Mon_NewWeekdays_EWM_design_1080x1080_square.jpg
END:VEVENT
BEGIN:VEVENT
DTSTART;TZID=America/New_York:20251110T190000
DTEND;TZID=America/New_York:20251110T210000
DTSTAMP:20260424T165440
CREATED:20250905T181952Z
LAST-MODIFIED:20251106T201404Z
UID:10014314-1762801200-1762808400@eaglebarwm.com
SUMMARY:FLW - ONYX Bar Night
DESCRIPTION:ONYX DEEP SOUTH\nFLW BAR NIGHT\nin Bear Cave | 7 PM – 9 PM
URL:https://eaglebarwm.com/event/onyx-bar-night-3-2/
LOCATION:Eagle Wilton Manors\, 2209 WILTON DR\, WILTON MANORS\, FL\, 33305\, United States
CATEGORIES:Monthly Repeating
END:VEVENT
BEGIN:VEVENT
DTSTART;TZID=America/New_York:20251109T210000
DTEND;TZID=America/New_York:20251110T020000
DTSTAMP:20260424T165440
CREATED:20250905T195926Z
LAST-MODIFIED:20251109T012036Z
UID:10015525-1762722000-1762740000@eaglebarwm.com
SUMMARY:FLW - WELCOME PARTY
DESCRIPTION:SUNDAY\nFLW OPENING PARTY \nRAMROD 9 PM – 2 AM
URL:https://eaglebarwm.com/event/flw-welcome-party/
LOCATION:Eagle Wilton Manors\, 2209 WILTON DR\, WILTON MANORS\, FL\, 33305\, United States
CATEGORIES:Weekday Repeating
ATTACH;FMTTYPE=image/png:https://eaglebarwm.com/wp-content/uploads/2025/09/25-11-09_ramrod_Square_1080x1080.png
END:VEVENT
BEGIN:VEVENT
DTSTART;TZID=America/New_York:20251109T180000
DTEND;TZID=America/New_York:20251109T210000
DTSTAMP:20260424T165440
CREATED:20250905T195228Z
LAST-MODIFIED:20251109T012232Z
UID:10015455-1762711200-1762722000@eaglebarwm.com
SUMMARY:FLW - CHILI COOK-OFF
DESCRIPTION:SUNDAY\nMR EAGLE 2025\nCHILI COOK-OFF\n6 PM – 9 PM \nHAPPY HOUR UNTIL 9
URL:https://eaglebarwm.com/event/flw-chili-cook-off/
LOCATION:Eagle Wilton Manors\, 2209 WILTON DR\, WILTON MANORS\, FL\, 33305\, United States
CATEGORIES:Monthly Repeating
ATTACH;FMTTYPE=image/jpeg:https://eaglebarwm.com/wp-content/uploads/2025/09/Chili_Square.jpg
END:VEVENT
BEGIN:VEVENT
DTSTART;TZID=America/New_York:20251109T170000
DTEND;TZID=America/New_York:20251110T020000
DTSTAMP:20260424T165440
CREATED:20251106T201824Z
LAST-MODIFIED:20251106T201824Z
UID:10014458-1762707600-1762740000@eaglebarwm.com
SUMMARY:SINFUL SUNDAY
DESCRIPTION:SUNDAY\nHappy Hour 5 PM – 9 PM \nCODE Bar Opens 5 PM | Tavern Opens 9 PM \nSINFUL SUNDAYS\nin Main Bar + CODE Bar  | 8 PM – 2 AM \nMusic by: ADORA\nNo Cover
URL:https://eaglebarwm.com/event/sinful_sunday-11-13/
LOCATION:Eagle Wilton Manors\, 2209 WILTON DR\, WILTON MANORS\, FL\, 33305\, United States
CATEGORIES:Weekday Repeating
ATTACH;FMTTYPE=image/jpeg:https://eaglebarwm.com/wp-content/uploads/2025/05/square-SINFUL-SUNDAYS.jpg
END:VEVENT
BEGIN:VEVENT
DTSTART;TZID=America/New_York:20251108T210000
DTEND;TZID=America/New_York:20251109T030000
DTSTAMP:20260424T165440
CREATED:20250909T193030Z
LAST-MODIFIED:20250924T180512Z
UID:10015586-1762635600-1762657200@eaglebarwm.com
SUMMARY:FLW - EAGLE 6th ANNIVERSARY
DESCRIPTION:SATURDAY\nHappy Hour 5 PM – 9 PM \nCODE Bar Opens 5 PM \nBear Cave Opens 8 PM \nEAGLE 6th ANNIVERSARY\nin Main Bar + CODE Bar + Nest | 9 PM – 3 AM \nMusic By: SETH BREEZY\nGET TICKETS\nFree before 10 PM* | $15 Cover After \nOnly Pre-purchased Tickets & VIP’s Skip the Line \nDress Code Enforced in the Code Bar 10 PM to close \n*No Re-entry with free wrist band after midnight
URL:https://eaglebarwm.com/event/flw-eagle-6th-anniversary/
LOCATION:Eagle Wilton Manors\, 2209 WILTON DR\, WILTON MANORS\, FL\, 33305\, United States
CATEGORIES:IncludeInEmail
ATTACH;FMTTYPE=image/png:https://eaglebarwm.com/wp-content/uploads/2025/09/25-11-08_kickoff_Square_1080x1080.png
END:VEVENT
BEGIN:VEVENT
DTSTART;TZID=America/New_York:20251108T200000
DTEND;TZID=America/New_York:20251108T220000
DTSTAMP:20260424T165440
CREATED:20250909T194529Z
LAST-MODIFIED:20251022T203349Z
UID:10015587-1762632000-1762639200@eaglebarwm.com
SUMMARY:FLW - B.L.U.F. SOCIAL
DESCRIPTION:SATURDAY\nB.L.U.F. SOCIAL\nGET TICKETS\nin Bear Cave | 8 PM – 10 PM
URL:https://eaglebarwm.com/event/flw-b-l-u-f-social/
LOCATION:Eagle Wilton Manors\, 2209 WILTON DR\, WILTON MANORS\, FL\, 33305\, United States
CATEGORIES:Monthly Repeating
ATTACH;FMTTYPE=image/png:https://eaglebarwm.com/wp-content/uploads/2025/09/Square_BLUF.png
END:VEVENT
BEGIN:VEVENT
DTSTART;TZID=America/New_York:20251108T170000
DTEND;TZID=America/New_York:20251108T193000
DTSTAMP:20260424T165440
CREATED:20250905T175437Z
LAST-MODIFIED:20250924T180040Z
UID:10015452-1762621200-1762630200@eaglebarwm.com
SUMMARY:FLW - PRIDE WALK + FLAG RAISING
DESCRIPTION:SATURDAY\nFLW – PRIDE WALK & FLAG RAISING\nGET TICKETS\nBEGINS AT RICHARDSON PARK | 5 PM – 7:30 PM \nCONCLUDES AT EAGLE
URL:https://eaglebarwm.com/event/flw-pride-walk-flag-raising-3/
LOCATION:Eagle Wilton Manors\, 2209 WILTON DR\, WILTON MANORS\, FL\, 33305\, United States
CATEGORIES:Monthly Repeating
ATTACH;FMTTYPE=image/png:https://eaglebarwm.com/wp-content/uploads/2025/09/25-11-08_Openingwalk_Square_1080x1080.png
END:VEVENT
BEGIN:VEVENT
DTSTART;TZID=America/New_York:20251107T220000
DTEND;TZID=America/New_York:20251108T030000
DTSTAMP:20260424T165440
CREATED:20251014T171905Z
LAST-MODIFIED:20251014T171905Z
UID:10015805-1762552800-1762570800@eaglebarwm.com
SUMMARY:6th ANNIVERSARY KICKOFF
DESCRIPTION:FRIDAY\nHappy Hour 5 PM – 9 PM \nCODE Bar Opens 5 PM \nBear Cave Opens 8 PM \n6th ANNIVERSARY KICKOFF\nin Main Bar + CODE Bar + Nest | 9 PM – 3 AM \nMusic By: BOOMER BANKS\nGET TICKETS\nFree before 10 PM* | $15 Cover After \nOnly Pre-purchased Tickets & VIP’s Skip the Line \nDress Code Enforced in the Code Bar 10 PM to close \n*No Re-entry with free wrist band after midnight
URL:https://eaglebarwm.com/event/6th-anniversary-kickoff/
LOCATION:Eagle Wilton Manors\, 2209 WILTON DR\, WILTON MANORS\, FL\, 33305\, United States
CATEGORIES:Weekday Repeating
ATTACH;FMTTYPE=image/jpeg:https://eaglebarwm.com/wp-content/uploads/2025/09/DRAFT-6th-Anniversary-Weekend-2025.jpg
END:VEVENT
BEGIN:VEVENT
DTSTART;TZID=America/New_York:20251106T210000
DTEND;TZID=America/New_York:20251107T020000
DTSTAMP:20260424T165440
CREATED:20251106T201638Z
LAST-MODIFIED:20251106T201639Z
UID:10015792-1762462800-1762480800@eaglebarwm.com
SUMMARY:HARNESS NIGHT
DESCRIPTION:THURSDAY\nHappy Hour 7 PM – 9 PM \nCODE Bar Opens 7 PM | Tavern Opens 9 PM \nHARNESS NIGHT\nin Main Bar + CODE Bar  | 9 PM – 2 AM \nMusic By: KOYOTE\nHAPPY HOUR ALL NIGHT\nFor Anyone Wearing\na HARNESS OR LEATHER GEAR*\nNo Cover \n*Happy Hour all Night rules are strictly enforced. \n*What qualifies as leather gear is at the discretion of the doorman.. \n*Not a requirement to enter. 
URL:https://eaglebarwm.com/event/edm-night-12-2/
LOCATION:Eagle Wilton Manors\, 2209 WILTON DR\, WILTON MANORS\, FL\, 33305\, United States
ATTACH;FMTTYPE=image/jpeg:https://eaglebarwm.com/wp-content/uploads/2025/09/THURS_NewWeekdays_EWM_design_1080x1080_square.jpg
END:VEVENT
BEGIN:VEVENT
DTSTART;TZID=America/New_York:20251106T190000
DTEND;TZID=America/New_York:20251106T220000
DTSTAMP:20260424T165440
CREATED:20251104T052040Z
LAST-MODIFIED:20251104T052041Z
UID:10014704-1762455600-1762466400@eaglebarwm.com
SUMMARY:Cigar Social
DESCRIPTION:THURSDAY\nHappy Hour 7 PM – 9 PM \nCODE Bar Opens 7 PM | Tavern Opens 9 PM \nCIGAR SOCIAL\nin Smoking Lounge & Patio | 7 PM – 10 PM
URL:https://eaglebarwm.com/event/cigar-social-3-2-3-3/2025-11-06/
LOCATION:Eagle Wilton Manors\, 2209 WILTON DR\, WILTON MANORS\, FL\, 33305\, United States
CATEGORIES:Weekday Repeating
ATTACH;FMTTYPE=image/jpeg:https://eaglebarwm.com/wp-content/uploads/2025/06/Thurs1_NewWeekdays_EWM_design_1080x1080_square.jpg
END:VEVENT
BEGIN:VEVENT
DTSTART;TZID=America/New_York:20251105T190000
DTEND;TZID=America/New_York:20251106T020000
DTSTAMP:20260424T165440
CREATED:20250919T202126Z
LAST-MODIFIED:20251104T065214Z
UID:10015796-1762369200-1762394400@eaglebarwm.com
SUMMARY:UNDERWEAR & SINGLET NIGHT
DESCRIPTION:WEDNESDAY\nHappy Hour 7 PM – 9 PM \nCODE Bar Opens 7 PM | Tavern Opens 9 PM \nSINGLETS & UNDERWEAR NIGHT\nin Main Bar + CODE Bar  | 9 PM – 2 AM \nHAPPY HOUR ALL NIGHT\nFor Anyone Wearing\nSINGLETS or UNDERWEAR + NO PANTS*\nNo Cover \n*Happy Hour all Night rules are strictly enforced.\n*Not a requirement to enter. 
URL:https://eaglebarwm.com/event/leather-harness-night-13/2025-11-05/
LOCATION:Eagle Wilton Manors\, 2209 WILTON DR\, WILTON MANORS\, FL\, 33305\, United States
CATEGORIES:Weekday Repeating
ATTACH;FMTTYPE=image/jpeg:https://eaglebarwm.com/wp-content/uploads/2025/09/WEDS_NewWeekdays_EWM_design_1080x1080_square.jpg
END:VEVENT
BEGIN:VEVENT
DTSTART;TZID=America/New_York:20251104T190000
DTEND;TZID=America/New_York:20251105T020000
DTSTAMP:20260424T165440
CREATED:20251104T050839Z
LAST-MODIFIED:20251104T050840Z
UID:10014613-1762282800-1762308000@eaglebarwm.com
SUMMARY:HAPPY HOUR ALL NIGHT
DESCRIPTION:TUESDAY\nHappy Hour All Night \nin CODE Bar | 7 PM – 2 AM \nHALF PRICE DRINKS ALL NIGHT\nNo Cover
URL:https://eaglebarwm.com/event/code_tuesday-2-2-2-2/2025-11-04/
LOCATION:Eagle Wilton Manors\, 2209 WILTON DR\, WILTON MANORS\, FL\, 33305\, United States
CATEGORIES:Weekday Repeating
ATTACH;FMTTYPE=image/jpeg:https://eaglebarwm.com/wp-content/uploads/2025/08/Tues_NewWeekdays_EWM_design_2160x1080_wide-e1763527845547.jpg
END:VEVENT
BEGIN:VEVENT
DTSTART;TZID=America/New_York:20251103T190000
DTEND;TZID=America/New_York:20251104T020000
DTSTAMP:20260424T165440
CREATED:20251104T050507Z
LAST-MODIFIED:20251104T051915Z
UID:10014535-1762196400-1762221600@eaglebarwm.com
SUMMARY:JOCK STRAP NIGHT
DESCRIPTION:MONDAY\nHappy Hour 7 PM – 9 PM \nCODE Bar Opens 7 PM | Tavern Opens 9 PM \nJOCK STRAP NIGHT\nin Main Bar + CODE Bar  | 9 PM – 2 AM \nHAPPY HOUR ALL NIGHT\nFor Anyone Wearing\nJOCK STRAP + NO PANTS\nNo Cover \n*Happy Hour all Night rules are strictly enforced.\n*Not a requirement to enter. 
URL:https://eaglebarwm.com/event/jock_strap_night-2-2-2-2-2/2025-11-03/
LOCATION:Eagle Wilton Manors\, 2209 WILTON DR\, WILTON MANORS\, FL\, 33305\, United States
CATEGORIES:Weekday Repeating
ATTACH;FMTTYPE=image/jpeg:https://eaglebarwm.com/wp-content/uploads/2025/08/Mon_NewWeekdays_EWM_design_1080x1080_square.jpg
END:VEVENT
BEGIN:VEVENT
DTSTART;TZID=America/New_York:20251102T170000
DTEND;TZID=America/New_York:20251103T020000
DTSTAMP:20260424T165440
CREATED:20251102T002203Z
LAST-MODIFIED:20251102T002204Z
UID:10014457-1762102800-1762135200@eaglebarwm.com
SUMMARY:SINFUL SUNDAY
DESCRIPTION:SUNDAY\nOpening 9 PM \nSINFUL SUNDAYS\nin Main Bar + CODE Bar  | 9 PM – 2 AM \nMusic by:\nNo Cover
URL:https://eaglebarwm.com/event/sinful_sunday-11-12/
LOCATION:Eagle Wilton Manors\, 2209 WILTON DR\, WILTON MANORS\, FL\, 33305\, United States
CATEGORIES:Weekday Repeating
ATTACH;FMTTYPE=image/jpeg:https://eaglebarwm.com/wp-content/uploads/2025/05/square-SINFUL-SUNDAYS.jpg
END:VEVENT
BEGIN:VEVENT
DTSTART;TZID=America/New_York:20251101T210000
DTEND;TZID=America/New_York:20251102T030000
DTSTAMP:20260424T165440
CREATED:20250919T193410Z
LAST-MODIFIED:20251101T140948Z
UID:10015784-1762030800-1762052400@eaglebarwm.com
SUMMARY:DAY OF THE DEAD
DESCRIPTION:SATURDAY\nHappy Hour 5 PM – 9 PM \nCODE Bar Opens 5 PM \nBear Cave Opens 8 PM \nDAY OF THE DEAD\nin Main Bar + CODE Bar + Nest | 9 PM – 3 AM \nMusic By: TDON + BRADY PRINCE\nBear Haüs\nin Bear Cave | 11 PM – 3 AM \nMusic By: Barry Browder\nGET TICKETS\nFree before 10 PM* | $20 Cover After \nOnly Pre-purchased Tickets & VIP’s Skip the Line \nDress Code Enforced in the Code Bar 10 PM to close \n*No Re-entry with free wrist band after midnight
URL:https://eaglebarwm.com/event/day-of-the-dead/
LOCATION:Eagle Wilton Manors\, 2209 WILTON DR\, WILTON MANORS\, FL\, 33305\, United States
CATEGORIES:IncludeInEmail
ATTACH;FMTTYPE=image/jpeg:https://eaglebarwm.com/wp-content/uploads/2025/08/25-11-01-DIA-DE-LOS-MUERTOS_Square_1080x1080.jpg
END:VEVENT
BEGIN:VEVENT
DTSTART;TZID=America/New_York:20251031T210000
DTEND;TZID=America/New_York:20251101T030000
DTSTAMP:20260424T165440
CREATED:20250919T184050Z
LAST-MODIFIED:20251031T202056Z
UID:10015783-1761944400-1761966000@eaglebarwm.com
SUMMARY:HALLOWEEN - SINS OF EDEN
DESCRIPTION:FRIDAY\nHappy Hour 5 PM – 9 PM \nCODE Bar Opens 5 PM \nBear Cave Opens 8 PM \nSINS OF EDEN\nin Main Bar + CODE Bar + Nest | 9 PM – 3 AM \nMusic By: ALEX RAMOS\nBear Haüs\nin Bear Cave | 11 PM – 3 AM \nMusic By: Koyote\nGET TICKETS\nFree before 9 PM* | $20 Cover After \nOnly Pre-purchased Tickets & VIP’s Skip the Line \nDress Code Enforced in the Code Bar 10 PM to close
URL:https://eaglebarwm.com/event/halloween-sins-of-eden/
LOCATION:Eagle Wilton Manors\, 2209 WILTON DR\, WILTON MANORS\, FL\, 33305\, United States
CATEGORIES:IncludeInEmail
ATTACH;FMTTYPE=image/jpeg:https://eaglebarwm.com/wp-content/uploads/2025/09/25-10-31_HALLOWEEN-_Square_1080x1080-V2.jpg
END:VEVENT
BEGIN:VEVENT
DTSTART;TZID=America/New_York:20251030T210000
DTEND;TZID=America/New_York:20251031T020000
DTSTAMP:20260424T165440
CREATED:20250726T163801Z
LAST-MODIFIED:20250919T201051Z
UID:10014792-1761858000-1761876000@eaglebarwm.com
SUMMARY:COVEN
DESCRIPTION:THURSDAY\nHappy Hour 7 PM – 9 PM \nCODE Bar Opens 7 PM \nCOVEN\nin Main Bar + CODE Bar | 9 PM – 2 AM \nMusic By: TREVOR OLDROYD\nHalf Price Well Drinks & Domestic Beer\n(Some restrictions apply)\nFree before 10 PM* | $10 Cover \nDress CodeEnforced in the Code Bar 10 PM to close \n*No Re-entry with free wrist band
URL:https://eaglebarwm.com/event/hard-labor-kick-off/
LOCATION:Eagle Wilton Manors\, 2209 WILTON DR\, WILTON MANORS\, FL\, 33305\, United States
CATEGORIES:IncludeInEmail
ATTACH;FMTTYPE=image/jpeg:https://eaglebarwm.com/wp-content/uploads/2025/07/25-10-30_Coven_Square_1080x1080.jpg
END:VEVENT
END:VCALENDAR