BEGIN:VCALENDAR
VERSION:2.0
PRODID:-//Eagle Wilton Manors - ECPv6.15.17.1//NONSGML v1.0//EN
CALSCALE:GREGORIAN
METHOD:PUBLISH
X-ORIGINAL-URL:https://eaglebarwm.com
X-WR-CALDESC:Events for Eagle Wilton Manors
REFRESH-INTERVAL;VALUE=DURATION:PT1H
X-Robots-Tag:noindex
X-PUBLISHED-TTL:PT1H
BEGIN:VTIMEZONE
TZID:America/New_York
BEGIN:DAYLIGHT
TZOFFSETFROM:-0500
TZOFFSETTO:-0400
TZNAME:EDT
DTSTART:20240310T070000
END:DAYLIGHT
BEGIN:STANDARD
TZOFFSETFROM:-0400
TZOFFSETTO:-0500
TZNAME:EST
DTSTART:20241103T060000
END:STANDARD
BEGIN:DAYLIGHT
TZOFFSETFROM:-0500
TZOFFSETTO:-0400
TZNAME:EDT
DTSTART:20250309T070000
END:DAYLIGHT
BEGIN:STANDARD
TZOFFSETFROM:-0400
TZOFFSETTO:-0500
TZNAME:EST
DTSTART:20251102T060000
END:STANDARD
BEGIN:DAYLIGHT
TZOFFSETFROM:-0500
TZOFFSETTO:-0400
TZNAME:EDT
DTSTART:20260308T070000
END:DAYLIGHT
BEGIN:STANDARD
TZOFFSETFROM:-0400
TZOFFSETTO:-0500
TZNAME:EST
DTSTART:20261101T060000
END:STANDARD
END:VTIMEZONE
BEGIN:VEVENT
DTSTART;TZID=America/New_York:20251107T220000
DTEND;TZID=America/New_York:20251108T030000
DTSTAMP:20260424T203148
CREATED:20251014T171905Z
LAST-MODIFIED:20251014T171905Z
UID:10015805-1762552800-1762570800@eaglebarwm.com
SUMMARY:6th ANNIVERSARY KICKOFF
DESCRIPTION:FRIDAY\nHappy Hour 5 PM – 9 PM \nCODE Bar Opens 5 PM \nBear Cave Opens 8 PM \n6th ANNIVERSARY KICKOFF\nin Main Bar + CODE Bar + Nest | 9 PM – 3 AM \nMusic By: BOOMER BANKS\nGET TICKETS\nFree before 10 PM* | $15 Cover After \nOnly Pre-purchased Tickets & VIP’s Skip the Line \nDress Code Enforced in the Code Bar 10 PM to close \n*No Re-entry with free wrist band after midnight
URL:https://eaglebarwm.com/event/6th-anniversary-kickoff/
LOCATION:Eagle Wilton Manors\, 2209 WILTON DR\, WILTON MANORS\, FL\, 33305\, United States
CATEGORIES:Weekday Repeating
ATTACH;FMTTYPE=image/jpeg:https://eaglebarwm.com/wp-content/uploads/2025/09/DRAFT-6th-Anniversary-Weekend-2025.jpg
END:VEVENT
BEGIN:VEVENT
DTSTART;TZID=America/New_York:20251106T210000
DTEND;TZID=America/New_York:20251107T020000
DTSTAMP:20260424T203148
CREATED:20251106T201638Z
LAST-MODIFIED:20251106T201639Z
UID:10015792-1762462800-1762480800@eaglebarwm.com
SUMMARY:HARNESS NIGHT
DESCRIPTION:THURSDAY\nHappy Hour 7 PM – 9 PM \nCODE Bar Opens 7 PM | Tavern Opens 9 PM \nHARNESS NIGHT\nin Main Bar + CODE Bar  | 9 PM – 2 AM \nMusic By: KOYOTE\nHAPPY HOUR ALL NIGHT\nFor Anyone Wearing\na HARNESS OR LEATHER GEAR*\nNo Cover \n*Happy Hour all Night rules are strictly enforced. \n*What qualifies as leather gear is at the discretion of the doorman.. \n*Not a requirement to enter. 
URL:https://eaglebarwm.com/event/edm-night-12-2/
LOCATION:Eagle Wilton Manors\, 2209 WILTON DR\, WILTON MANORS\, FL\, 33305\, United States
ATTACH;FMTTYPE=image/jpeg:https://eaglebarwm.com/wp-content/uploads/2025/09/THURS_NewWeekdays_EWM_design_1080x1080_square.jpg
END:VEVENT
BEGIN:VEVENT
DTSTART;TZID=America/New_York:20251106T190000
DTEND;TZID=America/New_York:20251106T220000
DTSTAMP:20260424T203148
CREATED:20251104T052040Z
LAST-MODIFIED:20251104T052041Z
UID:10014704-1762455600-1762466400@eaglebarwm.com
SUMMARY:Cigar Social
DESCRIPTION:THURSDAY\nHappy Hour 7 PM – 9 PM \nCODE Bar Opens 7 PM | Tavern Opens 9 PM \nCIGAR SOCIAL\nin Smoking Lounge & Patio | 7 PM – 10 PM
URL:https://eaglebarwm.com/event/cigar-social-3-2-3-3/2025-11-06/
LOCATION:Eagle Wilton Manors\, 2209 WILTON DR\, WILTON MANORS\, FL\, 33305\, United States
CATEGORIES:Weekday Repeating
ATTACH;FMTTYPE=image/jpeg:https://eaglebarwm.com/wp-content/uploads/2025/06/Thurs1_NewWeekdays_EWM_design_1080x1080_square.jpg
END:VEVENT
BEGIN:VEVENT
DTSTART;TZID=America/New_York:20251105T190000
DTEND;TZID=America/New_York:20251106T020000
DTSTAMP:20260424T203148
CREATED:20250919T202126Z
LAST-MODIFIED:20251104T065214Z
UID:10015796-1762369200-1762394400@eaglebarwm.com
SUMMARY:UNDERWEAR & SINGLET NIGHT
DESCRIPTION:WEDNESDAY\nHappy Hour 7 PM – 9 PM \nCODE Bar Opens 7 PM | Tavern Opens 9 PM \nSINGLETS & UNDERWEAR NIGHT\nin Main Bar + CODE Bar  | 9 PM – 2 AM \nHAPPY HOUR ALL NIGHT\nFor Anyone Wearing\nSINGLETS or UNDERWEAR + NO PANTS*\nNo Cover \n*Happy Hour all Night rules are strictly enforced.\n*Not a requirement to enter. 
URL:https://eaglebarwm.com/event/leather-harness-night-13/2025-11-05/
LOCATION:Eagle Wilton Manors\, 2209 WILTON DR\, WILTON MANORS\, FL\, 33305\, United States
CATEGORIES:Weekday Repeating
ATTACH;FMTTYPE=image/jpeg:https://eaglebarwm.com/wp-content/uploads/2025/09/WEDS_NewWeekdays_EWM_design_1080x1080_square.jpg
END:VEVENT
BEGIN:VEVENT
DTSTART;TZID=America/New_York:20251104T190000
DTEND;TZID=America/New_York:20251105T020000
DTSTAMP:20260424T203148
CREATED:20251104T050839Z
LAST-MODIFIED:20251104T050840Z
UID:10014613-1762282800-1762308000@eaglebarwm.com
SUMMARY:HAPPY HOUR ALL NIGHT
DESCRIPTION:TUESDAY\nHappy Hour All Night \nin CODE Bar | 7 PM – 2 AM \nHALF PRICE DRINKS ALL NIGHT\nNo Cover
URL:https://eaglebarwm.com/event/code_tuesday-2-2-2-2/2025-11-04/
LOCATION:Eagle Wilton Manors\, 2209 WILTON DR\, WILTON MANORS\, FL\, 33305\, United States
CATEGORIES:Weekday Repeating
ATTACH;FMTTYPE=image/jpeg:https://eaglebarwm.com/wp-content/uploads/2025/08/Tues_NewWeekdays_EWM_design_2160x1080_wide-e1763527845547.jpg
END:VEVENT
BEGIN:VEVENT
DTSTART;TZID=America/New_York:20251103T190000
DTEND;TZID=America/New_York:20251104T020000
DTSTAMP:20260424T203148
CREATED:20251104T050507Z
LAST-MODIFIED:20251104T051915Z
UID:10014535-1762196400-1762221600@eaglebarwm.com
SUMMARY:JOCK STRAP NIGHT
DESCRIPTION:MONDAY\nHappy Hour 7 PM – 9 PM \nCODE Bar Opens 7 PM | Tavern Opens 9 PM \nJOCK STRAP NIGHT\nin Main Bar + CODE Bar  | 9 PM – 2 AM \nHAPPY HOUR ALL NIGHT\nFor Anyone Wearing\nJOCK STRAP + NO PANTS\nNo Cover \n*Happy Hour all Night rules are strictly enforced.\n*Not a requirement to enter. 
URL:https://eaglebarwm.com/event/jock_strap_night-2-2-2-2-2/2025-11-03/
LOCATION:Eagle Wilton Manors\, 2209 WILTON DR\, WILTON MANORS\, FL\, 33305\, United States
CATEGORIES:Weekday Repeating
ATTACH;FMTTYPE=image/jpeg:https://eaglebarwm.com/wp-content/uploads/2025/08/Mon_NewWeekdays_EWM_design_1080x1080_square.jpg
END:VEVENT
BEGIN:VEVENT
DTSTART;TZID=America/New_York:20251102T170000
DTEND;TZID=America/New_York:20251103T020000
DTSTAMP:20260424T203148
CREATED:20251102T002203Z
LAST-MODIFIED:20251102T002204Z
UID:10014457-1762102800-1762135200@eaglebarwm.com
SUMMARY:SINFUL SUNDAY
DESCRIPTION:SUNDAY\nOpening 9 PM \nSINFUL SUNDAYS\nin Main Bar + CODE Bar  | 9 PM – 2 AM \nMusic by:\nNo Cover
URL:https://eaglebarwm.com/event/sinful_sunday-11-12/
LOCATION:Eagle Wilton Manors\, 2209 WILTON DR\, WILTON MANORS\, FL\, 33305\, United States
CATEGORIES:Weekday Repeating
ATTACH;FMTTYPE=image/jpeg:https://eaglebarwm.com/wp-content/uploads/2025/05/square-SINFUL-SUNDAYS.jpg
END:VEVENT
BEGIN:VEVENT
DTSTART;TZID=America/New_York:20251101T210000
DTEND;TZID=America/New_York:20251102T030000
DTSTAMP:20260424T203148
CREATED:20250919T193410Z
LAST-MODIFIED:20251101T140948Z
UID:10015784-1762030800-1762052400@eaglebarwm.com
SUMMARY:DAY OF THE DEAD
DESCRIPTION:SATURDAY\nHappy Hour 5 PM – 9 PM \nCODE Bar Opens 5 PM \nBear Cave Opens 8 PM \nDAY OF THE DEAD\nin Main Bar + CODE Bar + Nest | 9 PM – 3 AM \nMusic By: TDON + BRADY PRINCE\nBear Haüs\nin Bear Cave | 11 PM – 3 AM \nMusic By: Barry Browder\nGET TICKETS\nFree before 10 PM* | $20 Cover After \nOnly Pre-purchased Tickets & VIP’s Skip the Line \nDress Code Enforced in the Code Bar 10 PM to close \n*No Re-entry with free wrist band after midnight
URL:https://eaglebarwm.com/event/day-of-the-dead/
LOCATION:Eagle Wilton Manors\, 2209 WILTON DR\, WILTON MANORS\, FL\, 33305\, United States
CATEGORIES:IncludeInEmail
ATTACH;FMTTYPE=image/jpeg:https://eaglebarwm.com/wp-content/uploads/2025/08/25-11-01-DIA-DE-LOS-MUERTOS_Square_1080x1080.jpg
END:VEVENT
BEGIN:VEVENT
DTSTART;TZID=America/New_York:20251031T210000
DTEND;TZID=America/New_York:20251101T030000
DTSTAMP:20260424T203148
CREATED:20250919T184050Z
LAST-MODIFIED:20251031T202056Z
UID:10015783-1761944400-1761966000@eaglebarwm.com
SUMMARY:HALLOWEEN - SINS OF EDEN
DESCRIPTION:FRIDAY\nHappy Hour 5 PM – 9 PM \nCODE Bar Opens 5 PM \nBear Cave Opens 8 PM \nSINS OF EDEN\nin Main Bar + CODE Bar + Nest | 9 PM – 3 AM \nMusic By: ALEX RAMOS\nBear Haüs\nin Bear Cave | 11 PM – 3 AM \nMusic By: Koyote\nGET TICKETS\nFree before 9 PM* | $20 Cover After \nOnly Pre-purchased Tickets & VIP’s Skip the Line \nDress Code Enforced in the Code Bar 10 PM to close
URL:https://eaglebarwm.com/event/halloween-sins-of-eden/
LOCATION:Eagle Wilton Manors\, 2209 WILTON DR\, WILTON MANORS\, FL\, 33305\, United States
CATEGORIES:IncludeInEmail
ATTACH;FMTTYPE=image/jpeg:https://eaglebarwm.com/wp-content/uploads/2025/09/25-10-31_HALLOWEEN-_Square_1080x1080-V2.jpg
END:VEVENT
BEGIN:VEVENT
DTSTART;TZID=America/New_York:20251030T210000
DTEND;TZID=America/New_York:20251031T020000
DTSTAMP:20260424T203148
CREATED:20250726T163801Z
LAST-MODIFIED:20250919T201051Z
UID:10014792-1761858000-1761876000@eaglebarwm.com
SUMMARY:COVEN
DESCRIPTION:THURSDAY\nHappy Hour 7 PM – 9 PM \nCODE Bar Opens 7 PM \nCOVEN\nin Main Bar + CODE Bar | 9 PM – 2 AM \nMusic By: TREVOR OLDROYD\nHalf Price Well Drinks & Domestic Beer\n(Some restrictions apply)\nFree before 10 PM* | $10 Cover \nDress CodeEnforced in the Code Bar 10 PM to close \n*No Re-entry with free wrist band
URL:https://eaglebarwm.com/event/hard-labor-kick-off/
LOCATION:Eagle Wilton Manors\, 2209 WILTON DR\, WILTON MANORS\, FL\, 33305\, United States
CATEGORIES:IncludeInEmail
ATTACH;FMTTYPE=image/jpeg:https://eaglebarwm.com/wp-content/uploads/2025/07/25-10-30_Coven_Square_1080x1080.jpg
END:VEVENT
BEGIN:VEVENT
DTSTART;TZID=America/New_York:20251030T190000
DTEND;TZID=America/New_York:20251030T220000
DTSTAMP:20260424T203148
CREATED:20251126T180624Z
LAST-MODIFIED:20251126T180624Z
UID:10014703-1761850800-1761861600@eaglebarwm.com
SUMMARY:Cigar Social
DESCRIPTION:THURSDAY\nHappy Hour 7 PM – 9 PM \nCODE Bar Opens 7 PM | Tavern Opens 9 PM \nCIGAR SOCIAL\nin Smoking Lounge & Patio | 7 PM – 10 PM
URL:https://eaglebarwm.com/event/cigar-social-3-2-3-4/
LOCATION:Eagle Wilton Manors\, 2209 WILTON DR\, WILTON MANORS\, FL\, 33305\, United States
CATEGORIES:Weekday Repeating
ATTACH;FMTTYPE=image/jpeg:https://eaglebarwm.com/wp-content/uploads/2025/01/2025-square-CIGAR-THURSDAY.jpg
END:VEVENT
BEGIN:VEVENT
DTSTART;TZID=America/New_York:20251029T190000
DTEND;TZID=America/New_York:20251030T020000
DTSTAMP:20260424T203148
CREATED:20250825T171146Z
LAST-MODIFIED:20251126T180429Z
UID:10015360-1761764400-1761789600@eaglebarwm.com
SUMMARY:LEATHER + HARNESS NIGHT
DESCRIPTION:WEDNESDAY\nHappy Hour 7 PM – 9 PM \nCODE Bar Opens 7 PM | Tavern Opens 9 PM \nLEATHER + HARNESS NIGHT\nin Main Bar + CODE Bar  | 9 PM – 2 AM \nHALF PRICE DRINKS\n(Some Restrictions Apply) \nIF WEARING A HARNESS\nNo Cover
URL:https://eaglebarwm.com/event/leather-harness-night-12/
LOCATION:Eagle Wilton Manors\, 2209 WILTON DR\, WILTON MANORS\, FL\, 33305\, United States
CATEGORIES:Weekday Repeating
ATTACH;FMTTYPE=image/jpeg:https://eaglebarwm.com/wp-content/uploads/2025/01/2025-square-WEDNESDAY-HARNESS.jpg
END:VEVENT
BEGIN:VEVENT
DTSTART;TZID=America/New_York:20251028T200000
DTEND;TZID=America/New_York:20251029T000000
DTSTAMP:20260424T203148
CREATED:20251028T224520Z
LAST-MODIFIED:20251218T181802Z
UID:10015887-1761681600-1761696000@eaglebarwm.com
SUMMARY:BARK AFTER DARK
DESCRIPTION:BARK AFTER DARK\nin MAIN Bar | 8 PM – 12 AM \nMOSH AREA w/ PADDING & TOYS\nHALF PRICE DRINKS ALL NIGHT\nNo Cover
URL:https://eaglebarwm.com/event/bark-after-dark/2025-10-28/
LOCATION:Eagle Wilton Manors\, 2209 WILTON DR\, WILTON MANORS\, FL\, 33305\, United States
CATEGORIES:IncludeInEmail,Weekday Repeating
ATTACH;FMTTYPE=image/jpeg:https://eaglebarwm.com/wp-content/uploads/2025/10/Square_BARK-AFTER-DARK_1080x1080.jpg
END:VEVENT
BEGIN:VEVENT
DTSTART;TZID=America/New_York:20251028T190000
DTEND;TZID=America/New_York:20251029T020000
DTSTAMP:20260424T203148
CREATED:20250811T181633Z
LAST-MODIFIED:20250811T181633Z
UID:10014612-1761678000-1761703200@eaglebarwm.com
SUMMARY:HAPPY HOUR ALL NIGHT
DESCRIPTION:TUESDAY\nHappy Hour All Night \nin CODE Bar | 7 PM – 2 AM \nHALF PRICE DRINKS ALL NIGHT\nNo Cover
URL:https://eaglebarwm.com/event/code_tuesday-2-2-2/2025-10-28/
LOCATION:Eagle Wilton Manors\, 2209 WILTON DR\, WILTON MANORS\, FL\, 33305\, United States
CATEGORIES:Weekday Repeating
END:VEVENT
BEGIN:VEVENT
DTSTART;TZID=America/New_York:20251027T190000
DTEND;TZID=America/New_York:20251028T020000
DTSTAMP:20260424T203148
CREATED:20250811T173048Z
LAST-MODIFIED:20250811T173049Z
UID:10014534-1761591600-1761616800@eaglebarwm.com
SUMMARY:JOCK STRAP & UNDERWEAR NIGHT
DESCRIPTION:MONDAY\nHappy Hour 7 PM – 9 PM \nCODE Bar Opens 7 PM | Tavern Opens 9 PM \nJOCK STRAP + UNDERWEAR NIGHT\nin Main Bar + CODE Bar  | 9 PM – 2 AM \n$3 Bud Lite & Miller Lite Bottles\n$4 Well | $6 Call\n(Includes Jack\, Jameson\, Absolut & Titos) \nIF IN A JOCK STRAP or UNDERWEAR\nNo Cover
URL:https://eaglebarwm.com/event/jock_strap_night-2-2-2-2/2025-10-27/
LOCATION:Eagle Wilton Manors\, 2209 WILTON DR\, WILTON MANORS\, FL\, 33305\, United States
CATEGORIES:Weekday Repeating
END:VEVENT
BEGIN:VEVENT
DTSTART;TZID=America/New_York:20251026T173000
DTEND;TZID=America/New_York:20251026T183000
DTSTAMP:20260424T203148
CREATED:20251022T192634Z
LAST-MODIFIED:20251022T192634Z
UID:10015813-1761499800-1761503400@eaglebarwm.com
SUMMARY:BOOTS ON THE GROUND
DESCRIPTION:SUNDAY\nBOOTS ON THE GROUND\nActivist Collective for the Leather & Kink Community\n5:30pm | in the Bear Cave \nWe’re loud\, proud\, and laced up for liberation.\nBecause our rights aren’t a fetish. They’re fundamental. You can learn more about Boots on the Ground at their website.\n \n  \n*The views expressed at this event are not necessarily those of the staff at Eagle Wilton Manors.
URL:https://eaglebarwm.com/event/boots-on-the-ground-2/
LOCATION:Eagle Wilton Manors\, 2209 WILTON DR\, WILTON MANORS\, FL\, 33305\, United States
CATEGORIES:IncludeInEmail
ATTACH;FMTTYPE=image/jpeg:https://eaglebarwm.com/wp-content/uploads/2025/09/BOTG-protesting-201-ad.jpg
END:VEVENT
BEGIN:VEVENT
DTSTART;TZID=America/New_York:20251026T170000
DTEND;TZID=America/New_York:20251027T020000
DTSTAMP:20260424T203148
CREATED:20250530T182444Z
LAST-MODIFIED:20250727T215839Z
UID:10014456-1761498000-1761530400@eaglebarwm.com
SUMMARY:SINFUL SUNDAY
DESCRIPTION:SUNDAY\nHappy Hour 5 PM – 9 PM \nCODE Bar Opens 5 PM | Tavern Opens 9 PM \nSINFUL SUNDAYS\nin Main Bar + CODE Bar  | 8 PM – 2 AM \nMusic by:\nNo Cover
URL:https://eaglebarwm.com/event/sinful_sunday-11/2025-10-26/
LOCATION:Eagle Wilton Manors\, 2209 WILTON DR\, WILTON MANORS\, FL\, 33305\, United States
CATEGORIES:Weekday Repeating
ATTACH;FMTTYPE=image/jpeg:https://eaglebarwm.com/wp-content/uploads/2025/05/square-SINFUL-SUNDAYS.jpg
END:VEVENT
BEGIN:VEVENT
DTSTART;TZID=America/New_York:20251025T210000
DTEND;TZID=America/New_York:20251026T030000
DTSTAMP:20260424T203148
CREATED:20250819T192428Z
LAST-MODIFIED:20251022T191630Z
UID:10014833-1761426000-1761447600@eaglebarwm.com
SUMMARY:STEEL
DESCRIPTION:SATURDAY\nHappy Hour 5 PM – 9 PM \nCODE Bar Opens 5 PM \nBear Cave Opens 8 PM \nSTEEL\nin Main Bar + CODE Bar + Nest | 9 PM – 3 AM \nMusic By: DEANNE\nBear Haüs\nin Bear Cave | 11 PM – 3 AM \nMusic By: Koyote\nGET TICKETS\nFree before 10 PM* | $15 Cover After \nOnly Pre-purchased Tickets & VIP’s Skip the Line \nDress Code Enforced in the Code Bar 10 PM to close \n*No Re-entry with free wrist band after midnight
URL:https://eaglebarwm.com/event/steel/
LOCATION:Eagle Wilton Manors\, 2209 WILTON DR\, WILTON MANORS\, FL\, 33305\, United States
CATEGORIES:IncludeInEmail
ATTACH;FMTTYPE=image/jpeg:https://eaglebarwm.com/wp-content/uploads/2025/08/25-10-25_STEEL_Square_1080x1080.jpg
END:VEVENT
BEGIN:VEVENT
DTSTART;TZID=America/New_York:20251024T210000
DTEND;TZID=America/New_York:20251025T030000
DTSTAMP:20260424T203148
CREATED:20250919T180400Z
LAST-MODIFIED:20251022T191316Z
UID:10015781-1761339600-1761361200@eaglebarwm.com
SUMMARY:THROB
DESCRIPTION:FRIDAY\nHappy Hour 5 PM – 9 PM \nCODE Bar Opens 5 PM \nBear Cave Opens 8 PM \nTHROB\nin Main Bar + CODE Bar + Nest | 9 PM – 3 AM \nMusic By: GUY SCHEIMAN\nBear Haüs\nin Bear Cave | 11 PM – 3 AM \nMusic By: Barry Browder\nGET TICKETS\nFree before 10 PM* | $15 Cover After \nOnly Pre-purchased Tickets & VIP’s Skip the Line \nDress Code Enforced in the Code Bar 10 PM to close \n*No Re-entry with free wrist band after midnight
URL:https://eaglebarwm.com/event/throb/
LOCATION:Eagle Wilton Manors\, 2209 WILTON DR\, WILTON MANORS\, FL\, 33305\, United States
CATEGORIES:IncludeInEmail
ATTACH;FMTTYPE=image/jpeg:https://eaglebarwm.com/wp-content/uploads/2025/09/25-10-24_Throb_Square_1080x1080.jpg
END:VEVENT
BEGIN:VEVENT
DTSTART;TZID=America/New_York:20251023T210000
DTEND;TZID=America/New_York:20251024T020000
DTSTAMP:20260424T203148
CREATED:20250919T201549Z
LAST-MODIFIED:20250919T201549Z
UID:10015791-1761253200-1761271200@eaglebarwm.com
SUMMARY:EDM NIGHT
DESCRIPTION:THURSDAY\nHappy Hour 7 PM – 9 PM \nCODE Bar Opens 7 PM | Tavern Opens 9 PM \nEDM NIGHT\nin Main Bar + CODE Bar  | 9 PM – 2 AM \nHALF PRICE WELL DRINKS & DOMESTIC BEER\n(Some Restrictions Apply) \nNo Cover
URL:https://eaglebarwm.com/event/edm-night-11/
LOCATION:Eagle Wilton Manors\, 2209 WILTON DR\, WILTON MANORS\, FL\, 33305\, United States
ATTACH;FMTTYPE=image/jpeg:https://eaglebarwm.com/wp-content/uploads/2025/07/2025-square-THURSDAY-EDM.jpg
END:VEVENT
BEGIN:VEVENT
DTSTART;TZID=America/New_York:20251023T190000
DTEND;TZID=America/New_York:20251023T220000
DTSTAMP:20260424T203148
CREATED:20250620T184435Z
LAST-MODIFIED:20250620T184752Z
UID:10014702-1761246000-1761256800@eaglebarwm.com
SUMMARY:Cigar Social
DESCRIPTION:THURSDAY\nHappy Hour 7 PM – 9 PM \nCODE Bar Opens 7 PM | Tavern Opens 9 PM \nCIGAR SOCIAL\nin Smoking Lounge & Patio | 7 PM – 10 PM
URL:https://eaglebarwm.com/event/cigar-social-3-2-3/2025-10-23/
LOCATION:Eagle Wilton Manors\, 2209 WILTON DR\, WILTON MANORS\, FL\, 33305\, United States
CATEGORIES:Weekday Repeating
ATTACH;FMTTYPE=image/jpeg:https://eaglebarwm.com/wp-content/uploads/2025/01/2025-square-CIGAR-THURSDAY.jpg
END:VEVENT
BEGIN:VEVENT
DTSTART;TZID=America/New_York:20251022T190000
DTEND;TZID=America/New_York:20251023T020000
DTSTAMP:20260424T203148
CREATED:20250825T170929Z
LAST-MODIFIED:20250825T170929Z
UID:10015359-1761159600-1761184800@eaglebarwm.com
SUMMARY:LEATHER + HARNESS NIGHT
DESCRIPTION:WEDNESDAY\nHappy Hour 7 PM – 9 PM \nCODE Bar Opens 7 PM | Tavern Opens 9 PM \nLEATHER + HARNESS NIGHT\nin Main Bar + CODE Bar  | 9 PM – 2 AM \nHALF PRICE DRINKS\n(Some Restrictions Apply) \nIF WEARING A HARNESS\nNo Cover
URL:https://eaglebarwm.com/event/leather-harness-night-11/
LOCATION:Eagle Wilton Manors\, 2209 WILTON DR\, WILTON MANORS\, FL\, 33305\, United States
CATEGORIES:Weekday Repeating
ATTACH;FMTTYPE=image/jpeg:https://eaglebarwm.com/wp-content/uploads/2025/01/2025-square-WEDNESDAY-HARNESS.jpg
END:VEVENT
BEGIN:VEVENT
DTSTART;TZID=America/New_York:20251021T190000
DTEND;TZID=America/New_York:20251022T020000
DTSTAMP:20260424T203148
CREATED:20250811T181633Z
LAST-MODIFIED:20250811T181633Z
UID:10014611-1761073200-1761098400@eaglebarwm.com
SUMMARY:HAPPY HOUR ALL NIGHT
DESCRIPTION:TUESDAY\nHappy Hour All Night \nin CODE Bar | 7 PM – 2 AM \nHALF PRICE DRINKS ALL NIGHT\nNo Cover
URL:https://eaglebarwm.com/event/code_tuesday-2-2-2/2025-10-21/
LOCATION:Eagle Wilton Manors\, 2209 WILTON DR\, WILTON MANORS\, FL\, 33305\, United States
CATEGORIES:Weekday Repeating
END:VEVENT
BEGIN:VEVENT
DTSTART;TZID=America/New_York:20251020T190000
DTEND;TZID=America/New_York:20251021T020000
DTSTAMP:20260424T203148
CREATED:20250811T173048Z
LAST-MODIFIED:20250811T173049Z
UID:10014533-1760986800-1761012000@eaglebarwm.com
SUMMARY:JOCK STRAP & UNDERWEAR NIGHT
DESCRIPTION:MONDAY\nHappy Hour 7 PM – 9 PM \nCODE Bar Opens 7 PM | Tavern Opens 9 PM \nJOCK STRAP + UNDERWEAR NIGHT\nin Main Bar + CODE Bar  | 9 PM – 2 AM \n$3 Bud Lite & Miller Lite Bottles\n$4 Well | $6 Call\n(Includes Jack\, Jameson\, Absolut & Titos) \nIF IN A JOCK STRAP or UNDERWEAR\nNo Cover
URL:https://eaglebarwm.com/event/jock_strap_night-2-2-2-2/2025-10-20/
LOCATION:Eagle Wilton Manors\, 2209 WILTON DR\, WILTON MANORS\, FL\, 33305\, United States
CATEGORIES:Weekday Repeating
END:VEVENT
BEGIN:VEVENT
DTSTART;TZID=America/New_York:20251019T170000
DTEND;TZID=America/New_York:20251020T020000
DTSTAMP:20260424T203148
CREATED:20250530T182444Z
LAST-MODIFIED:20250727T215839Z
UID:10014455-1760893200-1760925600@eaglebarwm.com
SUMMARY:SINFUL SUNDAY
DESCRIPTION:SUNDAY\nHappy Hour 5 PM – 9 PM \nCODE Bar Opens 5 PM | Tavern Opens 9 PM \nSINFUL SUNDAYS\nin Main Bar + CODE Bar  | 8 PM – 2 AM \nMusic by:\nNo Cover
URL:https://eaglebarwm.com/event/sinful_sunday-11/2025-10-19/
LOCATION:Eagle Wilton Manors\, 2209 WILTON DR\, WILTON MANORS\, FL\, 33305\, United States
CATEGORIES:Weekday Repeating
ATTACH;FMTTYPE=image/jpeg:https://eaglebarwm.com/wp-content/uploads/2025/05/square-SINFUL-SUNDAYS.jpg
END:VEVENT
BEGIN:VEVENT
DTSTART;TZID=America/New_York:20251018T210000
DTEND;TZID=America/New_York:20251019T030000
DTSTAMP:20260424T203148
CREATED:20250819T192114Z
LAST-MODIFIED:20251014T192545Z
UID:10014832-1760821200-1760842800@eaglebarwm.com
SUMMARY:GROWL
DESCRIPTION:SATURDAY\nHappy Hour 5 PM – 9 PM \nCODE Bar Opens 5 PM \nBear Cave Opens 8 PM \nGROWL\nin Main Bar + CODE Bar + Nest | 9 PM – 3 AM \nMusic By: MOHAMMAD\nGET TICKETS\nFree before 10 PM* | $15 Cover After \nOnly Pre-purchased Tickets & VIP’s Skip the Line \nDress Code Enforced in the Code Bar 10 PM to close \n*No Re-entry with free wrist band after midnight
URL:https://eaglebarwm.com/event/growl/
LOCATION:Eagle Wilton Manors\, 2209 WILTON DR\, WILTON MANORS\, FL\, 33305\, United States
CATEGORIES:IncludeInEmail
ATTACH;FMTTYPE=image/jpeg:https://eaglebarwm.com/wp-content/uploads/2025/08/25-10-18-square-GROWL.jpg
END:VEVENT
BEGIN:VEVENT
DTSTART;TZID=America/New_York:20251017T210000
DTEND;TZID=America/New_York:20251018T030000
DTSTAMP:20260424T203148
CREATED:20250910T183542Z
LAST-MODIFIED:20250924T172613Z
UID:10015773-1760734800-1760756400@eaglebarwm.com
SUMMARY:COMBUST
DESCRIPTION:FRIDAY\nHappy Hour 5 PM – 9 PM \nCODE Bar Opens 5 PM \nBear Cave Opens 8 PM \nCOMBUST\nin Main Bar + CODE Bar + Nest | 9 PM – 3 AM \nMusic By: NICK STRACENER\nGET TICKETS\nFree before 10 PM* | $15 Cover After \nOnly Pre-purchased Tickets & VIP’s Skip the Line \nDress Code Enforced in the Code Bar 10 PM to close \n*No Re-entry with free wrist band after midnight
URL:https://eaglebarwm.com/event/combust/
LOCATION:Eagle Wilton Manors\, 2209 WILTON DR\, WILTON MANORS\, FL\, 33305\, United States
CATEGORIES:IncludeInEmail
ATTACH;FMTTYPE=image/jpeg:https://eaglebarwm.com/wp-content/uploads/2025/09/25-10-17_Combust_Square_1080x1080.jpg
END:VEVENT
BEGIN:VEVENT
DTSTART;TZID=America/New_York:20251016T210000
DTEND;TZID=America/New_York:20251017T020000
DTSTAMP:20260424T203148
CREATED:20250919T201502Z
LAST-MODIFIED:20250919T201502Z
UID:10015790-1760648400-1760666400@eaglebarwm.com
SUMMARY:EDM NIGHT
DESCRIPTION:THURSDAY\nHappy Hour 7 PM – 9 PM \nCODE Bar Opens 7 PM | Tavern Opens 9 PM \nEDM NIGHT\nin Main Bar + CODE Bar  | 9 PM – 2 AM \nHALF PRICE WELL DRINKS & DOMESTIC BEER\n(Some Restrictions Apply) \nNo Cover
URL:https://eaglebarwm.com/event/edm-night-10/
LOCATION:Eagle Wilton Manors\, 2209 WILTON DR\, WILTON MANORS\, FL\, 33305\, United States
ATTACH;FMTTYPE=image/jpeg:https://eaglebarwm.com/wp-content/uploads/2025/07/2025-square-THURSDAY-EDM.jpg
END:VEVENT
BEGIN:VEVENT
DTSTART;TZID=America/New_York:20251016T190000
DTEND;TZID=America/New_York:20251016T220000
DTSTAMP:20260424T203148
CREATED:20250620T184435Z
LAST-MODIFIED:20250620T184752Z
UID:10014701-1760641200-1760652000@eaglebarwm.com
SUMMARY:Cigar Social
DESCRIPTION:THURSDAY\nHappy Hour 7 PM – 9 PM \nCODE Bar Opens 7 PM | Tavern Opens 9 PM \nCIGAR SOCIAL\nin Smoking Lounge & Patio | 7 PM – 10 PM
URL:https://eaglebarwm.com/event/cigar-social-3-2-3/2025-10-16/
LOCATION:Eagle Wilton Manors\, 2209 WILTON DR\, WILTON MANORS\, FL\, 33305\, United States
CATEGORIES:Weekday Repeating
ATTACH;FMTTYPE=image/jpeg:https://eaglebarwm.com/wp-content/uploads/2025/01/2025-square-CIGAR-THURSDAY.jpg
END:VEVENT
BEGIN:VEVENT
DTSTART;TZID=America/New_York:20251015T190000
DTEND;TZID=America/New_York:20251016T020000
DTSTAMP:20260424T203148
CREATED:20250825T170813Z
LAST-MODIFIED:20250825T170813Z
UID:10015358-1760554800-1760580000@eaglebarwm.com
SUMMARY:LEATHER + HARNESS NIGHT
DESCRIPTION:WEDNESDAY\nHappy Hour 7 PM – 9 PM \nCODE Bar Opens 7 PM | Tavern Opens 9 PM \nLEATHER + HARNESS NIGHT\nin Main Bar + CODE Bar  | 9 PM – 2 AM \nHALF PRICE DRINKS\n(Some Restrictions Apply) \nIF WEARING A HARNESS\nNo Cover
URL:https://eaglebarwm.com/event/leather-harness-night-10/
LOCATION:Eagle Wilton Manors\, 2209 WILTON DR\, WILTON MANORS\, FL\, 33305\, United States
CATEGORIES:Weekday Repeating
ATTACH;FMTTYPE=image/jpeg:https://eaglebarwm.com/wp-content/uploads/2025/01/2025-square-WEDNESDAY-HARNESS.jpg
END:VEVENT
END:VCALENDAR