BEGIN:VCALENDAR
VERSION:2.0
PRODID:-//Eagle Wilton Manors - ECPv6.15.17.1//NONSGML v1.0//EN
CALSCALE:GREGORIAN
METHOD:PUBLISH
X-ORIGINAL-URL:https://eaglebarwm.com
X-WR-CALDESC:Events for Eagle Wilton Manors
REFRESH-INTERVAL;VALUE=DURATION:PT1H
X-Robots-Tag:noindex
X-PUBLISHED-TTL:PT1H
BEGIN:VTIMEZONE
TZID:America/New_York
BEGIN:DAYLIGHT
TZOFFSETFROM:-0500
TZOFFSETTO:-0400
TZNAME:EDT
DTSTART:20240310T070000
END:DAYLIGHT
BEGIN:STANDARD
TZOFFSETFROM:-0400
TZOFFSETTO:-0500
TZNAME:EST
DTSTART:20241103T060000
END:STANDARD
BEGIN:DAYLIGHT
TZOFFSETFROM:-0500
TZOFFSETTO:-0400
TZNAME:EDT
DTSTART:20250309T070000
END:DAYLIGHT
BEGIN:STANDARD
TZOFFSETFROM:-0400
TZOFFSETTO:-0500
TZNAME:EST
DTSTART:20251102T060000
END:STANDARD
BEGIN:DAYLIGHT
TZOFFSETFROM:-0500
TZOFFSETTO:-0400
TZNAME:EDT
DTSTART:20260308T070000
END:DAYLIGHT
BEGIN:STANDARD
TZOFFSETFROM:-0400
TZOFFSETTO:-0500
TZNAME:EST
DTSTART:20261101T060000
END:STANDARD
END:VTIMEZONE
BEGIN:VEVENT
DTSTART;TZID=America/New_York:20250824T210000
DTEND;TZID=America/New_York:20250825T030000
DTSTAMP:20260425T134700
CREATED:20250731T205059Z
LAST-MODIFIED:20250823T022832Z
UID:10015355-1756069200-1756090800@eaglebarwm.com
SUMMARY:JOYRIDE
DESCRIPTION:SATURDAY\nJOY RIDE\nin Bear Cave | 10 PM – 3 AM \nMusic By: Barry Browder\nIncluded in Cover Charge
URL:https://eaglebarwm.com/event/joyride-8/2025-08-24/
LOCATION:Eagle Wilton Manors\, 2209 WILTON DR\, WILTON MANORS\, FL\, 33305\, United States
ATTACH;FMTTYPE=image/jpeg:https://eaglebarwm.com/wp-content/uploads/2025/07/instagram-fb-SUMMER-JOY-RIDE.jpg
END:VEVENT
BEGIN:VEVENT
DTSTART;TZID=America/New_York:20250824T170000
DTEND;TZID=America/New_York:20250825T020000
DTSTAMP:20260425T134700
CREATED:20250728T165157Z
LAST-MODIFIED:20250728T165157Z
UID:10014447-1756054800-1756087200@eaglebarwm.com
SUMMARY:SINFUL SUNDAY
DESCRIPTION:SUNDAY\nHappy Hour 5 PM – 9 PM \nCODE Bar Opens 5 PM | Tavern Opens 9 PM \nSINFUL SUNDAYS\nin Main Bar + CODE Bar  | 8 PM – 2 AM \nMusic by: HERBIE JAMES\nNo Cover
URL:https://eaglebarwm.com/event/sinful_sunday-11-9/
LOCATION:Eagle Wilton Manors\, 2209 WILTON DR\, WILTON MANORS\, FL\, 33305\, United States
CATEGORIES:Weekday Repeating
ATTACH;FMTTYPE=image/jpeg:https://eaglebarwm.com/wp-content/uploads/2025/05/square-SINFUL-SUNDAYS.jpg
END:VEVENT
BEGIN:VEVENT
DTSTART;TZID=America/New_York:20250823T210000
DTEND;TZID=America/New_York:20250824T030000
DTSTAMP:20260425T134700
CREATED:20250731T205059Z
LAST-MODIFIED:20250823T022832Z
UID:10014818-1755982800-1756004400@eaglebarwm.com
SUMMARY:JOYRIDE
DESCRIPTION:SATURDAY\nJOY RIDE\nin Bear Cave | 10 PM – 3 AM \nMusic By: Barry Browder\nIncluded in Cover Charge
URL:https://eaglebarwm.com/event/joyride-8/2025-08-23/
LOCATION:Eagle Wilton Manors\, 2209 WILTON DR\, WILTON MANORS\, FL\, 33305\, United States
ATTACH;FMTTYPE=image/jpeg:https://eaglebarwm.com/wp-content/uploads/2025/07/instagram-fb-SUMMER-JOY-RIDE.jpg
END:VEVENT
BEGIN:VEVENT
DTSTART;TZID=America/New_York:20250823T210000
DTEND;TZID=America/New_York:20250824T030000
DTSTAMP:20260425T134700
CREATED:20250717T201245Z
LAST-MODIFIED:20250823T021655Z
UID:10014778-1755982800-1756004400@eaglebarwm.com
SUMMARY:DOMINATE
DESCRIPTION:SUNDAY\nHappy Hour 5 PM – 9 PM | PM \nCODE Bar Opens 5 PM | Tavern 8 PM \nSINFUL SUNDAYS\nin Main Bar + CODE Bar | 9 PM – 2 AM \nMusic By: Herbie James\nNo Cover
URL:https://eaglebarwm.com/event/dominate/
LOCATION:Eagle Wilton Manors\, 2209 WILTON DR\, WILTON MANORS\, FL\, 33305\, United States
CATEGORIES:IncludeInEmail
ATTACH;FMTTYPE=image/jpeg:https://eaglebarwm.com/wp-content/uploads/2025/07/08-23-2025-square-DOMINATE.jpg
END:VEVENT
BEGIN:VEVENT
DTSTART;TZID=America/New_York:20250822T210000
DTEND;TZID=America/New_York:20250823T030000
DTSTAMP:20260425T134700
CREATED:20250717T200357Z
LAST-MODIFIED:20250811T174752Z
UID:10014777-1755896400-1755918000@eaglebarwm.com
SUMMARY:THROTTLE
DESCRIPTION:FRIDAY\nHappy Hour 5 PM – 9 PM \nCODE Bar Opens 5 PM \nBear Cave Opens 8 PM \nTHROTTLE\nin Main Bar + CODE Bar + Nest | 9 PM – 3 AM \nMusic By: DANIEL KRISTOPHERRE\nFree before 10 PM* | $15 Cover After \nDress Code Enforced in the Code Bar 10 PM to close \n*No Re-entry with free wrist band after midnight
URL:https://eaglebarwm.com/event/throttle/
LOCATION:Eagle Wilton Manors\, 2209 WILTON DR\, WILTON MANORS\, FL\, 33305\, United States
CATEGORIES:IncludeInEmail
ATTACH;FMTTYPE=image/png:https://eaglebarwm.com/wp-content/uploads/2025/07/08-22-2025-THROTTLE_INSTA_1080x1350._51025.png
END:VEVENT
BEGIN:VEVENT
DTSTART;TZID=America/New_York:20250821T210000
DTEND;TZID=America/New_York:20250822T020000
DTSTAMP:20260425T134700
CREATED:20250721T204018Z
LAST-MODIFIED:20250811T185709Z
UID:10014788-1755810000-1755828000@eaglebarwm.com
SUMMARY:EDM NIGHT
DESCRIPTION:THURSDAY\nHappy Hour 7 PM – 9 PM \nCODE Bar Opens 7 PM | Tavern Opens 9 PM \nEDM NIGHT\nin Main Bar + CODE Bar  | 9 PM – 2 AM \nMusic By: DJERMO\nHALF PRICE WELL DRINKS & DOMESTIC BEER\n(Some Restrictions Apply) \nNo Cover
URL:https://eaglebarwm.com/event/edm-night-3/
LOCATION:Eagle Wilton Manors\, 2209 WILTON DR\, WILTON MANORS\, FL\, 33305\, United States
ATTACH;FMTTYPE=image/jpeg:https://eaglebarwm.com/wp-content/uploads/2025/07/2025-square-THURSDAY-EDM.jpg
END:VEVENT
BEGIN:VEVENT
DTSTART;TZID=America/New_York:20250821T190000
DTEND;TZID=America/New_York:20250821T220000
DTSTAMP:20260425T134700
CREATED:20250620T184435Z
LAST-MODIFIED:20250620T184752Z
UID:10014693-1755802800-1755813600@eaglebarwm.com
SUMMARY:Cigar Social
DESCRIPTION:THURSDAY\nHappy Hour 7 PM – 9 PM \nCODE Bar Opens 7 PM | Tavern Opens 9 PM \nCIGAR SOCIAL\nin Smoking Lounge & Patio | 7 PM – 10 PM
URL:https://eaglebarwm.com/event/cigar-social-3-2-3/2025-08-21/
LOCATION:Eagle Wilton Manors\, 2209 WILTON DR\, WILTON MANORS\, FL\, 33305\, United States
CATEGORIES:Weekday Repeating
ATTACH;FMTTYPE=image/jpeg:https://eaglebarwm.com/wp-content/uploads/2025/01/2025-square-CIGAR-THURSDAY.jpg
END:VEVENT
BEGIN:VEVENT
DTSTART;TZID=America/New_York:20250820T210000
DTEND;TZID=America/New_York:20250821T020000
DTSTAMP:20260425T134700
CREATED:20250721T200551Z
LAST-MODIFIED:20250811T184335Z
UID:10014785-1755723600-1755741600@eaglebarwm.com
SUMMARY:LEATHER + HARNESS NIGHT
DESCRIPTION:WEDNESDAY\nHappy Hour 7 PM – 9 PM \nCODE Bar Opens 7 PM | Tavern Opens 9 PM \nLEATHER + HARNESS NIGHT\nin Main Bar + CODE Bar  | 9 PM – 2 AM \nMusic By: DJ TREVOR OLDROYD\nHALF PRICE DRINKS\n(Some Restrictions Apply) \nIF WEARING A HARNESS\nNo Cover
URL:https://eaglebarwm.com/event/leather-harness-night-4/
LOCATION:Eagle Wilton Manors\, 2209 WILTON DR\, WILTON MANORS\, FL\, 33305\, United States
ATTACH;FMTTYPE=image/jpeg:https://eaglebarwm.com/wp-content/uploads/2025/07/2025-square-WEDNESDAY-HARNESS.jpg
END:VEVENT
BEGIN:VEVENT
DTSTART;TZID=America/New_York:20250820T180000
DTEND;TZID=America/New_York:20250820T200000
DTSTAMP:20260425T134700
CREATED:20250309T081526Z
LAST-MODIFIED:20251208T012134Z
UID:10014383-1755712800-1755720000@eaglebarwm.com
SUMMARY:HONEY POT
DESCRIPTION:Happy Hour 5 PM – 9 PM \nCODE Bar Opens 5 PM | Bear Cave Opens 8 PM \nHONEY POT\nin Main Bar + CODE Bar | 9 PM – 3 AM \nBears of South Florida\nHappy Hour Social\n3rd WED Every Month | 7 – 9 pm \n*No Cover
URL:https://eaglebarwm.com/event/bosfl-happy-hour-2/2025-08-20/
LOCATION:Eagle Wilton Manors\, 2209 WILTON DR\, WILTON MANORS\, FL\, 33305\, United States
CATEGORIES:Monthly Repeating
ATTACH;FMTTYPE=image/jpeg:https://eaglebarwm.com/wp-content/uploads/2025/01/square-BoSF-HONEY-POT-w-Snaks.jpg
END:VEVENT
BEGIN:VEVENT
DTSTART;TZID=America/New_York:20250819T190000
DTEND;TZID=America/New_York:20250820T020000
DTSTAMP:20260425T134700
CREATED:20250811T181633Z
LAST-MODIFIED:20250811T181633Z
UID:10014602-1755630000-1755655200@eaglebarwm.com
SUMMARY:HAPPY HOUR ALL NIGHT
DESCRIPTION:TUESDAY\nHappy Hour All Night \nin CODE Bar | 7 PM – 2 AM \nHALF PRICE DRINKS ALL NIGHT\nNo Cover
URL:https://eaglebarwm.com/event/code_tuesday-2-2-2/2025-08-19/
LOCATION:Eagle Wilton Manors\, 2209 WILTON DR\, WILTON MANORS\, FL\, 33305\, United States
CATEGORIES:Weekday Repeating
END:VEVENT
BEGIN:VEVENT
DTSTART;TZID=America/New_York:20250818T190000
DTEND;TZID=America/New_York:20250819T020000
DTSTAMP:20260425T134700
CREATED:20250811T173048Z
LAST-MODIFIED:20250811T173049Z
UID:10014524-1755543600-1755568800@eaglebarwm.com
SUMMARY:JOCK STRAP & UNDERWEAR NIGHT
DESCRIPTION:MONDAY\nHappy Hour 7 PM – 9 PM \nCODE Bar Opens 7 PM | Tavern Opens 9 PM \nJOCK STRAP + UNDERWEAR NIGHT\nin Main Bar + CODE Bar  | 9 PM – 2 AM \n$3 Bud Lite & Miller Lite Bottles\n$4 Well | $6 Call\n(Includes Jack\, Jameson\, Absolut & Titos) \nIF IN A JOCK STRAP or UNDERWEAR\nNo Cover
URL:https://eaglebarwm.com/event/jock_strap_night-2-2-2-2/2025-08-18/
LOCATION:Eagle Wilton Manors\, 2209 WILTON DR\, WILTON MANORS\, FL\, 33305\, United States
CATEGORIES:Weekday Repeating
END:VEVENT
BEGIN:VEVENT
DTSTART;TZID=America/New_York:20250817T170000
DTEND;TZID=America/New_York:20250818T020000
DTSTAMP:20260425T134700
CREATED:20250728T165043Z
LAST-MODIFIED:20250728T165043Z
UID:10014446-1755450000-1755482400@eaglebarwm.com
SUMMARY:SINFUL SUNDAY
DESCRIPTION:SUNDAY\nHappy Hour 5 PM – 9 PM \nCODE Bar Opens 5 PM | Tavern Opens 9 PM \nSINFUL SUNDAYS\nin Main Bar + CODE Bar  | 8 PM – 2 AM \nMusic by: ADORA\nNo Cover
URL:https://eaglebarwm.com/event/sinful_sunday-11-8/
LOCATION:Eagle Wilton Manors\, 2209 WILTON DR\, WILTON MANORS\, FL\, 33305\, United States
CATEGORIES:Weekday Repeating
ATTACH;FMTTYPE=image/jpeg:https://eaglebarwm.com/wp-content/uploads/2025/05/square-SINFUL-SUNDAYS.jpg
END:VEVENT
BEGIN:VEVENT
DTSTART;TZID=America/New_York:20250816T210000
DTEND;TZID=America/New_York:20250817T030000
DTSTAMP:20260425T134700
CREATED:20250731T204552Z
LAST-MODIFIED:20250806T172248Z
UID:10014814-1755378000-1755399600@eaglebarwm.com
SUMMARY:JOYRIDE
DESCRIPTION:SATURDAY\nJOYRIDE\nin Bear Cave | 9 PM – 3 AM \nMusic By: BARRY BROWDER\nFree before 10 PM* | $15 Cover After \nDress Code Enforced in the Code Bar 10 PM to close \n*No Re-entry with free wrist band after midnight
URL:https://eaglebarwm.com/event/joyride-5/
LOCATION:Eagle Wilton Manors\, 2209 WILTON DR\, WILTON MANORS\, FL\, 33305\, United States
ATTACH;FMTTYPE=image/jpeg:https://eaglebarwm.com/wp-content/uploads/2025/07/instagram-fb-SUMMER-JOY-RIDE.jpg
END:VEVENT
BEGIN:VEVENT
DTSTART;TZID=America/New_York:20250816T210000
DTEND;TZID=America/New_York:20250817T030000
DTSTAMP:20260425T134700
CREATED:20250717T182902Z
LAST-MODIFIED:20250811T174500Z
UID:10014774-1755378000-1755399600@eaglebarwm.com
SUMMARY:VENOM
DESCRIPTION:SATURDAY\nHappy Hour 5 PM – 9 PM \nCODE Bar Opens 5 PM \nBear Cave Opens 8 PM \nVENOM\nin Main Bar + CODE Bar + Nest | 9 PM – 3 AM \nMusic By: JOE PACHECO\nFree before 10 PM* | $15 Cover After \nDress Code Enforced in the Code Bar 10 PM to close \n*No Re-entry with free wrist band after midnight
URL:https://eaglebarwm.com/event/venom/
LOCATION:Eagle Wilton Manors\, 2209 WILTON DR\, WILTON MANORS\, FL\, 33305\, United States
CATEGORIES:IncludeInEmail
ATTACH;FMTTYPE=image/jpeg:https://eaglebarwm.com/wp-content/uploads/2025/07/08-16-2025-square-VENOM.jpg
END:VEVENT
BEGIN:VEVENT
DTSTART;TZID=America/New_York:20250815T210000
DTEND;TZID=America/New_York:20250815T210000
DTSTAMP:20260425T134700
CREATED:20250717T200007Z
LAST-MODIFIED:20250811T173549Z
UID:10014776-1755291600-1755291600@eaglebarwm.com
SUMMARY:OBSIDIAN
DESCRIPTION:FRIDAY\nHappy Hour 5 PM – 9 PM \nCODE Bar Opens 5 PM \nBear Cave Opens 8 PM \nOBSIDIAN\nin Main Bar + CODE Bar + Nest | 9 PM – 3 AM \nMusic By: KOYOTE\nFree before 10 PM* | $15 Cover After \nDress Code Enforced in the Code Bar 10 PM to close \n*No Re-entry with free wrist band after midnight
URL:https://eaglebarwm.com/event/obsidian/
LOCATION:Eagle Wilton Manors\, 2209 WILTON DR\, WILTON MANORS\, FL\, 33305\, United States
CATEGORIES:IncludeInEmail
ATTACH;FMTTYPE=image/jpeg:https://eaglebarwm.com/wp-content/uploads/2025/07/OBSIDIAN-2025-Square-DJ-1080-x-1080.jpg
END:VEVENT
BEGIN:VEVENT
DTSTART;TZID=America/New_York:20250814T210000
DTEND;TZID=America/New_York:20250815T020000
DTSTAMP:20260425T134700
CREATED:20250721T203748Z
LAST-MODIFIED:20250811T185411Z
UID:10014787-1755205200-1755223200@eaglebarwm.com
SUMMARY:EDM NIGHT
DESCRIPTION:THURSDAY\nHappy Hour 7 PM – 9 PM \nCODE Bar Opens 7 PM | Tavern Opens 9 PM \nEDM NIGHT\nin Main Bar + CODE Bar  | 9 PM – 2 AM \nMusic By: DJERMO\nHALF PRICE WELL DRINKS & DOMESTIC BEER\n(Some Restrictions Apply) \nNo Cover
URL:https://eaglebarwm.com/event/edm-night-2/
LOCATION:Eagle Wilton Manors\, 2209 WILTON DR\, WILTON MANORS\, FL\, 33305\, United States
ATTACH;FMTTYPE=image/jpeg:https://eaglebarwm.com/wp-content/uploads/2025/07/2025-square-THURSDAY-EDM.jpg
END:VEVENT
BEGIN:VEVENT
DTSTART;TZID=America/New_York:20250814T190000
DTEND;TZID=America/New_York:20250814T220000
DTSTAMP:20260425T134700
CREATED:20250620T184435Z
LAST-MODIFIED:20250620T184752Z
UID:10014692-1755198000-1755208800@eaglebarwm.com
SUMMARY:Cigar Social
DESCRIPTION:THURSDAY\nHappy Hour 7 PM – 9 PM \nCODE Bar Opens 7 PM | Tavern Opens 9 PM \nCIGAR SOCIAL\nin Smoking Lounge & Patio | 7 PM – 10 PM
URL:https://eaglebarwm.com/event/cigar-social-3-2-3/2025-08-14/
LOCATION:Eagle Wilton Manors\, 2209 WILTON DR\, WILTON MANORS\, FL\, 33305\, United States
CATEGORIES:Weekday Repeating
ATTACH;FMTTYPE=image/jpeg:https://eaglebarwm.com/wp-content/uploads/2025/01/2025-square-CIGAR-THURSDAY.jpg
END:VEVENT
BEGIN:VEVENT
DTSTART;TZID=America/New_York:20250812T190000
DTEND;TZID=America/New_York:20250813T020000
DTSTAMP:20260425T134700
CREATED:20250811T181633Z
LAST-MODIFIED:20250811T181633Z
UID:10014601-1755025200-1755050400@eaglebarwm.com
SUMMARY:HAPPY HOUR ALL NIGHT
DESCRIPTION:TUESDAY\nHappy Hour All Night \nin CODE Bar | 7 PM – 2 AM \nHALF PRICE DRINKS ALL NIGHT\nNo Cover
URL:https://eaglebarwm.com/event/code_tuesday-2-2-2/2025-08-12/
LOCATION:Eagle Wilton Manors\, 2209 WILTON DR\, WILTON MANORS\, FL\, 33305\, United States
CATEGORIES:Weekday Repeating
END:VEVENT
BEGIN:VEVENT
DTSTART;TZID=America/New_York:20250811T190000
DTEND;TZID=America/New_York:20250812T020000
DTSTAMP:20260425T134700
CREATED:20250811T173048Z
LAST-MODIFIED:20250811T173049Z
UID:10014523-1754938800-1754964000@eaglebarwm.com
SUMMARY:JOCK STRAP & UNDERWEAR NIGHT
DESCRIPTION:MONDAY\nHappy Hour 7 PM – 9 PM \nCODE Bar Opens 7 PM | Tavern Opens 9 PM \nJOCK STRAP + UNDERWEAR NIGHT\nin Main Bar + CODE Bar  | 9 PM – 2 AM \n$3 Bud Lite & Miller Lite Bottles\n$4 Well | $6 Call\n(Includes Jack\, Jameson\, Absolut & Titos) \nIF IN A JOCK STRAP or UNDERWEAR\nNo Cover
URL:https://eaglebarwm.com/event/jock_strap_night-2-2-2-2/2025-08-11/
LOCATION:Eagle Wilton Manors\, 2209 WILTON DR\, WILTON MANORS\, FL\, 33305\, United States
CATEGORIES:Weekday Repeating
END:VEVENT
BEGIN:VEVENT
DTSTART;TZID=America/New_York:20250810T170000
DTEND;TZID=America/New_York:20250811T020000
DTSTAMP:20260425T134700
CREATED:20250729T183223Z
LAST-MODIFIED:20250729T183224Z
UID:10014445-1754845200-1754877600@eaglebarwm.com
SUMMARY:SINFUL SUNDAY
DESCRIPTION:SUNDAY\nHappy Hour 5 PM – 9 PM \nCODE Bar Opens 5 PM | Tavern Opens 9 PM \nSINFUL SUNDAYS\nin Main Bar + CODE Bar  | 8 PM – 2 AM \nMusic by: ADORA\nNo Cover
URL:https://eaglebarwm.com/event/sinful_sunday-11-10/
LOCATION:Eagle Wilton Manors\, 2209 WILTON DR\, WILTON MANORS\, FL\, 33305\, United States
CATEGORIES:Weekday Repeating
ATTACH;FMTTYPE=image/jpeg:https://eaglebarwm.com/wp-content/uploads/2025/05/square-SINFUL-SUNDAYS.jpg
END:VEVENT
BEGIN:VEVENT
DTSTART;TZID=America/New_York:20250809T210000
DTEND;TZID=America/New_York:20250810T030000
DTSTAMP:20260425T134700
CREATED:20250731T204135Z
LAST-MODIFIED:20250806T171651Z
UID:10014812-1754773200-1754794800@eaglebarwm.com
SUMMARY:JOYRIDE
DESCRIPTION:SATURDAY\nJOYRIDE\nin Bear Cave | 9 PM – 3 AM \nMusic By: BARRY BROWDER\nFree before 10 PM* | $15 Cover After \nDress Code Enforced in the Code Bar 10 PM to close \n*No Re-entry with free wrist band after midnight
URL:https://eaglebarwm.com/event/joyride-3/
LOCATION:Eagle Wilton Manors\, 2209 WILTON DR\, WILTON MANORS\, FL\, 33305\, United States
ATTACH;FMTTYPE=image/jpeg:https://eaglebarwm.com/wp-content/uploads/2025/07/instagram-fb-SUMMER-JOY-RIDE.jpg
END:VEVENT
BEGIN:VEVENT
DTSTART;TZID=America/New_York:20250809T210000
DTEND;TZID=America/New_York:20250810T030000
DTSTAMP:20260425T134700
CREATED:20250717T181059Z
LAST-MODIFIED:20250718T033049Z
UID:10014773-1754773200-1754794800@eaglebarwm.com
SUMMARY:FULL MOON PARTY
DESCRIPTION:SATURDAY\nHappy Hour 5 PM – 9 PM \nCODE Bar Opens 5 PM \nBear Cave Opens 8 PM \nFULL MOON PARTY\nin Main Bar + CODE Bar + Nest | 9 PM – 3 AM \nMusic By: SETH BREEZY\nFree before 10 PM* | $15 Cover After \nDress Code Enforced in the Code Bar 10 PM to close \n*No Re-entry with free wrist band after midnight
URL:https://eaglebarwm.com/event/full-moon-party/
LOCATION:Eagle Wilton Manors\, 2209 WILTON DR\, WILTON MANORS\, FL\, 33305\, United States
CATEGORIES:IncludeInEmail
ATTACH;FMTTYPE=image/jpeg:https://eaglebarwm.com/wp-content/uploads/2025/07/08-09-2025-squareFULL-MOON.jpg
END:VEVENT
BEGIN:VEVENT
DTSTART;TZID=America/New_York:20250809T210000
DTEND;TZID=America/New_York:20250810T000000
DTSTAMP:20260425T134700
CREATED:20250905T175002Z
LAST-MODIFIED:20250905T175002Z
UID:10015449-1754773200-1754784000@eaglebarwm.com
SUMMARY:FLW - PRIDE WALK + FLAG RAISING
DESCRIPTION:SATURDAY\nFLORIDA LEATHER WEEK PRIDE WALK & FLAG RAISING\nBAR NIGHT\nin BEGINS AT RICHARDSON PARK | 5 PM – 7:30 PM \nCONCLUDES AT EAGLE
URL:https://eaglebarwm.com/event/flw-pride-walk-flag-raising/2025-08-09/
LOCATION:Eagle Wilton Manors\, 2209 WILTON DR\, WILTON MANORS\, FL\, 33305\, United States
CATEGORIES:Monthly Repeating
ATTACH;FMTTYPE=image/png:https://eaglebarwm.com/wp-content/uploads/2025/09/25-11-08_Openingwalk_Square_1080x1080.png
END:VEVENT
BEGIN:VEVENT
DTSTART;TZID=America/New_York:20250809T210000
DTEND;TZID=America/New_York:20250810T000000
DTSTAMP:20260425T134700
CREATED:20250610T182949Z
LAST-MODIFIED:20250610T183124Z
UID:10014311-1754773200-1754784000@eaglebarwm.com
SUMMARY:ONYX Bar Night
DESCRIPTION:SATURDAY\nONYX DEEP SOUTH\nBAR NIGHT\nin Bear Cave | 9 PM – 12 AM \nSecond Saturday of Every Month
URL:https://eaglebarwm.com/event/onyx-bar-night-3/2025-08-09/
LOCATION:Eagle Wilton Manors\, 2209 WILTON DR\, WILTON MANORS\, FL\, 33305\, United States
CATEGORIES:Monthly Repeating
END:VEVENT
BEGIN:VEVENT
DTSTART;TZID=America/New_York:20250808T210000
DTEND;TZID=America/New_York:20250809T030000
DTSTAMP:20260425T134700
CREATED:20250709T161714Z
LAST-MODIFIED:20250718T033117Z
UID:10014769-1754686800-1754708400@eaglebarwm.com
SUMMARY:CRAVE
DESCRIPTION:FRIDAY\nHappy Hour 5 PM – 9 PM \nCODE Bar Opens 5 PM \nBear Cave Opens 8 PM \nCRAVE\nin Main Bar + CODE Bar + Nest | 9 PM – 3 AM \nMusic By: ALEX RAMOS\nFree before 10 PM* | $15 Cover After \nDress Code Enforced in the Code Bar 10 PM to close \n*No Re-entry with free wrist band after midnight
URL:https://eaglebarwm.com/event/crave/
LOCATION:Eagle Wilton Manors\, 2209 WILTON DR\, WILTON MANORS\, FL\, 33305\, United States
CATEGORIES:IncludeInEmail
ATTACH;FMTTYPE=image/jpeg:https://eaglebarwm.com/wp-content/uploads/2025/07/CRAVE-2025-Square-DJ-1080-x-1080.jpg
END:VEVENT
BEGIN:VEVENT
DTSTART;TZID=America/New_York:20250807T210000
DTEND;TZID=America/New_York:20250808T030000
DTSTAMP:20260425T134700
CREATED:20250721T203607Z
LAST-MODIFIED:20250721T203607Z
UID:10014786-1754600400-1754622000@eaglebarwm.com
SUMMARY:EDM NIGHT
DESCRIPTION:THURSDAY\nHappy Hour 7 PM – 9 PM \nCODE Bar Opens 7 PM | Tavern Opens 9 PM \nEDM NIGHT\nin Main Bar + CODE Bar  | 9 PM – 2 AM \nMusic by: Djermo\nHalf Price Well Drinks & Domestic Beer\n(Some restrictions apply)\nNo Cover
URL:https://eaglebarwm.com/event/edm-night/
LOCATION:Eagle Wilton Manors\, 2209 WILTON DR\, WILTON MANORS\, FL\, 33305\, United States
ATTACH;FMTTYPE=image/jpeg:https://eaglebarwm.com/wp-content/uploads/2025/07/2025-square-THURSDAY-EDM.jpg
END:VEVENT
BEGIN:VEVENT
DTSTART;TZID=America/New_York:20250807T190000
DTEND;TZID=America/New_York:20250807T220000
DTSTAMP:20260425T134700
CREATED:20250620T184435Z
LAST-MODIFIED:20250620T184752Z
UID:10014691-1754593200-1754604000@eaglebarwm.com
SUMMARY:Cigar Social
DESCRIPTION:THURSDAY\nHappy Hour 7 PM – 9 PM \nCODE Bar Opens 7 PM | Tavern Opens 9 PM \nCIGAR SOCIAL\nin Smoking Lounge & Patio | 7 PM – 10 PM
URL:https://eaglebarwm.com/event/cigar-social-3-2-3/2025-08-07/
LOCATION:Eagle Wilton Manors\, 2209 WILTON DR\, WILTON MANORS\, FL\, 33305\, United States
CATEGORIES:Weekday Repeating
ATTACH;FMTTYPE=image/jpeg:https://eaglebarwm.com/wp-content/uploads/2025/01/2025-square-CIGAR-THURSDAY.jpg
END:VEVENT
BEGIN:VEVENT
DTSTART;TZID=America/New_York:20250806T190000
DTEND;TZID=America/New_York:20250807T020000
DTSTAMP:20260425T134700
CREATED:20250724T163235Z
LAST-MODIFIED:20250724T163235Z
UID:10014370-1754506800-1754532000@eaglebarwm.com
SUMMARY:LEATHER + HARNESS NIGHT
DESCRIPTION:WEDNESDAY\nHappy Hour 7 PM – 9 PM \nCODE Bar Opens 7 PM | Tavern Opens 9 PM \nLEATHER + HARNESS NIGHT\nin Main Bar + CODE Bar  | 9 PM – 2 AM \n \nMusic by: TREVOR OLDROYD\n  \nHALF PRICE DRINKS\n(Some restrictions apply)\nIF WEARING A HARNESS\nNo Cover
URL:https://eaglebarwm.com/event/leather-harness-night-2-3/
LOCATION:Eagle Wilton Manors\, 2209 WILTON DR\, WILTON MANORS\, FL\, 33305\, United States
CATEGORIES:Weekday Repeating
ATTACH;FMTTYPE=image/jpeg:https://eaglebarwm.com/wp-content/uploads/2025/01/2025-square-WEDNESDAY-HARNESS.jpg
END:VEVENT
BEGIN:VEVENT
DTSTART;TZID=America/New_York:20250805T190000
DTEND;TZID=America/New_York:20250806T020000
DTSTAMP:20260425T134700
CREATED:20250530T184800Z
LAST-MODIFIED:20250530T184931Z
UID:10014600-1754420400-1754445600@eaglebarwm.com
SUMMARY:HAPPY HOUR ALL NIGHT
DESCRIPTION:TUESDAY\nCODE Bar Opens 7 PM \nHAPPY HOUR ALL NIGHT\nin CODE Bar  | 7 PM – 2 AM \nHAPPY HOUR ALL DAY\n1/2 Price Drinks\nNo Cover
URL:https://eaglebarwm.com/event/code_tuesday-2-2/2025-08-05/
LOCATION:Eagle Wilton Manors\, 2209 WILTON DR\, WILTON MANORS\, FL\, 33305\, United States
CATEGORIES:Weekday Repeating
END:VEVENT
BEGIN:VEVENT
DTSTART;TZID=America/New_York:20250804T190000
DTEND;TZID=America/New_York:20250805T020000
DTSTAMP:20260425T134700
CREATED:20250530T184413Z
LAST-MODIFIED:20250628T232634Z
UID:10014522-1754334000-1754359200@eaglebarwm.com
SUMMARY:JOCK STRAP & UNDERWEAR NIGHT
DESCRIPTION:MONDAY\nHappy Hour 7 PM – 9 PM \nCODE Bar Opens 7 PM | Tavern Opens 9 PM \nJOCK STRAP + UNDERWEAR NIGHT\nin Main Bar + CODE Bar  | 9 PM – 2 AM \n$3 Bud Lite & Miller Lite Bottles\n$4 Well | $6 Call\n(Includes Jack\, Jameson\, Absolut & Titos) \nIF IN A JOCK STRAP or UNDERWEAR\nNo Cover
URL:https://eaglebarwm.com/event/jock_strap_night-2-2-2/2025-08-04/
LOCATION:Eagle Wilton Manors\, 2209 WILTON DR\, WILTON MANORS\, FL\, 33305\, United States
CATEGORIES:Weekday Repeating
END:VEVENT
END:VCALENDAR