BEGIN:VCALENDAR
VERSION:2.0
PRODID:-//Eagle Wilton Manors - ECPv6.15.17.1//NONSGML v1.0//EN
CALSCALE:GREGORIAN
METHOD:PUBLISH
X-WR-CALNAME:Eagle Wilton Manors
X-ORIGINAL-URL:https://eaglebarwm.com
X-WR-CALDESC:Events for Eagle Wilton Manors
REFRESH-INTERVAL;VALUE=DURATION:PT1H
X-Robots-Tag:noindex
X-PUBLISHED-TTL:PT1H
BEGIN:VTIMEZONE
TZID:America/New_York
BEGIN:DAYLIGHT
TZOFFSETFROM:-0500
TZOFFSETTO:-0400
TZNAME:EDT
DTSTART:20240310T070000
END:DAYLIGHT
BEGIN:STANDARD
TZOFFSETFROM:-0400
TZOFFSETTO:-0500
TZNAME:EST
DTSTART:20241103T060000
END:STANDARD
BEGIN:DAYLIGHT
TZOFFSETFROM:-0500
TZOFFSETTO:-0400
TZNAME:EDT
DTSTART:20250309T070000
END:DAYLIGHT
BEGIN:STANDARD
TZOFFSETFROM:-0400
TZOFFSETTO:-0500
TZNAME:EST
DTSTART:20251102T060000
END:STANDARD
BEGIN:DAYLIGHT
TZOFFSETFROM:-0500
TZOFFSETTO:-0400
TZNAME:EDT
DTSTART:20260308T070000
END:DAYLIGHT
BEGIN:STANDARD
TZOFFSETFROM:-0400
TZOFFSETTO:-0500
TZNAME:EST
DTSTART:20261101T060000
END:STANDARD
END:VTIMEZONE
BEGIN:VEVENT
DTSTART;TZID=America/New_York:20250803T170000
DTEND;TZID=America/New_York:20250804T020000
DTSTAMP:20260425T194626
CREATED:20250728T164937Z
LAST-MODIFIED:20250728T164937Z
UID:10014444-1754240400-1754272800@eaglebarwm.com
SUMMARY:SINFUL SUNDAY
DESCRIPTION:SUNDAY\nHappy Hour 5 PM – 9 PM \nCODE Bar Opens 5 PM | Tavern Opens 9 PM \nSINFUL SUNDAYS\nin Main Bar + CODE Bar  | 8 PM – 2 AM \nMusic by: ADORA\nNo Cover
URL:https://eaglebarwm.com/event/sinful_sunday-11-7/
LOCATION:Eagle Wilton Manors\, 2209 WILTON DR\, WILTON MANORS\, FL\, 33305\, United States
CATEGORIES:Weekday Repeating
ATTACH;FMTTYPE=image/jpeg:https://eaglebarwm.com/wp-content/uploads/2025/05/square-SINFUL-SUNDAYS.jpg
END:VEVENT
BEGIN:VEVENT
DTSTART;TZID=America/New_York:20250802T210000
DTEND;TZID=America/New_York:20250803T030000
DTSTAMP:20260425T194626
CREATED:20250731T203453Z
LAST-MODIFIED:20250731T203453Z
UID:10014811-1754168400-1754190000@eaglebarwm.com
SUMMARY:JOYRIDE
DESCRIPTION:SATURDAY\nJOYRIDE\nin Bear Cave | 9 PM – 3 AM \nMusic By: BARRY BROWDER\nFree before 10 PM* | $15 Cover After \nDress Code Enforced in the Code Bar 10 PM to close \n*No Re-entry with free wrist band after midnight
URL:https://eaglebarwm.com/event/joyride-2/
LOCATION:Eagle Wilton Manors\, 2209 WILTON DR\, WILTON MANORS\, FL\, 33305\, United States
CATEGORIES:IncludeInEmail
ATTACH;FMTTYPE=image/jpeg:https://eaglebarwm.com/wp-content/uploads/2025/07/instagram-fb-SUMMER-JOY-RIDE.jpg
END:VEVENT
BEGIN:VEVENT
DTSTART;TZID=America/New_York:20250802T210000
DTEND;TZID=America/New_York:20250803T030000
DTSTAMP:20260425T194626
CREATED:20250717T165441Z
LAST-MODIFIED:20250801T214451Z
UID:10014771-1754168400-1754190000@eaglebarwm.com
SUMMARY:SMOULDER
DESCRIPTION:SATURDAY\nHappy Hour 5 PM – 9 PM \nCODE Bar Opens 5 PM \nBear Cave Opens 8 PM \nSMOULDER\nin Main Bar + CODE Bar + Nest | 9 PM – 3 AM \nMusic By: BRADY PRINCE\nFree before 10 PM* | $15 Cover After \nDress Code Enforced in the Code Bar 10 PM to close \n*No Re-entry with free wrist band after midnight
URL:https://eaglebarwm.com/event/smoulder/
LOCATION:Eagle Wilton Manors\, 2209 WILTON DR\, WILTON MANORS\, FL\, 33305\, United States
CATEGORIES:IncludeInEmail
ATTACH;FMTTYPE=image/jpeg:https://eaglebarwm.com/wp-content/uploads/2025/07/08-02-2025-square-SMOULDER.jpg
END:VEVENT
BEGIN:VEVENT
DTSTART;TZID=America/New_York:20250801T220000
DTEND;TZID=America/New_York:20250802T030000
DTSTAMP:20260425T194626
CREATED:20250717T164839Z
LAST-MODIFIED:20250729T162146Z
UID:10014770-1754085600-1754103600@eaglebarwm.com
SUMMARY:THIRST
DESCRIPTION:FRIDAY\nHappy Hour 5 PM – 9 PM \nCODE Bar Opens 5 PM \nBear Cave Opens 8 PM \nTHIRST\nin Main Bar + CODE Bar + Nest | 9 PM – 3 AM \nMusic By: DREW G\nFree before 10 PM* | $15 Cover After \nDress Code Enforced in the Code Bar 10 PM to close \n*No Re-entry with free wrist band after midnight
URL:https://eaglebarwm.com/event/thirst/
LOCATION:Eagle Wilton Manors\, 2209 WILTON DR\, WILTON MANORS\, FL\, 33305\, United States
CATEGORIES:IncludeInEmail
ATTACH;FMTTYPE=image/jpeg:https://eaglebarwm.com/wp-content/uploads/2025/07/08-01-2025-square-THIRST.jpg
END:VEVENT
BEGIN:VEVENT
DTSTART;TZID=America/New_York:20250801T210000
DTEND;TZID=America/New_York:20250802T030000
DTSTAMP:20260425T194626
CREATED:20250731T204258Z
LAST-MODIFIED:20250731T204258Z
UID:10014813-1754082000-1754103600@eaglebarwm.com
SUMMARY:JOYRIDE
DESCRIPTION:FRIDAY\nJOYRIDE\nin Bear Cave | 9 PM – 3 AM \nMusic By: NITRX\nFree before 10 PM* | $15 Cover After \nDress Code Enforced in the Code Bar 10 PM to close \n*No Re-entry with free wrist band after midnight
URL:https://eaglebarwm.com/event/joyride-4/
LOCATION:Eagle Wilton Manors\, 2209 WILTON DR\, WILTON MANORS\, FL\, 33305\, United States
CATEGORIES:IncludeInEmail
ATTACH;FMTTYPE=image/jpeg:https://eaglebarwm.com/wp-content/uploads/2025/07/instagram-fb-SUMMER-JOY-RIDE.jpg
END:VEVENT
BEGIN:VEVENT
DTSTART;TZID=America/New_York:20250731T190000
DTEND;TZID=America/New_York:20250801T020000
DTSTAMP:20260425T194626
CREATED:20250620T184511Z
LAST-MODIFIED:20250620T184829Z
UID:10014767-1753988400-1754013600@eaglebarwm.com
SUMMARY:EDM NIGHT
DESCRIPTION:THURSDAY\nHappy Hour 7 PM – 9 PM \nCODE Bar Opens 7 PM | Tavern Opens 9 PM \nEDM NIGHT\nin Main Bar + CODE Bar  | 9 PM – 2 AM \nMusic by: Djermo\nHalf Price Well Drinks & Domestic Beer\n(Some restrictions apply)\nNo Cover
URL:https://eaglebarwm.com/event/edm_harness-2-3/2025-07-31/
LOCATION:Eagle Wilton Manors\, 2209 WILTON DR\, WILTON MANORS\, FL\, 33305\, United States
CATEGORIES:Weekday Repeating
ATTACH;FMTTYPE=image/jpeg:https://eaglebarwm.com/wp-content/uploads/2025/01/2025-square-THURSDAY-EDM.jpg
END:VEVENT
BEGIN:VEVENT
DTSTART;TZID=America/New_York:20250731T190000
DTEND;TZID=America/New_York:20250731T220000
DTSTAMP:20260425T194626
CREATED:20250620T184435Z
LAST-MODIFIED:20250620T184752Z
UID:10014690-1753988400-1753999200@eaglebarwm.com
SUMMARY:Cigar Social
DESCRIPTION:THURSDAY\nHappy Hour 7 PM – 9 PM \nCODE Bar Opens 7 PM | Tavern Opens 9 PM \nCIGAR SOCIAL\nin Smoking Lounge & Patio | 7 PM – 10 PM
URL:https://eaglebarwm.com/event/cigar-social-3-2-3/2025-07-31/
LOCATION:Eagle Wilton Manors\, 2209 WILTON DR\, WILTON MANORS\, FL\, 33305\, United States
CATEGORIES:Weekday Repeating
ATTACH;FMTTYPE=image/jpeg:https://eaglebarwm.com/wp-content/uploads/2025/01/2025-square-CIGAR-THURSDAY.jpg
END:VEVENT
BEGIN:VEVENT
DTSTART;TZID=America/New_York:20250730T190000
DTEND;TZID=America/New_York:20250731T020000
DTSTAMP:20260425T194626
CREATED:20250530T204813Z
LAST-MODIFIED:20250530T204814Z
UID:10014369-1753902000-1753927200@eaglebarwm.com
SUMMARY:LEATHER + HARNESS NIGHT
DESCRIPTION:WEDNESDAY\nHappy Hour 7 PM – 9 PM\n \n Bar Opens 7 PM | Tavern Opens 9 PM \nLEATHER + HARNESS NIGHT\nin Main Bar + CODE Bar  | 9 PM – 2 AM \nMusic by: Barry Browder\nHALF PRICE DRINKS\n(Some restrictions apply)\nIF WEARING A HARNESS\nNo Cover
URL:https://eaglebarwm.com/event/leather-harness-night-2-5/
LOCATION:Eagle Wilton Manors\, 2209 WILTON DR\, WILTON MANORS\, FL\, 33305\, United States
CATEGORIES:Weekday Repeating
ATTACH;FMTTYPE=image/jpeg:https://eaglebarwm.com/wp-content/uploads/2025/01/2025-square-WEDNESDAY-HARNESS.jpg
END:VEVENT
BEGIN:VEVENT
DTSTART;TZID=America/New_York:20250729T190000
DTEND;TZID=America/New_York:20250730T020000
DTSTAMP:20260425T194626
CREATED:20250530T184800Z
LAST-MODIFIED:20250530T184931Z
UID:10014599-1753815600-1753840800@eaglebarwm.com
SUMMARY:HAPPY HOUR ALL NIGHT
DESCRIPTION:TUESDAY\nCODE Bar Opens 7 PM \nHAPPY HOUR ALL NIGHT\nin CODE Bar  | 7 PM – 2 AM \nHAPPY HOUR ALL DAY\n1/2 Price Drinks\nNo Cover
URL:https://eaglebarwm.com/event/code_tuesday-2-2/2025-07-29/
LOCATION:Eagle Wilton Manors\, 2209 WILTON DR\, WILTON MANORS\, FL\, 33305\, United States
CATEGORIES:Weekday Repeating
END:VEVENT
BEGIN:VEVENT
DTSTART;TZID=America/New_York:20250728T190000
DTEND;TZID=America/New_York:20250729T020000
DTSTAMP:20260425T194626
CREATED:20250530T184413Z
LAST-MODIFIED:20250628T232634Z
UID:10014521-1753729200-1753754400@eaglebarwm.com
SUMMARY:JOCK STRAP & UNDERWEAR NIGHT
DESCRIPTION:MONDAY\nHappy Hour 7 PM – 9 PM \nCODE Bar Opens 7 PM | Tavern Opens 9 PM \nJOCK STRAP + UNDERWEAR NIGHT\nin Main Bar + CODE Bar  | 9 PM – 2 AM \n$3 Bud Lite & Miller Lite Bottles\n$4 Well | $6 Call\n(Includes Jack\, Jameson\, Absolut & Titos) \nIF IN A JOCK STRAP or UNDERWEAR\nNo Cover
URL:https://eaglebarwm.com/event/jock_strap_night-2-2-2/2025-07-28/
LOCATION:Eagle Wilton Manors\, 2209 WILTON DR\, WILTON MANORS\, FL\, 33305\, United States
CATEGORIES:Weekday Repeating
END:VEVENT
BEGIN:VEVENT
DTSTART;TZID=America/New_York:20250727T170000
DTEND;TZID=America/New_York:20250728T020000
DTSTAMP:20260425T194626
CREATED:20250530T201554Z
LAST-MODIFIED:20250727T215715Z
UID:10014443-1753635600-1753668000@eaglebarwm.com
SUMMARY:SINFUL SUNDAY
DESCRIPTION:SUNDAY\nOPENING – 9 PM\nSo our staff can enjoy a much deserved\nafternoon of camaraderie together at a pool party.  \nCODE Bar Opens 9 PM | Tavern Opens 9 PM \nSINFUL SUNDAYS\nin Main Bar + CODE Bar  | 9 PM – 2 AM \nMusic by: ADORA\nNo Cover
URL:https://eaglebarwm.com/event/sinful_sunday-11-6/
LOCATION:Eagle Wilton Manors\, 2209 WILTON DR\, WILTON MANORS\, FL\, 33305\, United States
CATEGORIES:Weekday Repeating
ATTACH;FMTTYPE=image/jpeg:https://eaglebarwm.com/wp-content/uploads/2025/05/square-SINFUL-SUNDAYS.jpg
END:VEVENT
BEGIN:VEVENT
DTSTART;TZID=America/New_York:20250727T053000
DTEND;TZID=America/New_York:20250727T220000
DTSTAMP:20260425T194626
CREATED:20250717T211328Z
LAST-MODIFIED:20250727T005817Z
UID:10014779-1753594200-1753653600@eaglebarwm.com
SUMMARY:BOOTS ON THE GROUND
DESCRIPTION:SUNDAY\nBOOTS ON THE GROUND\nActivist Collective for the Leather & Kink Community\n5:30pm | in the Bear Cave \nWe’re loud\, proud\, and laced up for liberation.\nBecause our rights aren’t a fetish. They’re fundamental. You can learn more about Boots on the Ground at their website.\n \n  \n*The views expressed at this event are not necessarily those of the staff at Eagle Wilton Manors.
URL:https://eaglebarwm.com/event/261230/
LOCATION:Eagle Wilton Manors\, 2209 WILTON DR\, WILTON MANORS\, FL\, 33305\, United States
CATEGORIES:IncludeInEmail
ATTACH;FMTTYPE=image/png:https://eaglebarwm.com/wp-content/uploads/2025/07/2025_07_27-Ad.png
END:VEVENT
BEGIN:VEVENT
DTSTART;TZID=America/New_York:20250726T210000
DTEND;TZID=America/New_York:20250727T030000
DTSTAMP:20260425T194626
CREATED:20250619T171822Z
LAST-MODIFIED:20250717T205214Z
UID:10014686-1753563600-1753585200@eaglebarwm.com
SUMMARY:DUNGEON
DESCRIPTION:SATURDAY\nHappy Hour 5 PM – 9 PM \nCODE Bar Opens 5 PM | Bear Cave Opens 8 PM \nDUNGEON\nin Main Bar + CODE Bar + Nest | 9 PM – 3 AM \nMusic By: ALEX RAMOS\nBear Haüs\nin Bear Cave | 11 PM – 3 AM \nMusic By: KOYOTE\nFree before 10 PM* | $15 Cover After \nDress Code Enforced in the Code Bar 10 PM to close \n*No Re-entry with free wrist band after midnight
URL:https://eaglebarwm.com/event/dungeon/
LOCATION:Eagle Wilton Manors\, 2209 WILTON DR\, WILTON MANORS\, FL\, 33305\, United States
CATEGORIES:IncludeInEmail
ATTACH;FMTTYPE=image/jpeg:https://eaglebarwm.com/wp-content/uploads/2025/06/DUNGEON-2025-Square-DJ-1080-x-1080.jpg
END:VEVENT
BEGIN:VEVENT
DTSTART;TZID=America/New_York:20250726T120000
DTEND;TZID=America/New_York:20250726T160000
DTSTAMP:20260425T194626
CREATED:20250717T180128Z
LAST-MODIFIED:20250727T005536Z
UID:10014772-1753531200-1753545600@eaglebarwm.com
SUMMARY:ONYX KINKY CAR WASH
DESCRIPTION:SATURDAY\nONYX KINKY CAR WASH\nEagle Parking Lot | 12 PM – 4 PM
URL:https://eaglebarwm.com/event/onyx-kinky-car-wash/
LOCATION:Eagle Wilton Manors\, 2209 WILTON DR\, WILTON MANORS\, FL\, 33305\, United States
ATTACH;FMTTYPE=image/jpeg:https://eaglebarwm.com/wp-content/uploads/2025/07/image0.jpeg
END:VEVENT
BEGIN:VEVENT
DTSTART;TZID=America/New_York:20250725T210000
DTEND;TZID=America/New_York:20250726T030000
DTSTAMP:20260425T194626
CREATED:20250619T171410Z
LAST-MODIFIED:20250717T210258Z
UID:10014685-1753477200-1753498800@eaglebarwm.com
SUMMARY:RUBBER
DESCRIPTION:FRIDAY\nHappy Hour 5 PM – 9 PM \nCODE Bar Opens 5 PM | Bear Cave Opens 8 PM \nRUBBER\nin Main Bar + CODE Bar + Nest | 9 PM – 3 AM \nMusic By: TDON\nBear Haüs\nin Bear Cave | 11 PM – 3 AM \nMusic By: HERBIE JAMES\nFree before 10 PM* | $15 Cover After \nDress Code Enforced in the Code Bar 10 PM to close \n*No Re-entry with free wrist band after midnight
URL:https://eaglebarwm.com/event/rubber/
LOCATION:Eagle Wilton Manors\, 2209 WILTON DR\, WILTON MANORS\, FL\, 33305\, United States
CATEGORIES:IncludeInEmail
ATTACH;FMTTYPE=image/jpeg:https://eaglebarwm.com/wp-content/uploads/2025/06/07-25-2025-square-RUBBER.jpg
END:VEVENT
BEGIN:VEVENT
DTSTART;TZID=America/New_York:20250724T190000
DTEND;TZID=America/New_York:20250725T020000
DTSTAMP:20260425T194626
CREATED:20250620T184511Z
LAST-MODIFIED:20250620T184829Z
UID:10014766-1753383600-1753408800@eaglebarwm.com
SUMMARY:EDM NIGHT
DESCRIPTION:THURSDAY\nHappy Hour 7 PM – 9 PM \nCODE Bar Opens 7 PM | Tavern Opens 9 PM \nEDM NIGHT\nin Main Bar + CODE Bar  | 9 PM – 2 AM \nMusic by: Djermo\nHalf Price Well Drinks & Domestic Beer\n(Some restrictions apply)\nNo Cover
URL:https://eaglebarwm.com/event/edm_harness-2-3/2025-07-24/
LOCATION:Eagle Wilton Manors\, 2209 WILTON DR\, WILTON MANORS\, FL\, 33305\, United States
CATEGORIES:Weekday Repeating
ATTACH;FMTTYPE=image/jpeg:https://eaglebarwm.com/wp-content/uploads/2025/01/2025-square-THURSDAY-EDM.jpg
END:VEVENT
BEGIN:VEVENT
DTSTART;TZID=America/New_York:20250724T190000
DTEND;TZID=America/New_York:20250724T220000
DTSTAMP:20260425T194626
CREATED:20250620T184435Z
LAST-MODIFIED:20250620T184752Z
UID:10014689-1753383600-1753394400@eaglebarwm.com
SUMMARY:Cigar Social
DESCRIPTION:THURSDAY\nHappy Hour 7 PM – 9 PM \nCODE Bar Opens 7 PM | Tavern Opens 9 PM \nCIGAR SOCIAL\nin Smoking Lounge & Patio | 7 PM – 10 PM
URL:https://eaglebarwm.com/event/cigar-social-3-2-3/2025-07-24/
LOCATION:Eagle Wilton Manors\, 2209 WILTON DR\, WILTON MANORS\, FL\, 33305\, United States
CATEGORIES:Weekday Repeating
ATTACH;FMTTYPE=image/jpeg:https://eaglebarwm.com/wp-content/uploads/2025/01/2025-square-CIGAR-THURSDAY.jpg
END:VEVENT
BEGIN:VEVENT
DTSTART;TZID=America/New_York:20250723T190000
DTEND;TZID=America/New_York:20250724T020000
DTSTAMP:20260425T194626
CREATED:20250530T204724Z
LAST-MODIFIED:20250530T204725Z
UID:10014368-1753297200-1753322400@eaglebarwm.com
SUMMARY:LEATHER + HARNESS NIGHT
DESCRIPTION:WEDNESDAY\nHappy Hour 7 PM – 9 PM\n \n Bar Opens 7 PM | Tavern Opens 9 PM \nLEATHER + HARNESS NIGHT\nin Main Bar + CODE Bar  | 9 PM – 2 AM \nMusic by: Barry Browder\nHALF PRICE DRINKS\n(Some restrictions apply)\nIF WEARING A HARNESS\nNo Cover
URL:https://eaglebarwm.com/event/leather-harness-night-2-4/
LOCATION:Eagle Wilton Manors\, 2209 WILTON DR\, WILTON MANORS\, FL\, 33305\, United States
CATEGORIES:Weekday Repeating
ATTACH;FMTTYPE=image/jpeg:https://eaglebarwm.com/wp-content/uploads/2025/01/2025-square-WEDNESDAY-HARNESS.jpg
END:VEVENT
BEGIN:VEVENT
DTSTART;TZID=America/New_York:20250722T190000
DTEND;TZID=America/New_York:20250723T020000
DTSTAMP:20260425T194626
CREATED:20250530T184800Z
LAST-MODIFIED:20250530T184931Z
UID:10014598-1753210800-1753236000@eaglebarwm.com
SUMMARY:HAPPY HOUR ALL NIGHT
DESCRIPTION:TUESDAY\nCODE Bar Opens 7 PM \nHAPPY HOUR ALL NIGHT\nin CODE Bar  | 7 PM – 2 AM \nHAPPY HOUR ALL DAY\n1/2 Price Drinks\nNo Cover
URL:https://eaglebarwm.com/event/code_tuesday-2-2/2025-07-22/
LOCATION:Eagle Wilton Manors\, 2209 WILTON DR\, WILTON MANORS\, FL\, 33305\, United States
CATEGORIES:Weekday Repeating
END:VEVENT
BEGIN:VEVENT
DTSTART;TZID=America/New_York:20250721T190000
DTEND;TZID=America/New_York:20250722T020000
DTSTAMP:20260425T194626
CREATED:20250530T184413Z
LAST-MODIFIED:20250628T232634Z
UID:10014520-1753124400-1753149600@eaglebarwm.com
SUMMARY:JOCK STRAP & UNDERWEAR NIGHT
DESCRIPTION:MONDAY\nHappy Hour 7 PM – 9 PM \nCODE Bar Opens 7 PM | Tavern Opens 9 PM \nJOCK STRAP + UNDERWEAR NIGHT\nin Main Bar + CODE Bar  | 9 PM – 2 AM \n$3 Bud Lite & Miller Lite Bottles\n$4 Well | $6 Call\n(Includes Jack\, Jameson\, Absolut & Titos) \nIF IN A JOCK STRAP or UNDERWEAR\nNo Cover
URL:https://eaglebarwm.com/event/jock_strap_night-2-2-2/2025-07-21/
LOCATION:Eagle Wilton Manors\, 2209 WILTON DR\, WILTON MANORS\, FL\, 33305\, United States
CATEGORIES:Weekday Repeating
END:VEVENT
BEGIN:VEVENT
DTSTART;TZID=America/New_York:20250720T170000
DTEND;TZID=America/New_York:20250721T020000
DTSTAMP:20260425T194626
CREATED:20250530T195547Z
LAST-MODIFIED:20250530T201413Z
UID:10014442-1753030800-1753063200@eaglebarwm.com
SUMMARY:SINFUL SUNDAY
DESCRIPTION:SUNDAY\nHappy Hour 5 PM – 9 PM \nCODE Bar Opens 5 PM | Tavern Opens 9 PM \nSINFUL SUNDAYS\nin Main Bar + CODE Bar  | 8 PM – 2 AM \nMusic by BARRY BROWDER:\nNo Cover
URL:https://eaglebarwm.com/event/sinful_sunday-11-5/
LOCATION:Eagle Wilton Manors\, 2209 WILTON DR\, WILTON MANORS\, FL\, 33305\, United States
CATEGORIES:Weekday Repeating
ATTACH;FMTTYPE=image/jpeg:https://eaglebarwm.com/wp-content/uploads/2025/01/square-SINFUL-SUNDAYS.jpg
END:VEVENT
BEGIN:VEVENT
DTSTART;TZID=America/New_York:20250719T210000
DTEND;TZID=America/New_York:20250720T030000
DTSTAMP:20260425T194626
CREATED:20250619T170917Z
LAST-MODIFIED:20250717T205141Z
UID:10014684-1752958800-1752980400@eaglebarwm.com
SUMMARY:BEEFCAKE
DESCRIPTION:SATURDAY\nHappy Hour 5 PM – 9 PM \nCODE Bar Opens 5 PM | Bear Cave Opens 8 PM \nBEEFCAKE\nin Main Bar + CODE Bar + Nest | 9 PM – 3 AM \nMusic By: GSP\nBear Haüs\nin Bear Cave | 11 PM – 3 AM \nMusic By: HUKILL\nFree before 10 PM* | $15 Cover After \nDress Code Enforced in the Code Bar 10 PM to close \n*No Re-entry with free wrist band after midnight
URL:https://eaglebarwm.com/event/beefcake-2/
LOCATION:Eagle Wilton Manors\, 2209 WILTON DR\, WILTON MANORS\, FL\, 33305\, United States
CATEGORIES:IncludeInEmail
ATTACH;FMTTYPE=image/png:https://eaglebarwm.com/wp-content/uploads/2025/06/MAIN_1_IG-scaled.png
END:VEVENT
BEGIN:VEVENT
DTSTART;TZID=America/New_York:20250718T210000
DTEND;TZID=America/New_York:20250719T030000
DTSTAMP:20260425T194626
CREATED:20250619T170401Z
LAST-MODIFIED:20250717T210452Z
UID:10014683-1752872400-1752894000@eaglebarwm.com
SUMMARY:LOADED
DESCRIPTION:FRIDAY\nHappy Hour 5 PM – 9 PM \nCODE Bar Opens 5 PM | Bear Cave Opens 8 PM \nLOADED\nin Main Bar + CODE Bar + Nest | 9 PM – 3 AM \nMusic By: PAGANO\nBear Haüs\nin Bear Cave | 11 PM – 3 AM \nMusic By: NICOTENE\nFree before 10 PM* | $15 Cover After \nDress Code Enforced in the Code Bar 10 PM to close \n*No Re-entry with free wrist band after midnight
URL:https://eaglebarwm.com/event/loaded/
LOCATION:Eagle Wilton Manors\, 2209 WILTON DR\, WILTON MANORS\, FL\, 33305\, United States
CATEGORIES:IncludeInEmail
ATTACH;FMTTYPE=image/png:https://eaglebarwm.com/wp-content/uploads/2025/06/EWM_Loaded_INSTA_1080x1320._51125_2.png
END:VEVENT
BEGIN:VEVENT
DTSTART;TZID=America/New_York:20250717T190000
DTEND;TZID=America/New_York:20250718T020000
DTSTAMP:20260425T194626
CREATED:20250620T184511Z
LAST-MODIFIED:20250620T184829Z
UID:10014765-1752778800-1752804000@eaglebarwm.com
SUMMARY:EDM NIGHT
DESCRIPTION:THURSDAY\nHappy Hour 7 PM – 9 PM \nCODE Bar Opens 7 PM | Tavern Opens 9 PM \nEDM NIGHT\nin Main Bar + CODE Bar  | 9 PM – 2 AM \nMusic by: Djermo\nHalf Price Well Drinks & Domestic Beer\n(Some restrictions apply)\nNo Cover
URL:https://eaglebarwm.com/event/edm_harness-2-3/2025-07-17/
LOCATION:Eagle Wilton Manors\, 2209 WILTON DR\, WILTON MANORS\, FL\, 33305\, United States
CATEGORIES:Weekday Repeating
ATTACH;FMTTYPE=image/jpeg:https://eaglebarwm.com/wp-content/uploads/2025/01/2025-square-THURSDAY-EDM.jpg
END:VEVENT
BEGIN:VEVENT
DTSTART;TZID=America/New_York:20250717T190000
DTEND;TZID=America/New_York:20250717T220000
DTSTAMP:20260425T194626
CREATED:20250620T184435Z
LAST-MODIFIED:20250620T184752Z
UID:10014688-1752778800-1752789600@eaglebarwm.com
SUMMARY:Cigar Social
DESCRIPTION:THURSDAY\nHappy Hour 7 PM – 9 PM \nCODE Bar Opens 7 PM | Tavern Opens 9 PM \nCIGAR SOCIAL\nin Smoking Lounge & Patio | 7 PM – 10 PM
URL:https://eaglebarwm.com/event/cigar-social-3-2-3/2025-07-17/
LOCATION:Eagle Wilton Manors\, 2209 WILTON DR\, WILTON MANORS\, FL\, 33305\, United States
CATEGORIES:Weekday Repeating
ATTACH;FMTTYPE=image/jpeg:https://eaglebarwm.com/wp-content/uploads/2025/01/2025-square-CIGAR-THURSDAY.jpg
END:VEVENT
BEGIN:VEVENT
DTSTART;TZID=America/New_York:20250716T190000
DTEND;TZID=America/New_York:20250717T020000
DTSTAMP:20260425T194626
CREATED:20250530T205116Z
LAST-MODIFIED:20250530T205116Z
UID:10014367-1752692400-1752717600@eaglebarwm.com
SUMMARY:LEATHER + HARNESS NIGHT
DESCRIPTION:WEDNESDAY\nHappy Hour 7 PM – 9 PM\n \n Bar Opens 7 PM | Tavern Opens 9 PM \nLEATHER + HARNESS NIGHT\nin Main Bar + CODE Bar  | 9 PM – 2 AM \nMusic by: TREVOR OLDROYD\nHALF PRICE DRINKS\n(Some restrictions apply)\nIF WEARING A HARNESS\nNo Cover
URL:https://eaglebarwm.com/event/leather-harness-night-2-7/
LOCATION:Eagle Wilton Manors\, 2209 WILTON DR\, WILTON MANORS\, FL\, 33305\, United States
CATEGORIES:Weekday Repeating
ATTACH;FMTTYPE=image/jpeg:https://eaglebarwm.com/wp-content/uploads/2025/01/2025-square-WEDNESDAY-HARNESS.jpg
END:VEVENT
BEGIN:VEVENT
DTSTART;TZID=America/New_York:20250716T180000
DTEND;TZID=America/New_York:20250716T200000
DTSTAMP:20260425T194626
CREATED:20250309T081526Z
LAST-MODIFIED:20251208T012134Z
UID:10014382-1752688800-1752696000@eaglebarwm.com
SUMMARY:HONEY POT
DESCRIPTION:Happy Hour 5 PM – 9 PM \nCODE Bar Opens 5 PM | Bear Cave Opens 8 PM \nHONEY POT\nin Main Bar + CODE Bar | 9 PM – 3 AM \nBears of South Florida\nHappy Hour Social\n3rd WED Every Month | 7 – 9 pm \n*No Cover
URL:https://eaglebarwm.com/event/bosfl-happy-hour-2/2025-07-16/
LOCATION:Eagle Wilton Manors\, 2209 WILTON DR\, WILTON MANORS\, FL\, 33305\, United States
CATEGORIES:Monthly Repeating
ATTACH;FMTTYPE=image/jpeg:https://eaglebarwm.com/wp-content/uploads/2025/01/square-BoSF-HONEY-POT-w-Snaks.jpg
END:VEVENT
BEGIN:VEVENT
DTSTART;TZID=America/New_York:20250715T190000
DTEND;TZID=America/New_York:20250716T020000
DTSTAMP:20260425T194626
CREATED:20250530T184800Z
LAST-MODIFIED:20250530T184931Z
UID:10014597-1752606000-1752631200@eaglebarwm.com
SUMMARY:HAPPY HOUR ALL NIGHT
DESCRIPTION:TUESDAY\nCODE Bar Opens 7 PM \nHAPPY HOUR ALL NIGHT\nin CODE Bar  | 7 PM – 2 AM \nHAPPY HOUR ALL DAY\n1/2 Price Drinks\nNo Cover
URL:https://eaglebarwm.com/event/code_tuesday-2-2/2025-07-15/
LOCATION:Eagle Wilton Manors\, 2209 WILTON DR\, WILTON MANORS\, FL\, 33305\, United States
CATEGORIES:Weekday Repeating
END:VEVENT
BEGIN:VEVENT
DTSTART;TZID=America/New_York:20250714T190000
DTEND;TZID=America/New_York:20250715T020000
DTSTAMP:20260425T194626
CREATED:20250530T184413Z
LAST-MODIFIED:20250628T232634Z
UID:10014519-1752519600-1752544800@eaglebarwm.com
SUMMARY:JOCK STRAP & UNDERWEAR NIGHT
DESCRIPTION:MONDAY\nHappy Hour 7 PM – 9 PM \nCODE Bar Opens 7 PM | Tavern Opens 9 PM \nJOCK STRAP + UNDERWEAR NIGHT\nin Main Bar + CODE Bar  | 9 PM – 2 AM \n$3 Bud Lite & Miller Lite Bottles\n$4 Well | $6 Call\n(Includes Jack\, Jameson\, Absolut & Titos) \nIF IN A JOCK STRAP or UNDERWEAR\nNo Cover
URL:https://eaglebarwm.com/event/jock_strap_night-2-2-2/2025-07-14/
LOCATION:Eagle Wilton Manors\, 2209 WILTON DR\, WILTON MANORS\, FL\, 33305\, United States
CATEGORIES:Weekday Repeating
END:VEVENT
BEGIN:VEVENT
DTSTART;TZID=America/New_York:20250713T170000
DTEND;TZID=America/New_York:20250714T020000
DTSTAMP:20260425T194626
CREATED:20250530T195355Z
LAST-MODIFIED:20250530T195355Z
UID:10014441-1752426000-1752458400@eaglebarwm.com
SUMMARY:SINFUL SUNDAY
DESCRIPTION:SUNDAY\nHappy Hour 5 PM – 9 PM \nCODE Bar Opens 5 PM | Tavern Opens 9 PM \nSINFUL SUNDAYS\nin Main Bar + CODE Bar  | 8 PM – 2 AM \nMusic by ADORA:\nNo Cover
URL:https://eaglebarwm.com/event/sinful_sunday-11-4/
LOCATION:Eagle Wilton Manors\, 2209 WILTON DR\, WILTON MANORS\, FL\, 33305\, United States
CATEGORIES:Weekday Repeating
ATTACH;FMTTYPE=image/jpeg:https://eaglebarwm.com/wp-content/uploads/2025/01/square-SINFUL-SUNDAYS.jpg
END:VEVENT
END:VCALENDAR