BEGIN:VCALENDAR
VERSION:2.0
PRODID:-//Eagle Wilton Manors - ECPv6.15.17.1//NONSGML v1.0//EN
CALSCALE:GREGORIAN
METHOD:PUBLISH
X-ORIGINAL-URL:https://eaglebarwm.com
X-WR-CALDESC:Events for Eagle Wilton Manors
REFRESH-INTERVAL;VALUE=DURATION:PT1H
X-Robots-Tag:noindex
X-PUBLISHED-TTL:PT1H
BEGIN:VTIMEZONE
TZID:America/New_York
BEGIN:DAYLIGHT
TZOFFSETFROM:-0500
TZOFFSETTO:-0400
TZNAME:EDT
DTSTART:20240310T070000
END:DAYLIGHT
BEGIN:STANDARD
TZOFFSETFROM:-0400
TZOFFSETTO:-0500
TZNAME:EST
DTSTART:20241103T060000
END:STANDARD
BEGIN:DAYLIGHT
TZOFFSETFROM:-0500
TZOFFSETTO:-0400
TZNAME:EDT
DTSTART:20250309T070000
END:DAYLIGHT
BEGIN:STANDARD
TZOFFSETFROM:-0400
TZOFFSETTO:-0500
TZNAME:EST
DTSTART:20251102T060000
END:STANDARD
BEGIN:DAYLIGHT
TZOFFSETFROM:-0500
TZOFFSETTO:-0400
TZNAME:EDT
DTSTART:20260308T070000
END:DAYLIGHT
BEGIN:STANDARD
TZOFFSETFROM:-0400
TZOFFSETTO:-0500
TZNAME:EST
DTSTART:20261101T060000
END:STANDARD
END:VTIMEZONE
BEGIN:VEVENT
DTSTART;TZID=America/New_York:20250721T190000
DTEND;TZID=America/New_York:20250722T020000
DTSTAMP:20260425T224345
CREATED:20250530T184413Z
LAST-MODIFIED:20250628T232634Z
UID:10014520-1753124400-1753149600@eaglebarwm.com
SUMMARY:JOCK STRAP & UNDERWEAR NIGHT
DESCRIPTION:MONDAY\nHappy Hour 7 PM – 9 PM \nCODE Bar Opens 7 PM | Tavern Opens 9 PM \nJOCK STRAP + UNDERWEAR NIGHT\nin Main Bar + CODE Bar  | 9 PM – 2 AM \n$3 Bud Lite & Miller Lite Bottles\n$4 Well | $6 Call\n(Includes Jack\, Jameson\, Absolut & Titos) \nIF IN A JOCK STRAP or UNDERWEAR\nNo Cover
URL:https://eaglebarwm.com/event/jock_strap_night-2-2-2/2025-07-21/
LOCATION:Eagle Wilton Manors\, 2209 WILTON DR\, WILTON MANORS\, FL\, 33305\, United States
CATEGORIES:Weekday Repeating
END:VEVENT
BEGIN:VEVENT
DTSTART;TZID=America/New_York:20250720T170000
DTEND;TZID=America/New_York:20250721T020000
DTSTAMP:20260425T224345
CREATED:20250530T195547Z
LAST-MODIFIED:20250530T201413Z
UID:10014442-1753030800-1753063200@eaglebarwm.com
SUMMARY:SINFUL SUNDAY
DESCRIPTION:SUNDAY\nHappy Hour 5 PM – 9 PM \nCODE Bar Opens 5 PM | Tavern Opens 9 PM \nSINFUL SUNDAYS\nin Main Bar + CODE Bar  | 8 PM – 2 AM \nMusic by BARRY BROWDER:\nNo Cover
URL:https://eaglebarwm.com/event/sinful_sunday-11-5/
LOCATION:Eagle Wilton Manors\, 2209 WILTON DR\, WILTON MANORS\, FL\, 33305\, United States
CATEGORIES:Weekday Repeating
ATTACH;FMTTYPE=image/jpeg:https://eaglebarwm.com/wp-content/uploads/2025/01/square-SINFUL-SUNDAYS.jpg
END:VEVENT
BEGIN:VEVENT
DTSTART;TZID=America/New_York:20250719T210000
DTEND;TZID=America/New_York:20250720T030000
DTSTAMP:20260425T224345
CREATED:20250619T170917Z
LAST-MODIFIED:20250717T205141Z
UID:10014684-1752958800-1752980400@eaglebarwm.com
SUMMARY:BEEFCAKE
DESCRIPTION:SATURDAY\nHappy Hour 5 PM – 9 PM \nCODE Bar Opens 5 PM | Bear Cave Opens 8 PM \nBEEFCAKE\nin Main Bar + CODE Bar + Nest | 9 PM – 3 AM \nMusic By: GSP\nBear Haüs\nin Bear Cave | 11 PM – 3 AM \nMusic By: HUKILL\nFree before 10 PM* | $15 Cover After \nDress Code Enforced in the Code Bar 10 PM to close \n*No Re-entry with free wrist band after midnight
URL:https://eaglebarwm.com/event/beefcake-2/
LOCATION:Eagle Wilton Manors\, 2209 WILTON DR\, WILTON MANORS\, FL\, 33305\, United States
CATEGORIES:IncludeInEmail
ATTACH;FMTTYPE=image/png:https://eaglebarwm.com/wp-content/uploads/2025/06/MAIN_1_IG-scaled.png
END:VEVENT
BEGIN:VEVENT
DTSTART;TZID=America/New_York:20250718T210000
DTEND;TZID=America/New_York:20250719T030000
DTSTAMP:20260425T224345
CREATED:20250619T170401Z
LAST-MODIFIED:20250717T210452Z
UID:10014683-1752872400-1752894000@eaglebarwm.com
SUMMARY:LOADED
DESCRIPTION:FRIDAY\nHappy Hour 5 PM – 9 PM \nCODE Bar Opens 5 PM | Bear Cave Opens 8 PM \nLOADED\nin Main Bar + CODE Bar + Nest | 9 PM – 3 AM \nMusic By: PAGANO\nBear Haüs\nin Bear Cave | 11 PM – 3 AM \nMusic By: NICOTENE\nFree before 10 PM* | $15 Cover After \nDress Code Enforced in the Code Bar 10 PM to close \n*No Re-entry with free wrist band after midnight
URL:https://eaglebarwm.com/event/loaded/
LOCATION:Eagle Wilton Manors\, 2209 WILTON DR\, WILTON MANORS\, FL\, 33305\, United States
CATEGORIES:IncludeInEmail
ATTACH;FMTTYPE=image/png:https://eaglebarwm.com/wp-content/uploads/2025/06/EWM_Loaded_INSTA_1080x1320._51125_2.png
END:VEVENT
BEGIN:VEVENT
DTSTART;TZID=America/New_York:20250717T190000
DTEND;TZID=America/New_York:20250718T020000
DTSTAMP:20260425T224345
CREATED:20250620T184511Z
LAST-MODIFIED:20250620T184829Z
UID:10014765-1752778800-1752804000@eaglebarwm.com
SUMMARY:EDM NIGHT
DESCRIPTION:THURSDAY\nHappy Hour 7 PM – 9 PM \nCODE Bar Opens 7 PM | Tavern Opens 9 PM \nEDM NIGHT\nin Main Bar + CODE Bar  | 9 PM – 2 AM \nMusic by: Djermo\nHalf Price Well Drinks & Domestic Beer\n(Some restrictions apply)\nNo Cover
URL:https://eaglebarwm.com/event/edm_harness-2-3/2025-07-17/
LOCATION:Eagle Wilton Manors\, 2209 WILTON DR\, WILTON MANORS\, FL\, 33305\, United States
CATEGORIES:Weekday Repeating
ATTACH;FMTTYPE=image/jpeg:https://eaglebarwm.com/wp-content/uploads/2025/01/2025-square-THURSDAY-EDM.jpg
END:VEVENT
BEGIN:VEVENT
DTSTART;TZID=America/New_York:20250717T190000
DTEND;TZID=America/New_York:20250717T220000
DTSTAMP:20260425T224345
CREATED:20250620T184435Z
LAST-MODIFIED:20250620T184752Z
UID:10014688-1752778800-1752789600@eaglebarwm.com
SUMMARY:Cigar Social
DESCRIPTION:THURSDAY\nHappy Hour 7 PM – 9 PM \nCODE Bar Opens 7 PM | Tavern Opens 9 PM \nCIGAR SOCIAL\nin Smoking Lounge & Patio | 7 PM – 10 PM
URL:https://eaglebarwm.com/event/cigar-social-3-2-3/2025-07-17/
LOCATION:Eagle Wilton Manors\, 2209 WILTON DR\, WILTON MANORS\, FL\, 33305\, United States
CATEGORIES:Weekday Repeating
ATTACH;FMTTYPE=image/jpeg:https://eaglebarwm.com/wp-content/uploads/2025/01/2025-square-CIGAR-THURSDAY.jpg
END:VEVENT
BEGIN:VEVENT
DTSTART;TZID=America/New_York:20250716T190000
DTEND;TZID=America/New_York:20250717T020000
DTSTAMP:20260425T224345
CREATED:20250530T205116Z
LAST-MODIFIED:20250530T205116Z
UID:10014367-1752692400-1752717600@eaglebarwm.com
SUMMARY:LEATHER + HARNESS NIGHT
DESCRIPTION:WEDNESDAY\nHappy Hour 7 PM – 9 PM\n \n Bar Opens 7 PM | Tavern Opens 9 PM \nLEATHER + HARNESS NIGHT\nin Main Bar + CODE Bar  | 9 PM – 2 AM \nMusic by: TREVOR OLDROYD\nHALF PRICE DRINKS\n(Some restrictions apply)\nIF WEARING A HARNESS\nNo Cover
URL:https://eaglebarwm.com/event/leather-harness-night-2-7/
LOCATION:Eagle Wilton Manors\, 2209 WILTON DR\, WILTON MANORS\, FL\, 33305\, United States
CATEGORIES:Weekday Repeating
ATTACH;FMTTYPE=image/jpeg:https://eaglebarwm.com/wp-content/uploads/2025/01/2025-square-WEDNESDAY-HARNESS.jpg
END:VEVENT
BEGIN:VEVENT
DTSTART;TZID=America/New_York:20250716T180000
DTEND;TZID=America/New_York:20250716T200000
DTSTAMP:20260425T224345
CREATED:20250309T081526Z
LAST-MODIFIED:20251208T012134Z
UID:10014382-1752688800-1752696000@eaglebarwm.com
SUMMARY:HONEY POT
DESCRIPTION:Happy Hour 5 PM – 9 PM \nCODE Bar Opens 5 PM | Bear Cave Opens 8 PM \nHONEY POT\nin Main Bar + CODE Bar | 9 PM – 3 AM \nBears of South Florida\nHappy Hour Social\n3rd WED Every Month | 7 – 9 pm \n*No Cover
URL:https://eaglebarwm.com/event/bosfl-happy-hour-2/2025-07-16/
LOCATION:Eagle Wilton Manors\, 2209 WILTON DR\, WILTON MANORS\, FL\, 33305\, United States
CATEGORIES:Monthly Repeating
ATTACH;FMTTYPE=image/jpeg:https://eaglebarwm.com/wp-content/uploads/2025/01/square-BoSF-HONEY-POT-w-Snaks.jpg
END:VEVENT
BEGIN:VEVENT
DTSTART;TZID=America/New_York:20250715T190000
DTEND;TZID=America/New_York:20250716T020000
DTSTAMP:20260425T224345
CREATED:20250530T184800Z
LAST-MODIFIED:20250530T184931Z
UID:10014597-1752606000-1752631200@eaglebarwm.com
SUMMARY:HAPPY HOUR ALL NIGHT
DESCRIPTION:TUESDAY\nCODE Bar Opens 7 PM \nHAPPY HOUR ALL NIGHT\nin CODE Bar  | 7 PM – 2 AM \nHAPPY HOUR ALL DAY\n1/2 Price Drinks\nNo Cover
URL:https://eaglebarwm.com/event/code_tuesday-2-2/2025-07-15/
LOCATION:Eagle Wilton Manors\, 2209 WILTON DR\, WILTON MANORS\, FL\, 33305\, United States
CATEGORIES:Weekday Repeating
END:VEVENT
BEGIN:VEVENT
DTSTART;TZID=America/New_York:20250714T190000
DTEND;TZID=America/New_York:20250715T020000
DTSTAMP:20260425T224345
CREATED:20250530T184413Z
LAST-MODIFIED:20250628T232634Z
UID:10014519-1752519600-1752544800@eaglebarwm.com
SUMMARY:JOCK STRAP & UNDERWEAR NIGHT
DESCRIPTION:MONDAY\nHappy Hour 7 PM – 9 PM \nCODE Bar Opens 7 PM | Tavern Opens 9 PM \nJOCK STRAP + UNDERWEAR NIGHT\nin Main Bar + CODE Bar  | 9 PM – 2 AM \n$3 Bud Lite & Miller Lite Bottles\n$4 Well | $6 Call\n(Includes Jack\, Jameson\, Absolut & Titos) \nIF IN A JOCK STRAP or UNDERWEAR\nNo Cover
URL:https://eaglebarwm.com/event/jock_strap_night-2-2-2/2025-07-14/
LOCATION:Eagle Wilton Manors\, 2209 WILTON DR\, WILTON MANORS\, FL\, 33305\, United States
CATEGORIES:Weekday Repeating
END:VEVENT
BEGIN:VEVENT
DTSTART;TZID=America/New_York:20250713T170000
DTEND;TZID=America/New_York:20250714T020000
DTSTAMP:20260425T224345
CREATED:20250530T195355Z
LAST-MODIFIED:20250530T195355Z
UID:10014441-1752426000-1752458400@eaglebarwm.com
SUMMARY:SINFUL SUNDAY
DESCRIPTION:SUNDAY\nHappy Hour 5 PM – 9 PM \nCODE Bar Opens 5 PM | Tavern Opens 9 PM \nSINFUL SUNDAYS\nin Main Bar + CODE Bar  | 8 PM – 2 AM \nMusic by ADORA:\nNo Cover
URL:https://eaglebarwm.com/event/sinful_sunday-11-4/
LOCATION:Eagle Wilton Manors\, 2209 WILTON DR\, WILTON MANORS\, FL\, 33305\, United States
CATEGORIES:Weekday Repeating
ATTACH;FMTTYPE=image/jpeg:https://eaglebarwm.com/wp-content/uploads/2025/01/square-SINFUL-SUNDAYS.jpg
END:VEVENT
BEGIN:VEVENT
DTSTART;TZID=America/New_York:20250712T210000
DTEND;TZID=America/New_York:20250713T030000
DTSTAMP:20260425T224345
CREATED:20250619T164538Z
LAST-MODIFIED:20250713T003005Z
UID:10014682-1752354000-1752375600@eaglebarwm.com
SUMMARY:AFTERBURN
DESCRIPTION:SATURDAY\nHappy Hour 5 PM – 9 PM \nCODE Bar Opens 5 PM | Bear Cave Opens 8 PM \nAFTERBURN\nin Main Bar + CODE Bar + Nest | 9 PM – 3 AM \nMusic By: JOE GAUTHREAUX\nBear Haüs\nin Bear Cave | 11 PM – 3 AM \nMusic By: BARRY HUFFINE\nFree before 10 PM* | $15 Cover After \nDress Code Enforced in the Code Bar 10 PM to close \n*No Re-entry with free wrist band after midnight
URL:https://eaglebarwm.com/event/afterburn/
LOCATION:Eagle Wilton Manors\, 2209 WILTON DR\, WILTON MANORS\, FL\, 33305\, United States
CATEGORIES:IncludeInEmail
ATTACH;FMTTYPE=image/jpeg:https://eaglebarwm.com/wp-content/uploads/2025/06/07-12-2025-square-AFTERBURN.jpg
END:VEVENT
BEGIN:VEVENT
DTSTART;TZID=America/New_York:20250712T210000
DTEND;TZID=America/New_York:20250713T000000
DTSTAMP:20260425T224345
CREATED:20250905T175002Z
LAST-MODIFIED:20250905T175002Z
UID:10015448-1752354000-1752364800@eaglebarwm.com
SUMMARY:FLW - PRIDE WALK + FLAG RAISING
DESCRIPTION:SATURDAY\nFLORIDA LEATHER WEEK PRIDE WALK & FLAG RAISING\nBAR NIGHT\nin BEGINS AT RICHARDSON PARK | 5 PM – 7:30 PM \nCONCLUDES AT EAGLE
URL:https://eaglebarwm.com/event/flw-pride-walk-flag-raising/2025-07-12/
LOCATION:Eagle Wilton Manors\, 2209 WILTON DR\, WILTON MANORS\, FL\, 33305\, United States
CATEGORIES:Monthly Repeating
ATTACH;FMTTYPE=image/png:https://eaglebarwm.com/wp-content/uploads/2025/09/25-11-08_Openingwalk_Square_1080x1080.png
END:VEVENT
BEGIN:VEVENT
DTSTART;TZID=America/New_York:20250712T210000
DTEND;TZID=America/New_York:20250713T000000
DTSTAMP:20260425T224345
CREATED:20250610T182949Z
LAST-MODIFIED:20250610T183124Z
UID:10014310-1752354000-1752364800@eaglebarwm.com
SUMMARY:ONYX Bar Night
DESCRIPTION:SATURDAY\nONYX DEEP SOUTH\nBAR NIGHT\nin Bear Cave | 9 PM – 12 AM \nSecond Saturday of Every Month
URL:https://eaglebarwm.com/event/onyx-bar-night-3/2025-07-12/
LOCATION:Eagle Wilton Manors\, 2209 WILTON DR\, WILTON MANORS\, FL\, 33305\, United States
CATEGORIES:Monthly Repeating
END:VEVENT
BEGIN:VEVENT
DTSTART;TZID=America/New_York:20250711T210000
DTEND;TZID=America/New_York:20250712T030000
DTSTAMP:20260425T224345
CREATED:20250619T162946Z
LAST-MODIFIED:20250628T232539Z
UID:10014681-1752267600-1752289200@eaglebarwm.com
SUMMARY:ERUPTION
DESCRIPTION:FRIDAY\nHappy Hour 5 PM – 9 PM \nCODE Bar Opens 5 PM | Bear Cave Opens 8 PM \nERUPTION\nin Main Bar + CODE Bar + Nest | 9 PM – 3 AM \nMusic By: TRACY YOUNG\nBear Haüs\nin Bear Cave | 11 PM – 3 AM \nMusic By: DANIEL KRISTOPHERRE\nFree before 9 PM* | $15 Cover After \nDress Code Enforced in the Code Bar 10 PM to close \n*No Re-entry with free wrist band after midnight
URL:https://eaglebarwm.com/event/eruption/
LOCATION:Eagle Wilton Manors\, 2209 WILTON DR\, WILTON MANORS\, FL\, 33305\, United States
CATEGORIES:IncludeInEmail
ATTACH;FMTTYPE=image/jpeg:https://eaglebarwm.com/wp-content/uploads/2025/06/07-11-2025-square-ERUPTION.jpg
END:VEVENT
BEGIN:VEVENT
DTSTART;TZID=America/New_York:20250710T190000
DTEND;TZID=America/New_York:20250710T220000
DTSTAMP:20260425T224345
CREATED:20250620T184435Z
LAST-MODIFIED:20250620T184752Z
UID:10014284-1752174000-1752184800@eaglebarwm.com
SUMMARY:Cigar Social
DESCRIPTION:THURSDAY\nHappy Hour 7 PM – 9 PM \nCODE Bar Opens 7 PM | Tavern Opens 9 PM \nCIGAR SOCIAL\nin Smoking Lounge & Patio | 7 PM – 10 PM
URL:https://eaglebarwm.com/event/cigar-social-3-2-3/2025-07-10/
LOCATION:Eagle Wilton Manors\, 2209 WILTON DR\, WILTON MANORS\, FL\, 33305\, United States
CATEGORIES:Weekday Repeating
ATTACH;FMTTYPE=image/jpeg:https://eaglebarwm.com/wp-content/uploads/2025/01/2025-square-CIGAR-THURSDAY.jpg
END:VEVENT
BEGIN:VEVENT
DTSTART;TZID=America/New_York:20250710T080000
DTEND;TZID=America/New_York:20250711T030000
DTSTAMP:20260425T224345
CREATED:20250626T210704Z
LAST-MODIFIED:20250707T184947Z
UID:10014768-1752134400-1752202800@eaglebarwm.com
SUMMARY:LEATHER & FEATHER
DESCRIPTION:THURSDAY\nEagle Open 9 PM to 3 AM \n \nLEATHER & FEATHER\nin Main Bar + CODE Bar + Nest | 9 PM – 3 AM \nMusic By: DJERMO\nFree before 9 PM* | $10 Donation After |  \nDress Code Enforced in the Code Bar 10 PM to close
URL:https://eaglebarwm.com/event/leather-feather/
LOCATION:Eagle Wilton Manors\, 2209 WILTON DR\, WILTON MANORS\, FL\, 33305\, United States
CATEGORIES:IncludeInEmail
ATTACH;FMTTYPE=image/jpeg:https://eaglebarwm.com/wp-content/uploads/2025/06/07-10-2025-square-LEATHER-FEATHER.jpg
END:VEVENT
BEGIN:VEVENT
DTSTART;TZID=America/New_York:20250709T190000
DTEND;TZID=America/New_York:20250710T020000
DTSTAMP:20260425T224345
CREATED:20250530T204954Z
LAST-MODIFIED:20250530T204955Z
UID:10014366-1752087600-1752112800@eaglebarwm.com
SUMMARY:LEATHER + HARNESS NIGHT
DESCRIPTION:WEDNESDAY\nHappy Hour 7 PM – 9 PM\n \n Bar Opens 7 PM | Tavern Opens 9 PM \nLEATHER + HARNESS NIGHT\nin Main Bar + CODE Bar  | 9 PM – 2 AM \nMusic by: TREVOR OLDROYD\nHALF PRICE DRINKS\n(Some restrictions apply)\nIF WEARING A HARNESS\nNo Cover
URL:https://eaglebarwm.com/event/leather-harness-night-2-6/
LOCATION:Eagle Wilton Manors\, 2209 WILTON DR\, WILTON MANORS\, FL\, 33305\, United States
CATEGORIES:Weekday Repeating
ATTACH;FMTTYPE=image/jpeg:https://eaglebarwm.com/wp-content/uploads/2025/01/2025-square-WEDNESDAY-HARNESS.jpg
END:VEVENT
BEGIN:VEVENT
DTSTART;TZID=America/New_York:20250708T190000
DTEND;TZID=America/New_York:20250709T020000
DTSTAMP:20260425T224345
CREATED:20250530T184800Z
LAST-MODIFIED:20250530T184931Z
UID:10014596-1752001200-1752026400@eaglebarwm.com
SUMMARY:HAPPY HOUR ALL NIGHT
DESCRIPTION:TUESDAY\nCODE Bar Opens 7 PM \nHAPPY HOUR ALL NIGHT\nin CODE Bar  | 7 PM – 2 AM \nHAPPY HOUR ALL DAY\n1/2 Price Drinks\nNo Cover
URL:https://eaglebarwm.com/event/code_tuesday-2-2/2025-07-08/
LOCATION:Eagle Wilton Manors\, 2209 WILTON DR\, WILTON MANORS\, FL\, 33305\, United States
CATEGORIES:Weekday Repeating
END:VEVENT
BEGIN:VEVENT
DTSTART;TZID=America/New_York:20250707T190000
DTEND;TZID=America/New_York:20250708T020000
DTSTAMP:20260425T224345
CREATED:20250530T184413Z
LAST-MODIFIED:20250628T232634Z
UID:10014518-1751914800-1751940000@eaglebarwm.com
SUMMARY:JOCK STRAP & UNDERWEAR NIGHT
DESCRIPTION:MONDAY\nHappy Hour 7 PM – 9 PM \nCODE Bar Opens 7 PM | Tavern Opens 9 PM \nJOCK STRAP + UNDERWEAR NIGHT\nin Main Bar + CODE Bar  | 9 PM – 2 AM \n$3 Bud Lite & Miller Lite Bottles\n$4 Well | $6 Call\n(Includes Jack\, Jameson\, Absolut & Titos) \nIF IN A JOCK STRAP or UNDERWEAR\nNo Cover
URL:https://eaglebarwm.com/event/jock_strap_night-2-2-2/2025-07-07/
LOCATION:Eagle Wilton Manors\, 2209 WILTON DR\, WILTON MANORS\, FL\, 33305\, United States
CATEGORIES:Weekday Repeating
END:VEVENT
BEGIN:VEVENT
DTSTART;TZID=America/New_York:20250706T170000
DTEND;TZID=America/New_York:20250707T020000
DTSTAMP:20260425T224345
CREATED:20250530T195258Z
LAST-MODIFIED:20250530T195258Z
UID:10014440-1751821200-1751853600@eaglebarwm.com
SUMMARY:SINFUL SUNDAY
DESCRIPTION:SUNDAY\nHappy Hour 5 PM – 9 PM \nCODE Bar Opens 5 PM | Tavern Opens 9 PM \nSINFUL SUNDAYS\nin Main Bar + CODE Bar  | 8 PM – 2 AM \nMusic by: HERBIE JAMES\nNo Cover
URL:https://eaglebarwm.com/event/sinful_sunday-11-3/
LOCATION:Eagle Wilton Manors\, 2209 WILTON DR\, WILTON MANORS\, FL\, 33305\, United States
CATEGORIES:Weekday Repeating
ATTACH;FMTTYPE=image/jpeg:https://eaglebarwm.com/wp-content/uploads/2025/01/square-SINFUL-SUNDAYS.jpg
END:VEVENT
BEGIN:VEVENT
DTSTART;TZID=America/New_York:20250705T210000
DTEND;TZID=America/New_York:20250706T150000
DTSTAMP:20260425T224345
CREATED:20250530T181757Z
LAST-MODIFIED:20250704T032317Z
UID:10014438-1751749200-1751814000@eaglebarwm.com
SUMMARY:STAR SPANGLED
DESCRIPTION:SATURDAY\nHappy Hour 5 PM – 9 PM \nCODE Bar Opens 5 PM | Bear Cave Opens 8 PM \nSTAR SPANGLED\nin Main Bar + CODE Bar + Nest | 9 PM – 3 AM \nMusic By: GUY SCHEIMAN\nBear Haüs\nin Bear Cave | 11 PM – 3 AM \nMusic By: Trevor Oldroyd\nFree before 9 PM* | $15 Cover After | $10 Advance with Skip The Line Options \nGET TICKETS\n\n\n\nDress Code\n Enforced in the Code Bar 10 PM to close\n \n*No Re-entry with free wrist band after midnight
URL:https://eaglebarwm.com/event/star-spangled/
LOCATION:Eagle Wilton Manors\, 2209 WILTON DR\, WILTON MANORS\, FL\, 33305\, United States
CATEGORIES:IncludeInEmail
ATTACH;FMTTYPE=image/jpeg:https://eaglebarwm.com/wp-content/uploads/2025/05/07-05-2025-square-JULY-4-WEEKEND.jpg
END:VEVENT
BEGIN:VEVENT
DTSTART;TZID=America/New_York:20250704T210000
DTEND;TZID=America/New_York:20250705T030000
DTSTAMP:20260425T224345
CREATED:20250530T175911Z
LAST-MODIFIED:20250704T032257Z
UID:10014437-1751662800-1751684400@eaglebarwm.com
SUMMARY:INDEPENDENCE
DESCRIPTION:FRIDAY\nHappy Hour 5 PM – 9 PM \nCODE Bar Opens 5 PM | Bear Cave Opens 8 PM \nINDEPENDENCE\nin Main Bar + CODE Bar + Nest | 9 PM – 3 AM \nMusic By: DEANNE\nBear Haüs\nin Bear Cave | 11 PM – 3 AM \nMusic By: KOYOTE\nFree before 9 PM* | $15 Cover After | $10 Advance with Skip The Line Options \nGET TICKETS\n\n\n\nDress Code\n Enforced in the Code Bar 10 PM to close\n \n*No Re-entry with free wrist band after midnight
URL:https://eaglebarwm.com/event/independence/
LOCATION:Eagle Wilton Manors\, 2209 WILTON DR\, WILTON MANORS\, FL\, 33305\, United States
CATEGORIES:IncludeInEmail
ATTACH;FMTTYPE=image/jpeg:https://eaglebarwm.com/wp-content/uploads/2025/05/07-04-2025-square-JULY-4-WEEKEND.jpg
END:VEVENT
BEGIN:VEVENT
DTSTART;TZID=America/New_York:20250703T210000
DTEND;TZID=America/New_York:20250704T020000
DTSTAMP:20260425T224345
CREATED:20250530T190651Z
LAST-MODIFIED:20250704T032443Z
UID:10014674-1751576400-1751594400@eaglebarwm.com
SUMMARY:REVOLUTION
DESCRIPTION:THURSDAY\nHappy Hour 5 PM – 9 PM \nCODE Bar Opens 5 PM | Bear Cave Opens 8 PM \nREVOLUTION\nin Main Bar + CODE Bar + Nest | 9 PM – 3 AM \nMusic By: DREW G\nHalf Price Well Drinks & Domestic Beer\n(Some restrictions apply)\nFree before 9 PM* | $10 Cover After | $5 Advance \n \n\nGET TICKETS\n\n\n\nDress Code\n\nEnforced in the Code Bar 10 PM to close\n \n*No Re-entry with free wrist band
URL:https://eaglebarwm.com/event/revolution/
LOCATION:Eagle Wilton Manors\, 2209 WILTON DR\, WILTON MANORS\, FL\, 33305\, United States
CATEGORIES:IncludeInEmail
ATTACH;FMTTYPE=image/jpeg:https://eaglebarwm.com/wp-content/uploads/2025/05/07-03-2025-square-JULY-4-WEEKEND.jpg
END:VEVENT
BEGIN:VEVENT
DTSTART;TZID=America/New_York:20250703T190000
DTEND;TZID=America/New_York:20250703T220000
DTSTAMP:20260425T224345
CREATED:20250209T041059Z
LAST-MODIFIED:20250607T051305Z
UID:10014283-1751569200-1751580000@eaglebarwm.com
SUMMARY:Cigar Social
DESCRIPTION:THURSDAY\nHappy Hour 7 PM – 9 PM \nCODE Bar Opens 7 PM | Tavern Opens 9 PM \nCIGAR SOCIAL\nin Smoking Lounge & Patio | 7 PM – 10 PM
URL:https://eaglebarwm.com/event/cigar-social-3-2/2025-07-03/
LOCATION:Eagle Wilton Manors\, 2209 WILTON DR\, WILTON MANORS\, FL\, 33305\, United States
CATEGORIES:Weekday Repeating
ATTACH;FMTTYPE=image/jpeg:https://eaglebarwm.com/wp-content/uploads/2025/01/2025-square-CIGAR-THURSDAY.jpg
END:VEVENT
BEGIN:VEVENT
DTSTART;TZID=America/New_York:20250701T190000
DTEND;TZID=America/New_York:20250702T020000
DTSTAMP:20260425T224345
CREATED:20250530T184800Z
LAST-MODIFIED:20250530T184931Z
UID:10014231-1751396400-1751421600@eaglebarwm.com
SUMMARY:HAPPY HOUR ALL NIGHT
DESCRIPTION:TUESDAY\nCODE Bar Opens 7 PM \nHAPPY HOUR ALL NIGHT\nin CODE Bar  | 7 PM – 2 AM \nHAPPY HOUR ALL DAY\n1/2 Price Drinks\nNo Cover
URL:https://eaglebarwm.com/event/code_tuesday-2-2/2025-07-01/
LOCATION:Eagle Wilton Manors\, 2209 WILTON DR\, WILTON MANORS\, FL\, 33305\, United States
CATEGORIES:Weekday Repeating
END:VEVENT
BEGIN:VEVENT
DTSTART;TZID=America/New_York:20250630T190000
DTEND;TZID=America/New_York:20250701T020000
DTSTAMP:20260425T224345
CREATED:20250530T184413Z
LAST-MODIFIED:20250628T232634Z
UID:10014179-1751310000-1751335200@eaglebarwm.com
SUMMARY:JOCK STRAP & UNDERWEAR NIGHT
DESCRIPTION:MONDAY\nHappy Hour 7 PM – 9 PM \nCODE Bar Opens 7 PM | Tavern Opens 9 PM \nJOCK STRAP + UNDERWEAR NIGHT\nin Main Bar + CODE Bar  | 9 PM – 2 AM \n$3 Bud Lite & Miller Lite Bottles\n$4 Well | $6 Call\n(Includes Jack\, Jameson\, Absolut & Titos) \nIF IN A JOCK STRAP or UNDERWEAR\nNo Cover
URL:https://eaglebarwm.com/event/jock_strap_night-2-2-2/2025-06-30/
LOCATION:Eagle Wilton Manors\, 2209 WILTON DR\, WILTON MANORS\, FL\, 33305\, United States
CATEGORIES:Weekday Repeating
END:VEVENT
BEGIN:VEVENT
DTSTART;TZID=America/New_York:20250629T173000
DTEND;TZID=America/New_York:20250629T183000
DTSTAMP:20260425T224345
CREATED:20250607T020958Z
LAST-MODIFIED:20250618T203009Z
UID:10014677-1751218200-1751221800@eaglebarwm.com
SUMMARY:BOOTS ON THE GROUND
DESCRIPTION:SUNDAY\nBOOTS ON THE GROUND\nActivist Collective for the Leather & Kink Community\n5:30pm | in the Bear Cave \nWe’re loud\, proud\, and laced up for liberation.\nBecause our rights aren’t a fetish. They’re fundamental.\n\n  \n*The views expressed at this event are not necessarily those of the staff at Eagle Wilton Manors.
URL:https://eaglebarwm.com/event/sinful-sunday-7/
LOCATION:Eagle Wilton Manors\, 2209 WILTON DR\, WILTON MANORS\, FL\, 33305\, United States
CATEGORIES:IncludeInEmail,Ticketed Events
ATTACH;FMTTYPE=image/jpeg:https://eaglebarwm.com/wp-content/uploads/2025/06/2025_06_29-BOTG-FB-ad.jpg
END:VEVENT
BEGIN:VEVENT
DTSTART;TZID=America/New_York:20250629T170000
DTEND;TZID=America/New_York:20250630T020000
DTSTAMP:20260425T224345
CREATED:20250530T194950Z
LAST-MODIFIED:20250530T194950Z
UID:10014153-1751216400-1751248800@eaglebarwm.com
SUMMARY:SINFUL SUNDAY
DESCRIPTION:SUNDAY\nHappy Hour 5 PM – 9 PM \nCODE Bar Opens 5 PM | Tavern Opens 9 PM \nSINFUL SUNDAYS\nin Main Bar + CODE Bar  | 8 PM – 2 AM \nMusic by: Adora\nNo Cover
URL:https://eaglebarwm.com/event/sinful_sunday-11-2/
LOCATION:Eagle Wilton Manors\, 2209 WILTON DR\, WILTON MANORS\, FL\, 33305\, United States
CATEGORIES:Weekday Repeating
ATTACH;FMTTYPE=image/jpeg:https://eaglebarwm.com/wp-content/uploads/2025/01/square-SINFUL-SUNDAYS.jpg
END:VEVENT
BEGIN:VEVENT
DTSTART;VALUE=DATE:20250628
DTEND;VALUE=DATE:20250630
DTSTAMP:20260425T224345
CREATED:20250617T025825Z
LAST-MODIFIED:20250618T202850Z
UID:10014680-1751083200-1751169599@eaglebarwm.com
SUMMARY:SUPER PRIDE Back Alley
DESCRIPTION:SATURDAY\nEagle Open 5 PM to 3 AM \nSUPER PRIDE Back Alley\nin Main Bar + CODE Bar + Nest | 9 PM – 3 AM \nMusic By: NICK STRACENER\nBear Haüs\nin Bear Cave | 11 PM – 3 AM \nMusic By: Koyote\nFree before 10 PM* | $15 Cover After \nDress Code Enforced in the Code Bar 10 PM to close \n*No Re-entry with complimentary wrist band after Midnight
URL:https://eaglebarwm.com/event/super-pride-back-alley/
LOCATION:Eagle Wilton Manors\, 2209 WILTON DR\, WILTON MANORS\, FL\, 33305\, United States
CATEGORIES:IncludeInEmail
ATTACH;FMTTYPE=image/jpeg:https://eaglebarwm.com/wp-content/uploads/2025/06/06-28-2025-instagram-fb-BACK-ALLEY.jpg
END:VEVENT
END:VCALENDAR