BEGIN:VCALENDAR
VERSION:2.0
PRODID:-//Eagle Wilton Manors - ECPv6.15.17.1//NONSGML v1.0//EN
CALSCALE:GREGORIAN
METHOD:PUBLISH
X-WR-CALNAME:Eagle Wilton Manors
X-ORIGINAL-URL:https://eaglebarwm.com
X-WR-CALDESC:Events for Eagle Wilton Manors
REFRESH-INTERVAL;VALUE=DURATION:PT1H
X-Robots-Tag:noindex
X-PUBLISHED-TTL:PT1H
BEGIN:VTIMEZONE
TZID:America/New_York
BEGIN:DAYLIGHT
TZOFFSETFROM:-0500
TZOFFSETTO:-0400
TZNAME:EDT
DTSTART:20260308T070000
END:DAYLIGHT
BEGIN:STANDARD
TZOFFSETFROM:-0400
TZOFFSETTO:-0500
TZNAME:EST
DTSTART:20261101T060000
END:STANDARD
BEGIN:DAYLIGHT
TZOFFSETFROM:-0500
TZOFFSETTO:-0400
TZNAME:EDT
DTSTART:20270314T070000
END:DAYLIGHT
BEGIN:STANDARD
TZOFFSETFROM:-0400
TZOFFSETTO:-0500
TZNAME:EST
DTSTART:20271107T060000
END:STANDARD
BEGIN:DAYLIGHT
TZOFFSETFROM:-0500
TZOFFSETTO:-0400
TZNAME:EDT
DTSTART:20280312T070000
END:DAYLIGHT
BEGIN:STANDARD
TZOFFSETFROM:-0400
TZOFFSETTO:-0500
TZNAME:EST
DTSTART:20281105T060000
END:STANDARD
END:VTIMEZONE
BEGIN:VEVENT
DTSTART;TZID=America/New_York:20270729T210000
DTEND;TZID=America/New_York:20270730T020000
DTSTAMP:20260424T230334
CREATED:20260218T205302Z
LAST-MODIFIED:20260218T205303Z
UID:10016001-1816894800-1816912800@eaglebarwm.com
SUMMARY:HARNESS NIGHT
DESCRIPTION:Happy Hour 7 PM – 9 PM \nCODE Bar Opens 7 PM | Tavern Opens 9 PM \nHARNESS NIGHT\nin Main Bar + CODE Bar  | 9 PM – 2 AM \nMusic By: Trevor Oldroyd\nHAPPY HOUR ALL NIGHT\nFor Anyone Wearing\nA Harness or Fetish Gear*\nNo Cover \n*Happy Hour all Night rules are strictly enforced.\n*Not a requirement to enter.
URL:https://eaglebarwm.com/event/edm-night-12-8-3/2027-07-29/
LOCATION:Eagle Wilton Manors\, 2209 WILTON DR\, WILTON MANORS\, FL\, 33305\, United States
CATEGORIES:Weekday Repeating
ATTACH;FMTTYPE=image/jpeg:https://eaglebarwm.com/wp-content/uploads/2026/01/THURS_NewWeekdays_EWM_-TREVOR-1080x1080_square.jpg
END:VEVENT
BEGIN:VEVENT
DTSTART;TZID=America/New_York:20270731T213000
DTEND;TZID=America/New_York:20270801T023000
DTSTAMP:20260424T230334
CREATED:20260218T221213Z
LAST-MODIFIED:20260218T221213Z
UID:10017229-1817069400-1817087400@eaglebarwm.com
SUMMARY:DADDY POP
DESCRIPTION:DADDY POP\nin Bear Cave | 9 PM – 2 AM \nMusic By: Barry Browder\nRugged\, Sexy\, Husky & Hairy Daddies\nwith Pop Music Radio Edits\,\nGuilty Pleasures\,\nand Forgotten Favorites.\nNo Shazam Needed.\nYour Body Remembers the Beat.\nIncluded in Cover
URL:https://eaglebarwm.com/event/daddy-pop-5-3-2/2027-07-31/
LOCATION:Eagle Wilton Manors\, 2209 WILTON DR\, WILTON MANORS\, FL\, 33305\, United States
ATTACH;FMTTYPE=image/jpeg:https://eaglebarwm.com/wp-content/uploads/2025/12/DADDY-POP_Square_1080x1080.jpg
END:VEVENT
BEGIN:VEVENT
DTSTART;TZID=America/New_York:20270802T190000
DTEND;TZID=America/New_York:20270803T020000
DTSTAMP:20260424T230334
CREATED:20260311T194047Z
LAST-MODIFIED:20260311T194049Z
UID:10017696-1817233200-1817258400@eaglebarwm.com
SUMMARY:JOCK STRAP NIGHT
DESCRIPTION:Happy Hour 7 PM – 9 PM \nJOCK STRAP NIGHT\nin CODE Bar | 9 PM – 2 AM \n$2.50\nWell Tequila Drinks\n9 PM to 2 AM\nHAPPY HOUR ALL NIGHT\nFor Anyone Wearing\nJock Strap + No Pants*\nNo Cover \n*Happy Hour all Night rules are strictly enforced.\n*Not a requirement to enter.
URL:https://eaglebarwm.com/event/jock_strap_night-2-2-2-2-2-2-2-5-2/2027-08-02/
LOCATION:Eagle Wilton Manors\, 2209 WILTON DR\, WILTON MANORS\, FL\, 33305\, United States
CATEGORIES:Weekday Repeating
ATTACH;FMTTYPE=image/jpeg:https://eaglebarwm.com/wp-content/uploads/2026/01/Mon_NewWeekdays_EWM_design_1080x1080_square.jpg
END:VEVENT
BEGIN:VEVENT
DTSTART;TZID=America/New_York:20270804T190000
DTEND;TZID=America/New_York:20270805T020000
DTSTAMP:20260424T230334
CREATED:20260111T013641Z
LAST-MODIFIED:20260111T013843Z
UID:10016263-1817406000-1817431200@eaglebarwm.com
SUMMARY:UNDERWEAR & SINGLET NIGHT
DESCRIPTION:Happy Hour 7 PM – 9 PM \n UNDERWEAR & SINGLETS NIGHT\nin CODE Bar | 9 PM – 2 AM \n$2.50\nWell Vodka Drinks\n9 PM to 2 AM\nHAPPY HOUR ALL NIGHT\nFor Anyone Wearing\nSinglets or Underwear + No Pants*\nNo Cover \n*Happy Hour all Night rules are strictly enforced.\n*Not a requirement to enter.
URL:https://eaglebarwm.com/event/leather-harness-night-13-3-2-4/2027-08-04/
LOCATION:Eagle Wilton Manors\, 2209 WILTON DR\, WILTON MANORS\, FL\, 33305\, United States
CATEGORIES:Weekday Repeating
ATTACH;FMTTYPE=image/jpeg:https://eaglebarwm.com/wp-content/uploads/2025/09/WEDS_NewWeekdays_EWM_design_1080x1080_square.jpg
END:VEVENT
BEGIN:VEVENT
DTSTART;TZID=America/New_York:20270805T210000
DTEND;TZID=America/New_York:20270806T020000
DTSTAMP:20260424T230334
CREATED:20260218T205302Z
LAST-MODIFIED:20260218T205303Z
UID:10016002-1817499600-1817517600@eaglebarwm.com
SUMMARY:HARNESS NIGHT
DESCRIPTION:Happy Hour 7 PM – 9 PM \nCODE Bar Opens 7 PM | Tavern Opens 9 PM \nHARNESS NIGHT\nin Main Bar + CODE Bar  | 9 PM – 2 AM \nMusic By: Trevor Oldroyd\nHAPPY HOUR ALL NIGHT\nFor Anyone Wearing\nA Harness or Fetish Gear*\nNo Cover \n*Happy Hour all Night rules are strictly enforced.\n*Not a requirement to enter.
URL:https://eaglebarwm.com/event/edm-night-12-8-3/2027-08-05/
LOCATION:Eagle Wilton Manors\, 2209 WILTON DR\, WILTON MANORS\, FL\, 33305\, United States
CATEGORIES:Weekday Repeating
ATTACH;FMTTYPE=image/jpeg:https://eaglebarwm.com/wp-content/uploads/2026/01/THURS_NewWeekdays_EWM_-TREVOR-1080x1080_square.jpg
END:VEVENT
BEGIN:VEVENT
DTSTART;TZID=America/New_York:20270807T213000
DTEND;TZID=America/New_York:20270808T023000
DTSTAMP:20260424T230334
CREATED:20260218T221213Z
LAST-MODIFIED:20260218T221213Z
UID:10017231-1817674200-1817692200@eaglebarwm.com
SUMMARY:DADDY POP
DESCRIPTION:DADDY POP\nin Bear Cave | 9 PM – 2 AM \nMusic By: Barry Browder\nRugged\, Sexy\, Husky & Hairy Daddies\nwith Pop Music Radio Edits\,\nGuilty Pleasures\,\nand Forgotten Favorites.\nNo Shazam Needed.\nYour Body Remembers the Beat.\nIncluded in Cover
URL:https://eaglebarwm.com/event/daddy-pop-5-3-2/2027-08-07/
LOCATION:Eagle Wilton Manors\, 2209 WILTON DR\, WILTON MANORS\, FL\, 33305\, United States
ATTACH;FMTTYPE=image/jpeg:https://eaglebarwm.com/wp-content/uploads/2025/12/DADDY-POP_Square_1080x1080.jpg
END:VEVENT
BEGIN:VEVENT
DTSTART;TZID=America/New_York:20270809T190000
DTEND;TZID=America/New_York:20270810T020000
DTSTAMP:20260424T230334
CREATED:20260311T194047Z
LAST-MODIFIED:20260311T194049Z
UID:10017697-1817838000-1817863200@eaglebarwm.com
SUMMARY:JOCK STRAP NIGHT
DESCRIPTION:Happy Hour 7 PM – 9 PM \nJOCK STRAP NIGHT\nin CODE Bar | 9 PM – 2 AM \n$2.50\nWell Tequila Drinks\n9 PM to 2 AM\nHAPPY HOUR ALL NIGHT\nFor Anyone Wearing\nJock Strap + No Pants*\nNo Cover \n*Happy Hour all Night rules are strictly enforced.\n*Not a requirement to enter.
URL:https://eaglebarwm.com/event/jock_strap_night-2-2-2-2-2-2-2-5-2/2027-08-09/
LOCATION:Eagle Wilton Manors\, 2209 WILTON DR\, WILTON MANORS\, FL\, 33305\, United States
CATEGORIES:Weekday Repeating
ATTACH;FMTTYPE=image/jpeg:https://eaglebarwm.com/wp-content/uploads/2026/01/Mon_NewWeekdays_EWM_design_1080x1080_square.jpg
END:VEVENT
BEGIN:VEVENT
DTSTART;TZID=America/New_York:20270811T190000
DTEND;TZID=America/New_York:20270812T020000
DTSTAMP:20260424T230334
CREATED:20260111T013641Z
LAST-MODIFIED:20260111T013843Z
UID:10016264-1818010800-1818036000@eaglebarwm.com
SUMMARY:UNDERWEAR & SINGLET NIGHT
DESCRIPTION:Happy Hour 7 PM – 9 PM \n UNDERWEAR & SINGLETS NIGHT\nin CODE Bar | 9 PM – 2 AM \n$2.50\nWell Vodka Drinks\n9 PM to 2 AM\nHAPPY HOUR ALL NIGHT\nFor Anyone Wearing\nSinglets or Underwear + No Pants*\nNo Cover \n*Happy Hour all Night rules are strictly enforced.\n*Not a requirement to enter.
URL:https://eaglebarwm.com/event/leather-harness-night-13-3-2-4/2027-08-11/
LOCATION:Eagle Wilton Manors\, 2209 WILTON DR\, WILTON MANORS\, FL\, 33305\, United States
CATEGORIES:Weekday Repeating
ATTACH;FMTTYPE=image/jpeg:https://eaglebarwm.com/wp-content/uploads/2025/09/WEDS_NewWeekdays_EWM_design_1080x1080_square.jpg
END:VEVENT
BEGIN:VEVENT
DTSTART;TZID=America/New_York:20270812T210000
DTEND;TZID=America/New_York:20270813T020000
DTSTAMP:20260424T230334
CREATED:20260218T205302Z
LAST-MODIFIED:20260218T205303Z
UID:10016003-1818104400-1818122400@eaglebarwm.com
SUMMARY:HARNESS NIGHT
DESCRIPTION:Happy Hour 7 PM – 9 PM \nCODE Bar Opens 7 PM | Tavern Opens 9 PM \nHARNESS NIGHT\nin Main Bar + CODE Bar  | 9 PM – 2 AM \nMusic By: Trevor Oldroyd\nHAPPY HOUR ALL NIGHT\nFor Anyone Wearing\nA Harness or Fetish Gear*\nNo Cover \n*Happy Hour all Night rules are strictly enforced.\n*Not a requirement to enter.
URL:https://eaglebarwm.com/event/edm-night-12-8-3/2027-08-12/
LOCATION:Eagle Wilton Manors\, 2209 WILTON DR\, WILTON MANORS\, FL\, 33305\, United States
CATEGORIES:Weekday Repeating
ATTACH;FMTTYPE=image/jpeg:https://eaglebarwm.com/wp-content/uploads/2026/01/THURS_NewWeekdays_EWM_-TREVOR-1080x1080_square.jpg
END:VEVENT
BEGIN:VEVENT
DTSTART;TZID=America/New_York:20270814T213000
DTEND;TZID=America/New_York:20270815T023000
DTSTAMP:20260424T230334
CREATED:20260218T221213Z
LAST-MODIFIED:20260218T221213Z
UID:10017233-1818279000-1818297000@eaglebarwm.com
SUMMARY:DADDY POP
DESCRIPTION:DADDY POP\nin Bear Cave | 9 PM – 2 AM \nMusic By: Barry Browder\nRugged\, Sexy\, Husky & Hairy Daddies\nwith Pop Music Radio Edits\,\nGuilty Pleasures\,\nand Forgotten Favorites.\nNo Shazam Needed.\nYour Body Remembers the Beat.\nIncluded in Cover
URL:https://eaglebarwm.com/event/daddy-pop-5-3-2/2027-08-14/
LOCATION:Eagle Wilton Manors\, 2209 WILTON DR\, WILTON MANORS\, FL\, 33305\, United States
ATTACH;FMTTYPE=image/jpeg:https://eaglebarwm.com/wp-content/uploads/2025/12/DADDY-POP_Square_1080x1080.jpg
END:VEVENT
BEGIN:VEVENT
DTSTART;TZID=America/New_York:20270816T190000
DTEND;TZID=America/New_York:20270817T020000
DTSTAMP:20260424T230334
CREATED:20260311T194047Z
LAST-MODIFIED:20260311T194049Z
UID:10017698-1818442800-1818468000@eaglebarwm.com
SUMMARY:JOCK STRAP NIGHT
DESCRIPTION:Happy Hour 7 PM – 9 PM \nJOCK STRAP NIGHT\nin CODE Bar | 9 PM – 2 AM \n$2.50\nWell Tequila Drinks\n9 PM to 2 AM\nHAPPY HOUR ALL NIGHT\nFor Anyone Wearing\nJock Strap + No Pants*\nNo Cover \n*Happy Hour all Night rules are strictly enforced.\n*Not a requirement to enter.
URL:https://eaglebarwm.com/event/jock_strap_night-2-2-2-2-2-2-2-5-2/2027-08-16/
LOCATION:Eagle Wilton Manors\, 2209 WILTON DR\, WILTON MANORS\, FL\, 33305\, United States
CATEGORIES:Weekday Repeating
ATTACH;FMTTYPE=image/jpeg:https://eaglebarwm.com/wp-content/uploads/2026/01/Mon_NewWeekdays_EWM_design_1080x1080_square.jpg
END:VEVENT
BEGIN:VEVENT
DTSTART;TZID=America/New_York:20270818T190000
DTEND;TZID=America/New_York:20270819T020000
DTSTAMP:20260424T230334
CREATED:20260111T013641Z
LAST-MODIFIED:20260111T013843Z
UID:10016265-1818615600-1818640800@eaglebarwm.com
SUMMARY:UNDERWEAR & SINGLET NIGHT
DESCRIPTION:Happy Hour 7 PM – 9 PM \n UNDERWEAR & SINGLETS NIGHT\nin CODE Bar | 9 PM – 2 AM \n$2.50\nWell Vodka Drinks\n9 PM to 2 AM\nHAPPY HOUR ALL NIGHT\nFor Anyone Wearing\nSinglets or Underwear + No Pants*\nNo Cover \n*Happy Hour all Night rules are strictly enforced.\n*Not a requirement to enter.
URL:https://eaglebarwm.com/event/leather-harness-night-13-3-2-4/2027-08-18/
LOCATION:Eagle Wilton Manors\, 2209 WILTON DR\, WILTON MANORS\, FL\, 33305\, United States
CATEGORIES:Weekday Repeating
ATTACH;FMTTYPE=image/jpeg:https://eaglebarwm.com/wp-content/uploads/2025/09/WEDS_NewWeekdays_EWM_design_1080x1080_square.jpg
END:VEVENT
BEGIN:VEVENT
DTSTART;TZID=America/New_York:20270819T210000
DTEND;TZID=America/New_York:20270820T020000
DTSTAMP:20260424T230334
CREATED:20260218T205302Z
LAST-MODIFIED:20260218T205303Z
UID:10016004-1818709200-1818727200@eaglebarwm.com
SUMMARY:HARNESS NIGHT
DESCRIPTION:Happy Hour 7 PM – 9 PM \nCODE Bar Opens 7 PM | Tavern Opens 9 PM \nHARNESS NIGHT\nin Main Bar + CODE Bar  | 9 PM – 2 AM \nMusic By: Trevor Oldroyd\nHAPPY HOUR ALL NIGHT\nFor Anyone Wearing\nA Harness or Fetish Gear*\nNo Cover \n*Happy Hour all Night rules are strictly enforced.\n*Not a requirement to enter.
URL:https://eaglebarwm.com/event/edm-night-12-8-3/2027-08-19/
LOCATION:Eagle Wilton Manors\, 2209 WILTON DR\, WILTON MANORS\, FL\, 33305\, United States
CATEGORIES:Weekday Repeating
ATTACH;FMTTYPE=image/jpeg:https://eaglebarwm.com/wp-content/uploads/2026/01/THURS_NewWeekdays_EWM_-TREVOR-1080x1080_square.jpg
END:VEVENT
BEGIN:VEVENT
DTSTART;TZID=America/New_York:20270821T213000
DTEND;TZID=America/New_York:20270822T023000
DTSTAMP:20260424T230334
CREATED:20260218T221213Z
LAST-MODIFIED:20260218T221213Z
UID:10017235-1818883800-1818901800@eaglebarwm.com
SUMMARY:DADDY POP
DESCRIPTION:DADDY POP\nin Bear Cave | 9 PM – 2 AM \nMusic By: Barry Browder\nRugged\, Sexy\, Husky & Hairy Daddies\nwith Pop Music Radio Edits\,\nGuilty Pleasures\,\nand Forgotten Favorites.\nNo Shazam Needed.\nYour Body Remembers the Beat.\nIncluded in Cover
URL:https://eaglebarwm.com/event/daddy-pop-5-3-2/2027-08-21/
LOCATION:Eagle Wilton Manors\, 2209 WILTON DR\, WILTON MANORS\, FL\, 33305\, United States
ATTACH;FMTTYPE=image/jpeg:https://eaglebarwm.com/wp-content/uploads/2025/12/DADDY-POP_Square_1080x1080.jpg
END:VEVENT
BEGIN:VEVENT
DTSTART;TZID=America/New_York:20270823T190000
DTEND;TZID=America/New_York:20270824T020000
DTSTAMP:20260424T230334
CREATED:20260311T194047Z
LAST-MODIFIED:20260311T194049Z
UID:10017699-1819047600-1819072800@eaglebarwm.com
SUMMARY:JOCK STRAP NIGHT
DESCRIPTION:Happy Hour 7 PM – 9 PM \nJOCK STRAP NIGHT\nin CODE Bar | 9 PM – 2 AM \n$2.50\nWell Tequila Drinks\n9 PM to 2 AM\nHAPPY HOUR ALL NIGHT\nFor Anyone Wearing\nJock Strap + No Pants*\nNo Cover \n*Happy Hour all Night rules are strictly enforced.\n*Not a requirement to enter.
URL:https://eaglebarwm.com/event/jock_strap_night-2-2-2-2-2-2-2-5-2/2027-08-23/
LOCATION:Eagle Wilton Manors\, 2209 WILTON DR\, WILTON MANORS\, FL\, 33305\, United States
CATEGORIES:Weekday Repeating
ATTACH;FMTTYPE=image/jpeg:https://eaglebarwm.com/wp-content/uploads/2026/01/Mon_NewWeekdays_EWM_design_1080x1080_square.jpg
END:VEVENT
BEGIN:VEVENT
DTSTART;TZID=America/New_York:20270825T190000
DTEND;TZID=America/New_York:20270826T020000
DTSTAMP:20260424T230334
CREATED:20260111T013641Z
LAST-MODIFIED:20260111T013843Z
UID:10016266-1819220400-1819245600@eaglebarwm.com
SUMMARY:UNDERWEAR & SINGLET NIGHT
DESCRIPTION:Happy Hour 7 PM – 9 PM \n UNDERWEAR & SINGLETS NIGHT\nin CODE Bar | 9 PM – 2 AM \n$2.50\nWell Vodka Drinks\n9 PM to 2 AM\nHAPPY HOUR ALL NIGHT\nFor Anyone Wearing\nSinglets or Underwear + No Pants*\nNo Cover \n*Happy Hour all Night rules are strictly enforced.\n*Not a requirement to enter.
URL:https://eaglebarwm.com/event/leather-harness-night-13-3-2-4/2027-08-25/
LOCATION:Eagle Wilton Manors\, 2209 WILTON DR\, WILTON MANORS\, FL\, 33305\, United States
CATEGORIES:Weekday Repeating
ATTACH;FMTTYPE=image/jpeg:https://eaglebarwm.com/wp-content/uploads/2025/09/WEDS_NewWeekdays_EWM_design_1080x1080_square.jpg
END:VEVENT
BEGIN:VEVENT
DTSTART;TZID=America/New_York:20270826T210000
DTEND;TZID=America/New_York:20270827T020000
DTSTAMP:20260424T230334
CREATED:20260218T205302Z
LAST-MODIFIED:20260218T205303Z
UID:10016005-1819314000-1819332000@eaglebarwm.com
SUMMARY:HARNESS NIGHT
DESCRIPTION:Happy Hour 7 PM – 9 PM \nCODE Bar Opens 7 PM | Tavern Opens 9 PM \nHARNESS NIGHT\nin Main Bar + CODE Bar  | 9 PM – 2 AM \nMusic By: Trevor Oldroyd\nHAPPY HOUR ALL NIGHT\nFor Anyone Wearing\nA Harness or Fetish Gear*\nNo Cover \n*Happy Hour all Night rules are strictly enforced.\n*Not a requirement to enter.
URL:https://eaglebarwm.com/event/edm-night-12-8-3/2027-08-26/
LOCATION:Eagle Wilton Manors\, 2209 WILTON DR\, WILTON MANORS\, FL\, 33305\, United States
CATEGORIES:Weekday Repeating
ATTACH;FMTTYPE=image/jpeg:https://eaglebarwm.com/wp-content/uploads/2026/01/THURS_NewWeekdays_EWM_-TREVOR-1080x1080_square.jpg
END:VEVENT
BEGIN:VEVENT
DTSTART;TZID=America/New_York:20270828T213000
DTEND;TZID=America/New_York:20270829T023000
DTSTAMP:20260424T230334
CREATED:20260218T221213Z
LAST-MODIFIED:20260218T221213Z
UID:10017237-1819488600-1819506600@eaglebarwm.com
SUMMARY:DADDY POP
DESCRIPTION:DADDY POP\nin Bear Cave | 9 PM – 2 AM \nMusic By: Barry Browder\nRugged\, Sexy\, Husky & Hairy Daddies\nwith Pop Music Radio Edits\,\nGuilty Pleasures\,\nand Forgotten Favorites.\nNo Shazam Needed.\nYour Body Remembers the Beat.\nIncluded in Cover
URL:https://eaglebarwm.com/event/daddy-pop-5-3-2/2027-08-28/
LOCATION:Eagle Wilton Manors\, 2209 WILTON DR\, WILTON MANORS\, FL\, 33305\, United States
ATTACH;FMTTYPE=image/jpeg:https://eaglebarwm.com/wp-content/uploads/2025/12/DADDY-POP_Square_1080x1080.jpg
END:VEVENT
BEGIN:VEVENT
DTSTART;TZID=America/New_York:20270830T190000
DTEND;TZID=America/New_York:20270831T020000
DTSTAMP:20260424T230334
CREATED:20260311T194047Z
LAST-MODIFIED:20260311T194049Z
UID:10017700-1819652400-1819677600@eaglebarwm.com
SUMMARY:JOCK STRAP NIGHT
DESCRIPTION:Happy Hour 7 PM – 9 PM \nJOCK STRAP NIGHT\nin CODE Bar | 9 PM – 2 AM \n$2.50\nWell Tequila Drinks\n9 PM to 2 AM\nHAPPY HOUR ALL NIGHT\nFor Anyone Wearing\nJock Strap + No Pants*\nNo Cover \n*Happy Hour all Night rules are strictly enforced.\n*Not a requirement to enter.
URL:https://eaglebarwm.com/event/jock_strap_night-2-2-2-2-2-2-2-5-2/2027-08-30/
LOCATION:Eagle Wilton Manors\, 2209 WILTON DR\, WILTON MANORS\, FL\, 33305\, United States
CATEGORIES:Weekday Repeating
ATTACH;FMTTYPE=image/jpeg:https://eaglebarwm.com/wp-content/uploads/2026/01/Mon_NewWeekdays_EWM_design_1080x1080_square.jpg
END:VEVENT
BEGIN:VEVENT
DTSTART;TZID=America/New_York:20270901T190000
DTEND;TZID=America/New_York:20270902T020000
DTSTAMP:20260424T230334
CREATED:20260111T013641Z
LAST-MODIFIED:20260111T013843Z
UID:10016267-1819825200-1819850400@eaglebarwm.com
SUMMARY:UNDERWEAR & SINGLET NIGHT
DESCRIPTION:Happy Hour 7 PM – 9 PM \n UNDERWEAR & SINGLETS NIGHT\nin CODE Bar | 9 PM – 2 AM \n$2.50\nWell Vodka Drinks\n9 PM to 2 AM\nHAPPY HOUR ALL NIGHT\nFor Anyone Wearing\nSinglets or Underwear + No Pants*\nNo Cover \n*Happy Hour all Night rules are strictly enforced.\n*Not a requirement to enter.
URL:https://eaglebarwm.com/event/leather-harness-night-13-3-2-4/2027-09-01/
LOCATION:Eagle Wilton Manors\, 2209 WILTON DR\, WILTON MANORS\, FL\, 33305\, United States
CATEGORIES:Weekday Repeating
ATTACH;FMTTYPE=image/jpeg:https://eaglebarwm.com/wp-content/uploads/2025/09/WEDS_NewWeekdays_EWM_design_1080x1080_square.jpg
END:VEVENT
BEGIN:VEVENT
DTSTART;TZID=America/New_York:20270902T210000
DTEND;TZID=America/New_York:20270903T020000
DTSTAMP:20260424T230334
CREATED:20260218T205302Z
LAST-MODIFIED:20260218T205303Z
UID:10016006-1819918800-1819936800@eaglebarwm.com
SUMMARY:HARNESS NIGHT
DESCRIPTION:Happy Hour 7 PM – 9 PM \nCODE Bar Opens 7 PM | Tavern Opens 9 PM \nHARNESS NIGHT\nin Main Bar + CODE Bar  | 9 PM – 2 AM \nMusic By: Trevor Oldroyd\nHAPPY HOUR ALL NIGHT\nFor Anyone Wearing\nA Harness or Fetish Gear*\nNo Cover \n*Happy Hour all Night rules are strictly enforced.\n*Not a requirement to enter.
URL:https://eaglebarwm.com/event/edm-night-12-8-3/2027-09-02/
LOCATION:Eagle Wilton Manors\, 2209 WILTON DR\, WILTON MANORS\, FL\, 33305\, United States
CATEGORIES:Weekday Repeating
ATTACH;FMTTYPE=image/jpeg:https://eaglebarwm.com/wp-content/uploads/2026/01/THURS_NewWeekdays_EWM_-TREVOR-1080x1080_square.jpg
END:VEVENT
BEGIN:VEVENT
DTSTART;TZID=America/New_York:20270904T213000
DTEND;TZID=America/New_York:20270905T023000
DTSTAMP:20260424T230334
CREATED:20260218T221213Z
LAST-MODIFIED:20260218T221213Z
UID:10017239-1820093400-1820111400@eaglebarwm.com
SUMMARY:DADDY POP
DESCRIPTION:DADDY POP\nin Bear Cave | 9 PM – 2 AM \nMusic By: Barry Browder\nRugged\, Sexy\, Husky & Hairy Daddies\nwith Pop Music Radio Edits\,\nGuilty Pleasures\,\nand Forgotten Favorites.\nNo Shazam Needed.\nYour Body Remembers the Beat.\nIncluded in Cover
URL:https://eaglebarwm.com/event/daddy-pop-5-3-2/2027-09-04/
LOCATION:Eagle Wilton Manors\, 2209 WILTON DR\, WILTON MANORS\, FL\, 33305\, United States
ATTACH;FMTTYPE=image/jpeg:https://eaglebarwm.com/wp-content/uploads/2025/12/DADDY-POP_Square_1080x1080.jpg
END:VEVENT
BEGIN:VEVENT
DTSTART;TZID=America/New_York:20270906T190000
DTEND;TZID=America/New_York:20270907T020000
DTSTAMP:20260424T230334
CREATED:20260311T194047Z
LAST-MODIFIED:20260311T194049Z
UID:10017701-1820257200-1820282400@eaglebarwm.com
SUMMARY:JOCK STRAP NIGHT
DESCRIPTION:Happy Hour 7 PM – 9 PM \nJOCK STRAP NIGHT\nin CODE Bar | 9 PM – 2 AM \n$2.50\nWell Tequila Drinks\n9 PM to 2 AM\nHAPPY HOUR ALL NIGHT\nFor Anyone Wearing\nJock Strap + No Pants*\nNo Cover \n*Happy Hour all Night rules are strictly enforced.\n*Not a requirement to enter.
URL:https://eaglebarwm.com/event/jock_strap_night-2-2-2-2-2-2-2-5-2/2027-09-06/
LOCATION:Eagle Wilton Manors\, 2209 WILTON DR\, WILTON MANORS\, FL\, 33305\, United States
CATEGORIES:Weekday Repeating
ATTACH;FMTTYPE=image/jpeg:https://eaglebarwm.com/wp-content/uploads/2026/01/Mon_NewWeekdays_EWM_design_1080x1080_square.jpg
END:VEVENT
BEGIN:VEVENT
DTSTART;TZID=America/New_York:20270908T190000
DTEND;TZID=America/New_York:20270909T020000
DTSTAMP:20260424T230334
CREATED:20260111T013641Z
LAST-MODIFIED:20260111T013843Z
UID:10016268-1820430000-1820455200@eaglebarwm.com
SUMMARY:UNDERWEAR & SINGLET NIGHT
DESCRIPTION:Happy Hour 7 PM – 9 PM \n UNDERWEAR & SINGLETS NIGHT\nin CODE Bar | 9 PM – 2 AM \n$2.50\nWell Vodka Drinks\n9 PM to 2 AM\nHAPPY HOUR ALL NIGHT\nFor Anyone Wearing\nSinglets or Underwear + No Pants*\nNo Cover \n*Happy Hour all Night rules are strictly enforced.\n*Not a requirement to enter.
URL:https://eaglebarwm.com/event/leather-harness-night-13-3-2-4/2027-09-08/
LOCATION:Eagle Wilton Manors\, 2209 WILTON DR\, WILTON MANORS\, FL\, 33305\, United States
CATEGORIES:Weekday Repeating
ATTACH;FMTTYPE=image/jpeg:https://eaglebarwm.com/wp-content/uploads/2025/09/WEDS_NewWeekdays_EWM_design_1080x1080_square.jpg
END:VEVENT
BEGIN:VEVENT
DTSTART;TZID=America/New_York:20270909T210000
DTEND;TZID=America/New_York:20270910T020000
DTSTAMP:20260424T230334
CREATED:20260218T205302Z
LAST-MODIFIED:20260218T205303Z
UID:10016007-1820523600-1820541600@eaglebarwm.com
SUMMARY:HARNESS NIGHT
DESCRIPTION:Happy Hour 7 PM – 9 PM \nCODE Bar Opens 7 PM | Tavern Opens 9 PM \nHARNESS NIGHT\nin Main Bar + CODE Bar  | 9 PM – 2 AM \nMusic By: Trevor Oldroyd\nHAPPY HOUR ALL NIGHT\nFor Anyone Wearing\nA Harness or Fetish Gear*\nNo Cover \n*Happy Hour all Night rules are strictly enforced.\n*Not a requirement to enter.
URL:https://eaglebarwm.com/event/edm-night-12-8-3/2027-09-09/
LOCATION:Eagle Wilton Manors\, 2209 WILTON DR\, WILTON MANORS\, FL\, 33305\, United States
CATEGORIES:Weekday Repeating
ATTACH;FMTTYPE=image/jpeg:https://eaglebarwm.com/wp-content/uploads/2026/01/THURS_NewWeekdays_EWM_-TREVOR-1080x1080_square.jpg
END:VEVENT
BEGIN:VEVENT
DTSTART;TZID=America/New_York:20270911T213000
DTEND;TZID=America/New_York:20270912T023000
DTSTAMP:20260424T230334
CREATED:20260218T221213Z
LAST-MODIFIED:20260218T221213Z
UID:10017241-1820698200-1820716200@eaglebarwm.com
SUMMARY:DADDY POP
DESCRIPTION:DADDY POP\nin Bear Cave | 9 PM – 2 AM \nMusic By: Barry Browder\nRugged\, Sexy\, Husky & Hairy Daddies\nwith Pop Music Radio Edits\,\nGuilty Pleasures\,\nand Forgotten Favorites.\nNo Shazam Needed.\nYour Body Remembers the Beat.\nIncluded in Cover
URL:https://eaglebarwm.com/event/daddy-pop-5-3-2/2027-09-11/
LOCATION:Eagle Wilton Manors\, 2209 WILTON DR\, WILTON MANORS\, FL\, 33305\, United States
ATTACH;FMTTYPE=image/jpeg:https://eaglebarwm.com/wp-content/uploads/2025/12/DADDY-POP_Square_1080x1080.jpg
END:VEVENT
BEGIN:VEVENT
DTSTART;TZID=America/New_York:20270913T190000
DTEND;TZID=America/New_York:20270914T020000
DTSTAMP:20260424T230334
CREATED:20260311T194047Z
LAST-MODIFIED:20260311T194049Z
UID:10017702-1820862000-1820887200@eaglebarwm.com
SUMMARY:JOCK STRAP NIGHT
DESCRIPTION:Happy Hour 7 PM – 9 PM \nJOCK STRAP NIGHT\nin CODE Bar | 9 PM – 2 AM \n$2.50\nWell Tequila Drinks\n9 PM to 2 AM\nHAPPY HOUR ALL NIGHT\nFor Anyone Wearing\nJock Strap + No Pants*\nNo Cover \n*Happy Hour all Night rules are strictly enforced.\n*Not a requirement to enter.
URL:https://eaglebarwm.com/event/jock_strap_night-2-2-2-2-2-2-2-5-2/2027-09-13/
LOCATION:Eagle Wilton Manors\, 2209 WILTON DR\, WILTON MANORS\, FL\, 33305\, United States
CATEGORIES:Weekday Repeating
ATTACH;FMTTYPE=image/jpeg:https://eaglebarwm.com/wp-content/uploads/2026/01/Mon_NewWeekdays_EWM_design_1080x1080_square.jpg
END:VEVENT
BEGIN:VEVENT
DTSTART;TZID=America/New_York:20270915T190000
DTEND;TZID=America/New_York:20270916T020000
DTSTAMP:20260424T230334
CREATED:20260111T013641Z
LAST-MODIFIED:20260111T013843Z
UID:10016269-1821034800-1821060000@eaglebarwm.com
SUMMARY:UNDERWEAR & SINGLET NIGHT
DESCRIPTION:Happy Hour 7 PM – 9 PM \n UNDERWEAR & SINGLETS NIGHT\nin CODE Bar | 9 PM – 2 AM \n$2.50\nWell Vodka Drinks\n9 PM to 2 AM\nHAPPY HOUR ALL NIGHT\nFor Anyone Wearing\nSinglets or Underwear + No Pants*\nNo Cover \n*Happy Hour all Night rules are strictly enforced.\n*Not a requirement to enter.
URL:https://eaglebarwm.com/event/leather-harness-night-13-3-2-4/2027-09-15/
LOCATION:Eagle Wilton Manors\, 2209 WILTON DR\, WILTON MANORS\, FL\, 33305\, United States
CATEGORIES:Weekday Repeating
ATTACH;FMTTYPE=image/jpeg:https://eaglebarwm.com/wp-content/uploads/2025/09/WEDS_NewWeekdays_EWM_design_1080x1080_square.jpg
END:VEVENT
BEGIN:VEVENT
DTSTART;TZID=America/New_York:20270916T210000
DTEND;TZID=America/New_York:20270917T020000
DTSTAMP:20260424T230334
CREATED:20260218T205302Z
LAST-MODIFIED:20260218T205303Z
UID:10016008-1821128400-1821146400@eaglebarwm.com
SUMMARY:HARNESS NIGHT
DESCRIPTION:Happy Hour 7 PM – 9 PM \nCODE Bar Opens 7 PM | Tavern Opens 9 PM \nHARNESS NIGHT\nin Main Bar + CODE Bar  | 9 PM – 2 AM \nMusic By: Trevor Oldroyd\nHAPPY HOUR ALL NIGHT\nFor Anyone Wearing\nA Harness or Fetish Gear*\nNo Cover \n*Happy Hour all Night rules are strictly enforced.\n*Not a requirement to enter.
URL:https://eaglebarwm.com/event/edm-night-12-8-3/2027-09-16/
LOCATION:Eagle Wilton Manors\, 2209 WILTON DR\, WILTON MANORS\, FL\, 33305\, United States
CATEGORIES:Weekday Repeating
ATTACH;FMTTYPE=image/jpeg:https://eaglebarwm.com/wp-content/uploads/2026/01/THURS_NewWeekdays_EWM_-TREVOR-1080x1080_square.jpg
END:VEVENT
BEGIN:VEVENT
DTSTART;TZID=America/New_York:20270918T213000
DTEND;TZID=America/New_York:20270919T023000
DTSTAMP:20260424T230334
CREATED:20260218T221213Z
LAST-MODIFIED:20260218T221213Z
UID:10017243-1821303000-1821321000@eaglebarwm.com
SUMMARY:DADDY POP
DESCRIPTION:DADDY POP\nin Bear Cave | 9 PM – 2 AM \nMusic By: Barry Browder\nRugged\, Sexy\, Husky & Hairy Daddies\nwith Pop Music Radio Edits\,\nGuilty Pleasures\,\nand Forgotten Favorites.\nNo Shazam Needed.\nYour Body Remembers the Beat.\nIncluded in Cover
URL:https://eaglebarwm.com/event/daddy-pop-5-3-2/2027-09-18/
LOCATION:Eagle Wilton Manors\, 2209 WILTON DR\, WILTON MANORS\, FL\, 33305\, United States
ATTACH;FMTTYPE=image/jpeg:https://eaglebarwm.com/wp-content/uploads/2025/12/DADDY-POP_Square_1080x1080.jpg
END:VEVENT
END:VCALENDAR